BEGIN:VCALENDAR
PRODID:-//nuDatenautomaten//framework iCal4j //DE
VERSION:2.0
CALSCALE:GREGORIAN
BEGIN:VTIMEZONE
TZID:Europe/Berlin
LAST-MODIFIED:20260306T231828Z
TZURL:https://www.tzurl.org/zoneinfo/Europe/Berlin
X-LIC-LOCATION:Europe/Berlin
X-PROLEPTIC-TZNAME:LMT
BEGIN:STANDARD
TZNAME:CET
TZOFFSETFROM:+005328
TZOFFSETTO:+0100
DTSTART:18930401T000000
END:STANDARD
BEGIN:DAYLIGHT
TZNAME:CEST
TZOFFSETFROM:+0100
TZOFFSETTO:+0200
DTSTART:19160430T230000
RDATE:19400401T020000
RDATE:19430329T020000
RDATE:19460414T020000
RDATE:19470406T030000
RDATE:19480418T020000
RDATE:19490410T020000
RDATE:19800406T020000
END:DAYLIGHT
BEGIN:STANDARD
TZNAME:CET
TZOFFSETFROM:+0200
TZOFFSETTO:+0100
DTSTART:19161001T010000
RDATE:19421102T030000
RDATE:19431004T030000
RDATE:19441002T030000
RDATE:19451118T030000
RDATE:19461007T030000
END:STANDARD
BEGIN:DAYLIGHT
TZNAME:CEST
TZOFFSETFROM:+0100
TZOFFSETTO:+0200
DTSTART:19170416T020000
RRULE:FREQ=YEARLY;UNTIL=19180415T010000Z;BYMONTH=4;BYDAY=3MO
END:DAYLIGHT
BEGIN:STANDARD
TZNAME:CET
TZOFFSETFROM:+0200
TZOFFSETTO:+0100
DTSTART:19170917T030000
RRULE:FREQ=YEARLY;UNTIL=19180916T010000Z;BYMONTH=9;BYDAY=3MO
END:STANDARD
BEGIN:DAYLIGHT
TZNAME:CEST
TZOFFSETFROM:+0100
TZOFFSETTO:+0200
DTSTART:19440403T020000
RRULE:FREQ=YEARLY;UNTIL=19450402T010000Z;BYMONTH=4;BYDAY=1MO
END:DAYLIGHT
BEGIN:DAYLIGHT
TZNAME:CEMT
TZOFFSETFROM:+0200
TZOFFSETTO:+0300
DTSTART:19450524T020000
RDATE:19470511T030000
END:DAYLIGHT
BEGIN:DAYLIGHT
TZNAME:CEST
TZOFFSETFROM:+0300
TZOFFSETTO:+0200
DTSTART:19450924T030000
RDATE:19470629T030000
END:DAYLIGHT
BEGIN:STANDARD
TZNAME:CET
TZOFFSETFROM:+0100
TZOFFSETTO:+0100
DTSTART:19460101T000000
RDATE:19800101T000000
END:STANDARD
BEGIN:STANDARD
TZNAME:CET
TZOFFSETFROM:+0200
TZOFFSETTO:+0100
DTSTART:19471005T030000
RRULE:FREQ=YEARLY;UNTIL=19491002T010000Z;BYMONTH=10;BYDAY=1SU
END:STANDARD
BEGIN:STANDARD
TZNAME:CET
TZOFFSETFROM:+0200
TZOFFSETTO:+0100
DTSTART:19800928T030000
RRULE:FREQ=YEARLY;UNTIL=19950924T010000Z;BYMONTH=9;BYDAY=-1SU
END:STANDARD
BEGIN:DAYLIGHT
TZNAME:CEST
TZOFFSETFROM:+0100
TZOFFSETTO:+0200
DTSTART:19810329T020000
RRULE:FREQ=YEARLY;BYMONTH=3;BYDAY=-1SU
END:DAYLIGHT
BEGIN:STANDARD
TZNAME:CET
TZOFFSETFROM:+0200
TZOFFSETTO:+0100
DTSTART:19961027T030000
RRULE:FREQ=YEARLY;BYMONTH=10;BYDAY=-1SU
END:STANDARD
END:VTIMEZONE
BEGIN:VEVENT
DTSTAMP:20260424T115053Z
DTSTART;TZID=Europe/Berlin:20251017T194500
DTEND;TZID=Europe/Berlin:20251017T224500
SUMMARY:HE 4. Liga Gr. 6 Port VII vs Pieterlen II (9)
UID:f36fac62-bdcd-4bb3-8cf5-b02126a4623e
STATUS:CONFIRMED
LAST-MODIFIED:20251020T114327Z
DESCRIPTION:4. Liga Herren Gruppe 6\nBegegnungs-Nr: 9\nHeim: Port VII\nGast: Pieterlen II\n\nAdresse: Allmendstrasse 23\, 2562 Port\n
LOCATION:Allmendstrasse 23\, 2562 Port
CATEGORIES:Saison 2025/26
END:VEVENT
BEGIN:VEVENT
DTSTAMP:20260424T115053Z
DTSTART;TZID=Europe/Berlin:20250829T194500
DTEND;TZID=Europe/Berlin:20250829T224500
SUMMARY:HE 4. Liga Gr. 6 Port VII vs Erlach II (1)
UID:227c5002-e104-4ff5-9dbf-9057e850711c
STATUS:CONFIRMED
LAST-MODIFIED:20250907T195626Z
DESCRIPTION:4. Liga Herren Gruppe 6\nBegegnungs-Nr: 1\nHeim: Port VII\nGast: Erlach II\n\nAdresse: Allmendstrasse 23\, 2562 Port\n
LOCATION:Allmendstrasse 23\, 2562 Port
CATEGORIES:Saison 2025/26
END:VEVENT
BEGIN:VEVENT
DTSTAMP:20260424T115053Z
DTSTART;TZID=Europe/Berlin:20251212T194500
DTEND;TZID=Europe/Berlin:20251212T224500
SUMMARY:HE 4. Liga Gr. 6 Port VII vs Studen (25)
UID:3f2915da-db85-42a5-b4dc-a2ddb33e294a
STATUS:CONFIRMED
LAST-MODIFIED:20251216T120727Z
DESCRIPTION:4. Liga Herren Gruppe 6\nBegegnungs-Nr: 25\nHeim: Port VII\nGast: Studen\n\nAdresse: Allmendstrasse 23\, 2562 Port\n
LOCATION:Allmendstrasse 23\, 2562 Port
CATEGORIES:Saison 2025/26
END:VEVENT
BEGIN:VEVENT
DTSTAMP:20260424T115053Z
DTSTART;TZID=Europe/Berlin:20251114T194500
DTEND;TZID=Europe/Berlin:20251114T224500
SUMMARY:HE 4. Liga Gr. 6 Port VII vs Solothurn V (17)
UID:050fd875-9e67-4630-a1bc-2d3efc902759
STATUS:CONFIRMED
LAST-MODIFIED:20251115T174505Z
DESCRIPTION:4. Liga Herren Gruppe 6\nBegegnungs-Nr: 17\nHeim: Port VII\nGast: Solothurn V\n\nAdresse: Allmendstrasse 23\, 2562 Port\n
LOCATION:Allmendstrasse 23\, 2562 Port
CATEGORIES:Saison 2025/26
END:VEVENT
BEGIN:VEVENT
DTSTAMP:20260424T115053Z
DTSTART;TZID=Europe/Berlin:20260320T194500
DTEND;TZID=Europe/Berlin:20260320T224500
SUMMARY:HE 4. Liga Gr. 6 Port VII vs Aarberg V (21)
UID:e03d1b32-c377-46fd-9b09-ea91ab6ab3d5
STATUS:CONFIRMED
LAST-MODIFIED:20260327T143805Z
DESCRIPTION:4. Liga Herren Gruppe 6\nBegegnungs-Nr: 21\nHeim: Port VII\nGast: Aarberg V\n\nAdresse: Allmendstrasse 23\, 2562 Port\n
LOCATION:Allmendstrasse 23\, 2562 Port
CATEGORIES:Saison 2025/26
END:VEVENT
BEGIN:VEVENT
DTSTAMP:20260424T115053Z
DTSTART;TZID=Europe/Berlin:20260220T194500
DTEND;TZID=Europe/Berlin:20260220T224500
SUMMARY:HE 4. Liga Gr. 6 Port VII vs Brügg II (13)
UID:1f10866a-21b8-4400-9796-687d625631b5
STATUS:CONFIRMED
LAST-MODIFIED:20260224T075503Z
DESCRIPTION:4. Liga Herren Gruppe 6\nBegegnungs-Nr: 13\nHeim: Port VII\nGast: Brügg II\n\nAdresse: Allmendstrasse 23\, 2562 Port\n
LOCATION:Allmendstrasse 23\, 2562 Port
CATEGORIES:Saison 2025/26
END:VEVENT
BEGIN:VEVENT
DTSTAMP:20260424T115053Z
DTSTART;TZID=Europe/Berlin:20260206T194500
DTEND;TZID=Europe/Berlin:20260206T224500
SUMMARY:HE 4. Liga Gr. 6 Port VII vs Lyss III (5)
UID:7d3c59aa-4d07-48dd-821f-38e40a1d2dd9
STATUS:CONFIRMED
LAST-MODIFIED:20260217T213922Z
DESCRIPTION:4. Liga Herren Gruppe 6\nBegegnungs-Nr: 5\nHeim: Port VII\nGast: Lyss III\n\nAdresse: Allmendstrasse 23\, 2562 Port\n
LOCATION:Allmendstrasse 23\, 2562 Port
CATEGORIES:Saison 2025/26
END:VEVENT
BEGIN:VEVENT
DTSTAMP:20260424T115053Z
DTSTART;TZID=Europe/Berlin:20251030T200000
DTEND;TZID=Europe/Berlin:20251030T230000
SUMMARY:HE 4. Liga Gr. 6 Lyss III vs Port VII (5)
UID:de24b407-de0d-4703-be10-2d5d8d3d3f26
STATUS:CONFIRMED
LAST-MODIFIED:20251111T072908Z
DESCRIPTION:4. Liga Herren Gruppe 6\nBegegnungs-Nr: 5\nHeim: Lyss III\nGast: Port VII\n\nAdresse: Stegmattweg 15-17\, 3250 Lyss\n
LOCATION:Stegmattweg 15-17\, 3250 Lyss
CATEGORIES:Saison 2025/26
END:VEVENT
BEGIN:VEVENT
DTSTAMP:20260424T115053Z
DTSTART;TZID=Europe/Berlin:20251105T200000
DTEND;TZID=Europe/Berlin:20251105T230000
SUMMARY:HE 4. Liga Gr. 6 Brügg II vs Port VII (13)
UID:6a3ac917-d290-4aa9-9c4e-fde02b19c65f
STATUS:CONFIRMED
LAST-MODIFIED:20251115T173853Z
DESCRIPTION:4. Liga Herren Gruppe 6\nBegegnungs-Nr: 13\nHeim: Brügg II\nGast: Port VII\n\nAdresse: Bärletweg 7\, 2555 Brügg\n
LOCATION:Bärletweg 7\, 2555 Brügg
CATEGORIES:Saison 2025/26
END:VEVENT
BEGIN:VEVENT
DTSTAMP:20260424T115053Z
DTSTART;TZID=Europe/Berlin:20251128T194500
DTEND;TZID=Europe/Berlin:20251128T224500
SUMMARY:HE 4. Liga Gr. 6 Aarberg V vs Port VII (21)
UID:a277aadb-f755-4ab8-89bd-9fc84507dc7e
STATUS:CONFIRMED
LAST-MODIFIED:20251207T173325Z
DESCRIPTION:4. Liga Herren Gruppe 6\nBegegnungs-Nr: 21\nHeim: Aarberg V\nGast: Port VII\n\nAdresse: Nidaustrasse 7\, 3270 Aarberg\n
LOCATION:Nidaustrasse 7\, 3270 Aarberg
CATEGORIES:Saison 2025/26
END:VEVENT
BEGIN:VEVENT
DTSTAMP:20260424T115053Z
DTSTART;TZID=Europe/Berlin:20260324T200000
DTEND;TZID=Europe/Berlin:20260324T230000
SUMMARY:HE 4. Liga Gr. 6 Studen vs Port VII (25)
UID:fb099102-8ea4-4aaf-ae5a-408b35aebeef
STATUS:CONFIRMED
LAST-MODIFIED:20260409T122600Z
DESCRIPTION:4. Liga Herren Gruppe 6\nBegegnungs-Nr: 25\nHeim: Studen\nGast: Port VII\n\nAdresse: -\, 2557 Studen\n
LOCATION:-\, 2557 Studen
CATEGORIES:Saison 2025/26
END:VEVENT
BEGIN:VEVENT
DTSTAMP:20260424T115053Z
DTSTART;TZID=Europe/Berlin:20260306T200000
DTEND;TZID=Europe/Berlin:20260306T230000
SUMMARY:HE 4. Liga Gr. 6 Solothurn V vs Port VII (17)
UID:3c8ab996-410b-4ec2-8d4e-7fc8a27f5ec8
STATUS:CONFIRMED
LAST-MODIFIED:20260308T174939Z
DESCRIPTION:4. Liga Herren Gruppe 6\nBegegnungs-Nr: 17\nHeim: Solothurn V\nGast: Port VII\n\nAdresse: Untere Sternengasse 24\, 4500 Solothurn\n
LOCATION:Untere Sternengasse 24\, 4500 Solothurn
CATEGORIES:Saison 2025/26
END:VEVENT
BEGIN:VEVENT
DTSTAMP:20260424T115053Z
DTSTART;TZID=Europe/Berlin:20260124T131500
DTEND;TZID=Europe/Berlin:20260124T161500
SUMMARY:HE 4. Liga Gr. 6 Erlach II vs Port VII (1)
UID:c5edd0c5-5bbb-4c9a-b529-a85054f83fbd
STATUS:CONFIRMED
LAST-MODIFIED:20260217T213829Z
DESCRIPTION:4. Liga Herren Gruppe 6\nBegegnungs-Nr: 1\nHeim: Erlach II\nGast: Port VII\n\nAdresse: Vinelzstrasse 54 (24)\, 3235 Erlach\n
LOCATION:Vinelzstrasse 54 (24)\, 3235 Erlach
CATEGORIES:Saison 2025/26
END:VEVENT
BEGIN:VEVENT
DTSTAMP:20260424T115053Z
DTSTART;TZID=Europe/Berlin:20260212T200000
DTEND;TZID=Europe/Berlin:20260212T230000
SUMMARY:HE 4. Liga Gr. 6 Pieterlen II vs Port VII (9)
UID:ca989907-873b-44c9-89b3-7ef1e2cb8be7
STATUS:CONFIRMED
LAST-MODIFIED:20260217T213935Z
DESCRIPTION:4. Liga Herren Gruppe 6\nBegegnungs-Nr: 9\nHeim: Pieterlen II\nGast: Port VII\n\nAdresse: Bielstrasse 9\, 2542 Pieterlen\n
LOCATION:Bielstrasse 9\, 2542 Pieterlen
CATEGORIES:Saison 2025/26
END:VEVENT
END:VCALENDAR
