BEGIN:VCALENDAR
PRODID:-//nuDatenautomaten//framework iCal4j //DE
VERSION:2.0
CALSCALE:GREGORIAN
BEGIN:VTIMEZONE
TZID:Europe/Berlin
LAST-MODIFIED:20260306T231828Z
TZURL:https://www.tzurl.org/zoneinfo/Europe/Berlin
X-LIC-LOCATION:Europe/Berlin
X-PROLEPTIC-TZNAME:LMT
BEGIN:STANDARD
TZNAME:CET
TZOFFSETFROM:+005328
TZOFFSETTO:+0100
DTSTART:18930401T000000
END:STANDARD
BEGIN:DAYLIGHT
TZNAME:CEST
TZOFFSETFROM:+0100
TZOFFSETTO:+0200
DTSTART:19160430T230000
RDATE:19400401T020000
RDATE:19430329T020000
RDATE:19460414T020000
RDATE:19470406T030000
RDATE:19480418T020000
RDATE:19490410T020000
RDATE:19800406T020000
END:DAYLIGHT
BEGIN:STANDARD
TZNAME:CET
TZOFFSETFROM:+0200
TZOFFSETTO:+0100
DTSTART:19161001T010000
RDATE:19421102T030000
RDATE:19431004T030000
RDATE:19441002T030000
RDATE:19451118T030000
RDATE:19461007T030000
END:STANDARD
BEGIN:DAYLIGHT
TZNAME:CEST
TZOFFSETFROM:+0100
TZOFFSETTO:+0200
DTSTART:19170416T020000
RRULE:FREQ=YEARLY;UNTIL=19180415T010000Z;BYMONTH=4;BYDAY=3MO
END:DAYLIGHT
BEGIN:STANDARD
TZNAME:CET
TZOFFSETFROM:+0200
TZOFFSETTO:+0100
DTSTART:19170917T030000
RRULE:FREQ=YEARLY;UNTIL=19180916T010000Z;BYMONTH=9;BYDAY=3MO
END:STANDARD
BEGIN:DAYLIGHT
TZNAME:CEST
TZOFFSETFROM:+0100
TZOFFSETTO:+0200
DTSTART:19440403T020000
RRULE:FREQ=YEARLY;UNTIL=19450402T010000Z;BYMONTH=4;BYDAY=1MO
END:DAYLIGHT
BEGIN:DAYLIGHT
TZNAME:CEMT
TZOFFSETFROM:+0200
TZOFFSETTO:+0300
DTSTART:19450524T020000
RDATE:19470511T030000
END:DAYLIGHT
BEGIN:DAYLIGHT
TZNAME:CEST
TZOFFSETFROM:+0300
TZOFFSETTO:+0200
DTSTART:19450924T030000
RDATE:19470629T030000
END:DAYLIGHT
BEGIN:STANDARD
TZNAME:CET
TZOFFSETFROM:+0100
TZOFFSETTO:+0100
DTSTART:19460101T000000
RDATE:19800101T000000
END:STANDARD
BEGIN:STANDARD
TZNAME:CET
TZOFFSETFROM:+0200
TZOFFSETTO:+0100
DTSTART:19471005T030000
RRULE:FREQ=YEARLY;UNTIL=19491002T010000Z;BYMONTH=10;BYDAY=1SU
END:STANDARD
BEGIN:STANDARD
TZNAME:CET
TZOFFSETFROM:+0200
TZOFFSETTO:+0100
DTSTART:19800928T030000
RRULE:FREQ=YEARLY;UNTIL=19950924T010000Z;BYMONTH=9;BYDAY=-1SU
END:STANDARD
BEGIN:DAYLIGHT
TZNAME:CEST
TZOFFSETFROM:+0100
TZOFFSETTO:+0200
DTSTART:19810329T020000
RRULE:FREQ=YEARLY;BYMONTH=3;BYDAY=-1SU
END:DAYLIGHT
BEGIN:STANDARD
TZNAME:CET
TZOFFSETFROM:+0200
TZOFFSETTO:+0100
DTSTART:19961027T030000
RRULE:FREQ=YEARLY;BYMONTH=10;BYDAY=-1SU
END:STANDARD
END:VTIMEZONE
BEGIN:VEVENT
DTSTAMP:20260424T122853Z
DTSTART;TZID=Europe/Berlin:20260120T200000
DTEND;TZID=Europe/Berlin:20260120T230000
SUMMARY:HE 5. Liga Gr. 3 Neuhausen VI vs Winterthur V (0)
UID:4a93b7cb-728a-49cd-824c-0a17761ce793
STATUS:CONFIRMED
LAST-MODIFIED:20260123T082637Z
DESCRIPTION:5. Liga Herren Gruppe 3\nBegegnungs-Nr: 0\nHeim: Neuhausen VI\nGast: Winterthur V\n\nAdresse: Ebnatstrasse 35\, 8200 Schaffhausen\n
LOCATION:Ebnatstrasse 35\, 8200 Schaffhausen
CATEGORIES:Saison 2025/26
END:VEVENT
BEGIN:VEVENT
DTSTAMP:20260424T122853Z
DTSTART;TZID=Europe/Berlin:20260303T200000
DTEND;TZID=Europe/Berlin:20260303T230000
SUMMARY:HE 5. Liga Gr. 3 Neuhausen VI vs Diessenhofen (0)
UID:db3c44e5-faa7-4443-ac1b-00003568888d
STATUS:CONFIRMED
LAST-MODIFIED:20260317T135900Z
DESCRIPTION:5. Liga Herren Gruppe 3\nBegegnungs-Nr: 0\nHeim: Neuhausen VI\nGast: Diessenhofen\n\nAdresse: Ebnatstrasse 35\, 8200 Schaffhausen\n
LOCATION:Ebnatstrasse 35\, 8200 Schaffhausen
CATEGORIES:Saison 2025/26
END:VEVENT
BEGIN:VEVENT
DTSTAMP:20260424T122853Z
DTSTART;TZID=Europe/Berlin:20260310T200000
DTEND;TZID=Europe/Berlin:20260310T230000
SUMMARY:HE 5. Liga Gr. 3 Neuhausen VI vs Imperial Winterthur II (0)
UID:7918901e-9ed0-410d-9ee7-3e645210ce0e
STATUS:CONFIRMED
LAST-MODIFIED:20260317T140616Z
DESCRIPTION:5. Liga Herren Gruppe 3\nBegegnungs-Nr: 0\nHeim: Neuhausen VI\nGast: Imperial Winterthur II\n\nAdresse: Ebnatstrasse 35\, 8200 Schaffhausen\n
LOCATION:Ebnatstrasse 35\, 8200 Schaffhausen
CATEGORIES:Saison 2025/26
END:VEVENT
BEGIN:VEVENT
DTSTAMP:20260424T122853Z
DTSTART;TZID=Europe/Berlin:20250826T200000
DTEND;TZID=Europe/Berlin:20250826T230000
SUMMARY:HE 5. Liga Gr. 3 Neuhausen VI vs Weinfelden IV (0)
UID:1ae8fba2-271f-46ee-8992-0b8cd47bbbc5
STATUS:CONFIRMED
LAST-MODIFIED:20250829T143826Z
DESCRIPTION:5. Liga Herren Gruppe 3\nBegegnungs-Nr: 0\nHeim: Neuhausen VI\nGast: Weinfelden IV\n\nAdresse: Ebnatstrasse 35\, 8200 Schaffhausen\n
LOCATION:Ebnatstrasse 35\, 8200 Schaffhausen
CATEGORIES:Saison 2025/26
END:VEVENT
BEGIN:VEVENT
DTSTAMP:20260424T122853Z
DTSTART;TZID=Europe/Berlin:20250930T200000
DTEND;TZID=Europe/Berlin:20250930T230000
SUMMARY:HE 5. Liga Gr. 3 Neuhausen VI vs Steckborn-Homburg V (0)
UID:3f3e7e8f-326a-40c4-a271-1388b7486e4d
STATUS:CONFIRMED
LAST-MODIFIED:20251001T120524Z
DESCRIPTION:5. Liga Herren Gruppe 3\nBegegnungs-Nr: 0\nHeim: Neuhausen VI\nGast: Steckborn-Homburg V\n\nAdresse: Ebnatstrasse 35\, 8200 Schaffhausen\n
LOCATION:Ebnatstrasse 35\, 8200 Schaffhausen
CATEGORIES:Saison 2025/26
END:VEVENT
BEGIN:VEVENT
DTSTAMP:20260424T122853Z
DTSTART;TZID=Europe/Berlin:20251104T200000
DTEND;TZID=Europe/Berlin:20251104T230000
SUMMARY:HE 5. Liga Gr. 3 Neuhausen VI vs Schaffhausen (0)
UID:5cc5d34f-866c-453f-8fbc-e543aac174d1
STATUS:CONFIRMED
LAST-MODIFIED:20251107T153252Z
DESCRIPTION:5. Liga Herren Gruppe 3\nBegegnungs-Nr: 0\nHeim: Neuhausen VI\nGast: Schaffhausen\n\nAdresse: Ebnatstrasse 35\, 8200 Schaffhausen\n
LOCATION:Ebnatstrasse 35\, 8200 Schaffhausen
CATEGORIES:Saison 2025/26
END:VEVENT
BEGIN:VEVENT
DTSTAMP:20260424T122853Z
DTSTART;TZID=Europe/Berlin:20251202T200000
DTEND;TZID=Europe/Berlin:20251202T230000
SUMMARY:HE 5. Liga Gr. 3 Neuhausen VI vs Kreuzlingen (0)
UID:e3af9a3f-2512-4e27-80ee-997cd7faa3ae
STATUS:CONFIRMED
LAST-MODIFIED:20251205T130738Z
DESCRIPTION:5. Liga Herren Gruppe 3\nBegegnungs-Nr: 0\nHeim: Neuhausen VI\nGast: Kreuzlingen\n\nAdresse: Ebnatstrasse 35\, 8200 Schaffhausen\n
LOCATION:Ebnatstrasse 35\, 8200 Schaffhausen
CATEGORIES:Saison 2025/26
END:VEVENT
BEGIN:VEVENT
DTSTAMP:20260424T122853Z
DTSTART;TZID=Europe/Berlin:20260109T200000
DTEND;TZID=Europe/Berlin:20260109T230000
SUMMARY:HE 5. Liga Gr. 3 Weinfelden IV vs Neuhausen VI (0)
UID:c63af831-a204-4a8e-9a57-21cade8b3f40
STATUS:CONFIRMED
LAST-MODIFIED:20260112T095504Z
DESCRIPTION:5. Liga Herren Gruppe 3\nBegegnungs-Nr: 0\nHeim: Weinfelden IV\nGast: Neuhausen VI\n\nAdresse: Bleichestrasse 3 (neben Hallenbad)\, 8570 Weinfelden\n
LOCATION:Bleichestrasse 3 (neben Hallenbad)\, 8570 Weinfelden
CATEGORIES:Saison 2025/26
END:VEVENT
BEGIN:VEVENT
DTSTAMP:20260424T122853Z
DTSTART;TZID=Europe/Berlin:20260129T201500
DTEND;TZID=Europe/Berlin:20260129T231500
SUMMARY:HE 5. Liga Gr. 3 Steckborn-Homburg V vs Neuhausen VI (0)
UID:4c2345c7-5093-4f75-8df0-482bc6684d42
STATUS:CONFIRMED
LAST-MODIFIED:20260130T095336Z
DESCRIPTION:5. Liga Herren Gruppe 3\nBegegnungs-Nr: 0\nHeim: Steckborn-Homburg V\nGast: Neuhausen VI\n\nAdresse: Feldbach\, 8266 Steckborn\n
LOCATION:Feldbach\, 8266 Steckborn
CATEGORIES:Saison 2025/26
END:VEVENT
BEGIN:VEVENT
DTSTAMP:20260424T122853Z
DTSTART;TZID=Europe/Berlin:20260323T193000
DTEND;TZID=Europe/Berlin:20260323T223000
SUMMARY:HE 5. Liga Gr. 3 Schaffhausen vs Neuhausen VI (0)
UID:5db7312b-d909-4d83-96b0-77e31600dc67
STATUS:CONFIRMED
LAST-MODIFIED:20260326T152933Z
DESCRIPTION:5. Liga Herren Gruppe 3\nBegegnungs-Nr: 0\nHeim: Schaffhausen\nGast: Neuhausen VI\n\nAdresse: Grünaustieg 30\, 8200 Schaffhausen\n
LOCATION:Grünaustieg 30\, 8200 Schaffhausen
CATEGORIES:Saison 2025/26
END:VEVENT
BEGIN:VEVENT
DTSTAMP:20260424T122853Z
DTSTART;TZID=Europe/Berlin:20260415T200000
DTEND;TZID=Europe/Berlin:20260415T230000
SUMMARY:HE 5. Liga Gr. 3 Kreuzlingen vs Neuhausen VI (0)
UID:5b098ab4-9e10-4d6d-808e-c09791969d15
STATUS:CONFIRMED
LAST-MODIFIED:20260420T123333Z
DESCRIPTION:5. Liga Herren Gruppe 3\nBegegnungs-Nr: 0\nHeim: Kreuzlingen\nGast: Neuhausen VI\n\nAdresse: Rothausstrasse 14\, 8280 Kreuzlingen\n
LOCATION:Rothausstrasse 14\, 8280 Kreuzlingen
CATEGORIES:Saison 2025/26
END:VEVENT
BEGIN:VEVENT
DTSTAMP:20260424T122853Z
DTSTART;TZID=Europe/Berlin:20251114T200000
DTEND;TZID=Europe/Berlin:20251114T230000
SUMMARY:HE 5. Liga Gr. 3 Winterthur V vs Neuhausen VI (0)
UID:40504c42-24a1-457e-972f-71b1194fa0b7
STATUS:CONFIRMED
LAST-MODIFIED:20251118T105550Z
DESCRIPTION:5. Liga Herren Gruppe 3\nBegegnungs-Nr: 0\nHeim: Winterthur V\nGast: Neuhausen VI\n\nAdresse: Buchackerstrasse 54\, 8400 Winterthur\n
LOCATION:Buchackerstrasse 54\, 8400 Winterthur
CATEGORIES:Saison 2025/26
END:VEVENT
BEGIN:VEVENT
DTSTAMP:20260424T122853Z
DTSTART;TZID=Europe/Berlin:20250923T200000
DTEND;TZID=Europe/Berlin:20250923T230000
SUMMARY:HE 5. Liga Gr. 3 Diessenhofen vs Neuhausen VI (0)
UID:178a7e03-e161-4abd-be7c-da20bf8c57f3
STATUS:CONFIRMED
LAST-MODIFIED:20250926T132143Z
DESCRIPTION:5. Liga Herren Gruppe 3\nBegegnungs-Nr: 0\nHeim: Diessenhofen\nGast: Neuhausen VI\n\nAdresse: alte Basadingerstrasse 10\, 8253 Diessenhofen\n
LOCATION:alte Basadingerstrasse 10\, 8253 Diessenhofen
CATEGORIES:Saison 2025/26
END:VEVENT
BEGIN:VEVENT
DTSTAMP:20260424T122853Z
DTSTART;TZID=Europe/Berlin:20251030T200000
DTEND;TZID=Europe/Berlin:20251030T230000
SUMMARY:HE 5. Liga Gr. 3 Imperial Winterthur II vs Neuhausen VI (0)
UID:947f2f38-a1ad-47b0-a148-f62380a61df0
STATUS:CONFIRMED
LAST-MODIFIED:20251107T145031Z
DESCRIPTION:5. Liga Herren Gruppe 3\nBegegnungs-Nr: 0\nHeim: Imperial Winterthur II\nGast: Neuhausen VI\n\nAdresse: Büelhofstrasse 25a\, 8405 Winterthur\n
LOCATION:Büelhofstrasse 25a\, 8405 Winterthur
CATEGORIES:Saison 2025/26
END:VEVENT
END:VCALENDAR
