BEGIN:VCALENDAR
PRODID:-//nuDatenautomaten//framework iCal4j //DE
VERSION:2.0
CALSCALE:GREGORIAN
BEGIN:VTIMEZONE
TZID:Europe/Berlin
LAST-MODIFIED:20260306T231828Z
TZURL:https://www.tzurl.org/zoneinfo/Europe/Berlin
X-LIC-LOCATION:Europe/Berlin
X-PROLEPTIC-TZNAME:LMT
BEGIN:STANDARD
TZNAME:CET
TZOFFSETFROM:+005328
TZOFFSETTO:+0100
DTSTART:18930401T000000
END:STANDARD
BEGIN:DAYLIGHT
TZNAME:CEST
TZOFFSETFROM:+0100
TZOFFSETTO:+0200
DTSTART:19160430T230000
RDATE:19400401T020000
RDATE:19430329T020000
RDATE:19460414T020000
RDATE:19470406T030000
RDATE:19480418T020000
RDATE:19490410T020000
RDATE:19800406T020000
END:DAYLIGHT
BEGIN:STANDARD
TZNAME:CET
TZOFFSETFROM:+0200
TZOFFSETTO:+0100
DTSTART:19161001T010000
RDATE:19421102T030000
RDATE:19431004T030000
RDATE:19441002T030000
RDATE:19451118T030000
RDATE:19461007T030000
END:STANDARD
BEGIN:DAYLIGHT
TZNAME:CEST
TZOFFSETFROM:+0100
TZOFFSETTO:+0200
DTSTART:19170416T020000
RRULE:FREQ=YEARLY;UNTIL=19180415T010000Z;BYMONTH=4;BYDAY=3MO
END:DAYLIGHT
BEGIN:STANDARD
TZNAME:CET
TZOFFSETFROM:+0200
TZOFFSETTO:+0100
DTSTART:19170917T030000
RRULE:FREQ=YEARLY;UNTIL=19180916T010000Z;BYMONTH=9;BYDAY=3MO
END:STANDARD
BEGIN:DAYLIGHT
TZNAME:CEST
TZOFFSETFROM:+0100
TZOFFSETTO:+0200
DTSTART:19440403T020000
RRULE:FREQ=YEARLY;UNTIL=19450402T010000Z;BYMONTH=4;BYDAY=1MO
END:DAYLIGHT
BEGIN:DAYLIGHT
TZNAME:CEMT
TZOFFSETFROM:+0200
TZOFFSETTO:+0300
DTSTART:19450524T020000
RDATE:19470511T030000
END:DAYLIGHT
BEGIN:DAYLIGHT
TZNAME:CEST
TZOFFSETFROM:+0300
TZOFFSETTO:+0200
DTSTART:19450924T030000
RDATE:19470629T030000
END:DAYLIGHT
BEGIN:STANDARD
TZNAME:CET
TZOFFSETFROM:+0100
TZOFFSETTO:+0100
DTSTART:19460101T000000
RDATE:19800101T000000
END:STANDARD
BEGIN:STANDARD
TZNAME:CET
TZOFFSETFROM:+0200
TZOFFSETTO:+0100
DTSTART:19471005T030000
RRULE:FREQ=YEARLY;UNTIL=19491002T010000Z;BYMONTH=10;BYDAY=1SU
END:STANDARD
BEGIN:STANDARD
TZNAME:CET
TZOFFSETFROM:+0200
TZOFFSETTO:+0100
DTSTART:19800928T030000
RRULE:FREQ=YEARLY;UNTIL=19950924T010000Z;BYMONTH=9;BYDAY=-1SU
END:STANDARD
BEGIN:DAYLIGHT
TZNAME:CEST
TZOFFSETFROM:+0100
TZOFFSETTO:+0200
DTSTART:19810329T020000
RRULE:FREQ=YEARLY;BYMONTH=3;BYDAY=-1SU
END:DAYLIGHT
BEGIN:STANDARD
TZNAME:CET
TZOFFSETFROM:+0200
TZOFFSETTO:+0100
DTSTART:19961027T030000
RRULE:FREQ=YEARLY;BYMONTH=10;BYDAY=-1SU
END:STANDARD
END:VTIMEZONE
BEGIN:VEVENT
DTSTAMP:20260424T115241Z
DTSTART;TZID=Europe/Berlin:20251126T194500
DTEND;TZID=Europe/Berlin:20251126T224500
SUMMARY:Ligue 3 Gr.1 Ph.A Silver Star V vs Carouge V (26)
UID:0945a207-adba-4f1d-94b9-322332bfd73e
STATUS:CONFIRMED
LAST-MODIFIED:20251127T112948Z
DESCRIPTION:3ème ligue Homme Gr.1 Phase A\nBegegnungs-Nr: 26\nHeim: Silver Star V\nGast: Carouge V\n
LOCATION:
CATEGORIES:Saison 2025/26
END:VEVENT
BEGIN:VEVENT
DTSTAMP:20260424T115241Z
DTSTART;TZID=Europe/Berlin:20251112T194500
DTEND;TZID=Europe/Berlin:20251112T224500
SUMMARY:Ligue 3 Gr.1 Ph.A Silver Star V vs ZZ-Lancy VII (20)
UID:b05ba362-b620-4e72-930d-5cfb99be6650
STATUS:CONFIRMED
LAST-MODIFIED:20251113T134106Z
DESCRIPTION:3ème ligue Homme Gr.1 Phase A\nBegegnungs-Nr: 20\nHeim: Silver Star V\nGast: ZZ-Lancy VII\n
LOCATION:
CATEGORIES:Saison 2025/26
END:VEVENT
BEGIN:VEVENT
DTSTAMP:20260424T115241Z
DTSTART;TZID=Europe/Berlin:20250903T194500
DTEND;TZID=Europe/Berlin:20250903T224500
SUMMARY:Ligue 3 Gr.1 Ph.A Silver Star V vs Vernier II (1)
UID:70c1a09e-2646-48f1-aaeb-a863f5edd21e
STATUS:CONFIRMED
LAST-MODIFIED:20250904T113620Z
DESCRIPTION:3ème ligue Homme Gr.1 Phase A\nBegegnungs-Nr: 1\nHeim: Silver Star V\nGast: Vernier II\n
LOCATION:
CATEGORIES:Saison 2025/26
END:VEVENT
BEGIN:VEVENT
DTSTAMP:20260424T115241Z
DTSTART;TZID=Europe/Berlin:20251015T194500
DTEND;TZID=Europe/Berlin:20251015T224500
SUMMARY:Ligue 3 Gr.1 Ph.A Silver Star V vs Onex II (14)
UID:7074c914-2f05-41ef-a8f3-32579b01809e
STATUS:CONFIRMED
LAST-MODIFIED:20251016T091633Z
DESCRIPTION:3ème ligue Homme Gr.1 Phase A\nBegegnungs-Nr: 14\nHeim: Silver Star V\nGast: Onex II\n
LOCATION:
CATEGORIES:Saison 2025/26
END:VEVENT
BEGIN:VEVENT
DTSTAMP:20260424T115241Z
DTSTART;TZID=Europe/Berlin:20250924T194500
DTEND;TZID=Europe/Berlin:20250924T224500
SUMMARY:Ligue 3 Gr.1 Ph.A Silver Star V vs Rapid-Genève II (9)
UID:87689df5-1779-4c2a-bc3f-e933b88e389e
STATUS:CONFIRMED
LAST-MODIFIED:20250926T074120Z
DESCRIPTION:3ème ligue Homme Gr.1 Phase A\nBegegnungs-Nr: 9\nHeim: Silver Star V\nGast: Rapid-Genève II\n
LOCATION:
CATEGORIES:Saison 2025/26
END:VEVENT
BEGIN:VEVENT
DTSTAMP:20260424T115241Z
DTSTART;TZID=Europe/Berlin:20260331T194500
DTEND;TZID=Europe/Berlin:20260331T224500
SUMMARY:Ligue 2 Gr.2\, Ph.B Silver Star V vs Mandement III (27)
UID:06c11dca-1815-4bba-8c8a-cc9b33654e39
STATUS:CONFIRMED
LAST-MODIFIED:20260401T175656Z
DESCRIPTION:2ème ligue Homme Gr.2 Phase B\nBegegnungs-Nr: 27\nHeim: Silver Star V\nGast: Mandement III\n
LOCATION:
CATEGORIES:Saison 2025/26
END:VEVENT
BEGIN:VEVENT
DTSTAMP:20260424T115241Z
DTSTART;TZID=Europe/Berlin:20260310T194500
DTEND;TZID=Europe/Berlin:20260310T224500
SUMMARY:Ligue 2 Gr.2\, Ph.B Silver Star V vs UGS-Chênois V (18)
UID:aaeef284-91e2-4551-9907-e2b6197b0946
STATUS:CONFIRMED
LAST-MODIFIED:20260311T135759Z
DESCRIPTION:2ème ligue Homme Gr.2 Phase B\nBegegnungs-Nr: 18\nHeim: Silver Star V\nGast: UGS-Chênois V\n
LOCATION:
CATEGORIES:Saison 2025/26
END:VEVENT
BEGIN:VEVENT
DTSTAMP:20260424T115241Z
DTSTART;TZID=Europe/Berlin:20260428T194500
DTEND;TZID=Europe/Berlin:20260428T224500
SUMMARY:Ligue 2 Gr.2\, Ph.B Silver Star V vs Carouge IV (30)
UID:b5680317-8e16-4c80-a4df-c2a3b64dbf90
STATUS:CONFIRMED
DESCRIPTION:2ème ligue Homme Gr.2 Phase B\nBegegnungs-Nr: 30\nHeim: Silver Star V\nGast: Carouge IV\n
LOCATION:
CATEGORIES:Saison 2025/26
END:VEVENT
BEGIN:VEVENT
DTSTAMP:20260424T115241Z
DTSTART;TZID=Europe/Berlin:20260127T194500
DTEND;TZID=Europe/Berlin:20260127T224500
SUMMARY:Ligue 2 Gr.2\, Ph.B Silver Star V vs Châtelaine III (9)
UID:4f0c4d44-0625-4b67-9280-af270dbdf0d4
STATUS:CONFIRMED
LAST-MODIFIED:20260128T133618Z
DESCRIPTION:2ème ligue Homme Gr.2 Phase B\nBegegnungs-Nr: 9\nHeim: Silver Star V\nGast: Châtelaine III\n
LOCATION:
CATEGORIES:Saison 2025/26
END:VEVENT
BEGIN:VEVENT
DTSTAMP:20260424T115241Z
DTSTART;TZID=Europe/Berlin:20260120T194500
DTEND;TZID=Europe/Berlin:20260120T224500
SUMMARY:Ligue 2 Gr.2\, Ph.B Silver Star V vs ZZ-Lancy VI (6)
UID:c93ab5d5-1b50-483e-8eb2-5a8e69c4b132
STATUS:CONFIRMED
LAST-MODIFIED:20260121T170020Z
DESCRIPTION:2ème ligue Homme Gr.2 Phase B\nBegegnungs-Nr: 6\nHeim: Silver Star V\nGast: ZZ-Lancy VI\n
LOCATION:
CATEGORIES:Saison 2025/26
END:VEVENT
BEGIN:VEVENT
DTSTAMP:20260424T115241Z
DTSTART;TZID=Europe/Berlin:20251203T194500
DTEND;TZID=Europe/Berlin:20251203T224500
SUMMARY:Ligue 3 Gr.1 Ph.A Onex II vs Silver Star V (29)
UID:5fb8a959-393a-4516-8e74-d210be362856
STATUS:CONFIRMED
LAST-MODIFIED:20251204T083124Z
DESCRIPTION:3ème ligue Homme Gr.1 Phase A\nBegegnungs-Nr: 29\nHeim: Onex II\nGast: Silver Star V\n
LOCATION:
CATEGORIES:Saison 2025/26
END:VEVENT
BEGIN:VEVENT
DTSTAMP:20260424T115241Z
DTSTART;TZID=Europe/Berlin:20251119T194500
DTEND;TZID=Europe/Berlin:20251119T224500
SUMMARY:Ligue 3 Gr.1 Ph.A Rapid-Genève II vs Silver Star V (24)
UID:5d6cb256-2db0-403c-b565-48aae3927347
STATUS:CONFIRMED
LAST-MODIFIED:20251120T123218Z
DESCRIPTION:3ème ligue Homme Gr.1 Phase A\nBegegnungs-Nr: 24\nHeim: Rapid-Genève II\nGast: Silver Star V\n
LOCATION:
CATEGORIES:Saison 2025/26
END:VEVENT
BEGIN:VEVENT
DTSTAMP:20260424T115241Z
DTSTART;TZID=Europe/Berlin:20251029T194500
DTEND;TZID=Europe/Berlin:20251029T224500
SUMMARY:Ligue 3 Gr.1 Ph.A Vernier II vs Silver Star V (16)
UID:c81b9dcf-7888-4ad3-be32-0053a705ad05
STATUS:CONFIRMED
LAST-MODIFIED:20251031T113351Z
DESCRIPTION:3ème ligue Homme Gr.1 Phase A\nBegegnungs-Nr: 16\nHeim: Vernier II\nGast: Silver Star V\n
LOCATION:
CATEGORIES:Saison 2025/26
END:VEVENT
BEGIN:VEVENT
DTSTAMP:20260424T115241Z
DTSTART;TZID=Europe/Berlin:20251008T200000
DTEND;TZID=Europe/Berlin:20251008T230000
SUMMARY:Ligue 3 Gr.1 Ph.A Carouge V vs Silver Star V (11)
UID:7a392711-edcd-45d0-805c-9ecf4002eb79
STATUS:CONFIRMED
LAST-MODIFIED:20251009T151716Z
DESCRIPTION:3ème ligue Homme Gr.1 Phase A\nBegegnungs-Nr: 11\nHeim: Carouge V\nGast: Silver Star V\n
LOCATION:
CATEGORIES:Saison 2025/26
END:VEVENT
BEGIN:VEVENT
DTSTAMP:20260424T115241Z
DTSTART;TZID=Europe/Berlin:20250917T200000
DTEND;TZID=Europe/Berlin:20250917T230000
SUMMARY:Ligue 3 Gr.1 Ph.A ZZ-Lancy VII vs Silver Star V (5)
UID:f08e5d5f-6474-4938-99af-3171c8a9551f
STATUS:CONFIRMED
LAST-MODIFIED:20250918T143439Z
DESCRIPTION:3ème ligue Homme Gr.1 Phase A\nBegegnungs-Nr: 5\nHeim: ZZ-Lancy VII\nGast: Silver Star V\n
LOCATION:
CATEGORIES:Saison 2025/26
END:VEVENT
BEGIN:VEVENT
DTSTAMP:20260424T115241Z
DTSTART;TZID=Europe/Berlin:20260324T200000
DTEND;TZID=Europe/Berlin:20260324T230000
SUMMARY:Ligue 2 Gr.2\, Ph.B Châtelaine III vs Silver Star V (24)
UID:46f0e9bf-3cda-4c35-a68c-c7f933933fa6
STATUS:CONFIRMED
LAST-MODIFIED:20260325T074500Z
DESCRIPTION:2ème ligue Homme Gr.2 Phase B\nBegegnungs-Nr: 24\nHeim: Châtelaine III\nGast: Silver Star V\n
LOCATION:
CATEGORIES:Saison 2025/26
END:VEVENT
BEGIN:VEVENT
DTSTAMP:20260424T115241Z
DTSTART;TZID=Europe/Berlin:20260317T200000
DTEND;TZID=Europe/Berlin:20260317T230000
SUMMARY:Ligue 2 Gr.2\, Ph.B ZZ-Lancy VI vs Silver Star V (21)
UID:1b2cf9a9-ec4d-460e-a7ab-b3f20cca374a
STATUS:CONFIRMED
LAST-MODIFIED:20260318T071635Z
DESCRIPTION:2ème ligue Homme Gr.2 Phase B\nBegegnungs-Nr: 21\nHeim: ZZ-Lancy VI\nGast: Silver Star V\n
LOCATION:
CATEGORIES:Saison 2025/26
END:VEVENT
BEGIN:VEVENT
DTSTAMP:20260424T115241Z
DTSTART;TZID=Europe/Berlin:20260217T194500
DTEND;TZID=Europe/Berlin:20260217T224500
SUMMARY:Ligue 2 Gr.2\, Ph.B Carouge IV vs Silver Star V (15)
UID:965764e4-260f-4a41-a40e-1ead94034b66
STATUS:CONFIRMED
LAST-MODIFIED:20260218T133812Z
DESCRIPTION:2ème ligue Homme Gr.2 Phase B\nBegegnungs-Nr: 15\nHeim: Carouge IV\nGast: Silver Star V\n
LOCATION:
CATEGORIES:Saison 2025/26
END:VEVENT
BEGIN:VEVENT
DTSTAMP:20260424T115241Z
DTSTART;TZID=Europe/Berlin:20260206T200000
DTEND;TZID=Europe/Berlin:20260206T230000
SUMMARY:Ligue 2 Gr.2\, Ph.B Mandement III vs Silver Star V (12)
UID:15e9fcb0-25e1-4341-816f-9b99c58c85b2
STATUS:CONFIRMED
LAST-MODIFIED:20260207T124839Z
DESCRIPTION:2ème ligue Homme Gr.2 Phase B\nBegegnungs-Nr: 12\nHeim: Mandement III\nGast: Silver Star V\n
LOCATION:
CATEGORIES:Saison 2025/26
END:VEVENT
BEGIN:VEVENT
DTSTAMP:20260424T115241Z
DTSTART;TZID=Europe/Berlin:20260112T194500
DTEND;TZID=Europe/Berlin:20260112T224500
SUMMARY:Ligue 2 Gr.2\, Ph.B UGS-Chênois V vs Silver Star V (3)
UID:bddc8b4f-1b1e-4dc3-a0ac-917f0ecea5c4
STATUS:CONFIRMED
LAST-MODIFIED:20260113T180023Z
DESCRIPTION:2ème ligue Homme Gr.2 Phase B\nBegegnungs-Nr: 3\nHeim: UGS-Chênois V\nGast: Silver Star V\n
LOCATION:
CATEGORIES:Saison 2025/26
END:VEVENT
END:VCALENDAR
