BEGIN:VCALENDAR
PRODID:-//nuDatenautomaten//framework iCal4j //DE
VERSION:2.0
CALSCALE:GREGORIAN
BEGIN:VTIMEZONE
TZID:Europe/Berlin
LAST-MODIFIED:20260306T231828Z
TZURL:https://www.tzurl.org/zoneinfo/Europe/Berlin
X-LIC-LOCATION:Europe/Berlin
X-PROLEPTIC-TZNAME:LMT
BEGIN:STANDARD
TZNAME:CET
TZOFFSETFROM:+005328
TZOFFSETTO:+0100
DTSTART:18930401T000000
END:STANDARD
BEGIN:DAYLIGHT
TZNAME:CEST
TZOFFSETFROM:+0100
TZOFFSETTO:+0200
DTSTART:19160430T230000
RDATE:19400401T020000
RDATE:19430329T020000
RDATE:19460414T020000
RDATE:19470406T030000
RDATE:19480418T020000
RDATE:19490410T020000
RDATE:19800406T020000
END:DAYLIGHT
BEGIN:STANDARD
TZNAME:CET
TZOFFSETFROM:+0200
TZOFFSETTO:+0100
DTSTART:19161001T010000
RDATE:19421102T030000
RDATE:19431004T030000
RDATE:19441002T030000
RDATE:19451118T030000
RDATE:19461007T030000
END:STANDARD
BEGIN:DAYLIGHT
TZNAME:CEST
TZOFFSETFROM:+0100
TZOFFSETTO:+0200
DTSTART:19170416T020000
RRULE:FREQ=YEARLY;UNTIL=19180415T010000Z;BYMONTH=4;BYDAY=3MO
END:DAYLIGHT
BEGIN:STANDARD
TZNAME:CET
TZOFFSETFROM:+0200
TZOFFSETTO:+0100
DTSTART:19170917T030000
RRULE:FREQ=YEARLY;UNTIL=19180916T010000Z;BYMONTH=9;BYDAY=3MO
END:STANDARD
BEGIN:DAYLIGHT
TZNAME:CEST
TZOFFSETFROM:+0100
TZOFFSETTO:+0200
DTSTART:19440403T020000
RRULE:FREQ=YEARLY;UNTIL=19450402T010000Z;BYMONTH=4;BYDAY=1MO
END:DAYLIGHT
BEGIN:DAYLIGHT
TZNAME:CEMT
TZOFFSETFROM:+0200
TZOFFSETTO:+0300
DTSTART:19450524T020000
RDATE:19470511T030000
END:DAYLIGHT
BEGIN:DAYLIGHT
TZNAME:CEST
TZOFFSETFROM:+0300
TZOFFSETTO:+0200
DTSTART:19450924T030000
RDATE:19470629T030000
END:DAYLIGHT
BEGIN:STANDARD
TZNAME:CET
TZOFFSETFROM:+0100
TZOFFSETTO:+0100
DTSTART:19460101T000000
RDATE:19800101T000000
END:STANDARD
BEGIN:STANDARD
TZNAME:CET
TZOFFSETFROM:+0200
TZOFFSETTO:+0100
DTSTART:19471005T030000
RRULE:FREQ=YEARLY;UNTIL=19491002T010000Z;BYMONTH=10;BYDAY=1SU
END:STANDARD
BEGIN:STANDARD
TZNAME:CET
TZOFFSETFROM:+0200
TZOFFSETTO:+0100
DTSTART:19800928T030000
RRULE:FREQ=YEARLY;UNTIL=19950924T010000Z;BYMONTH=9;BYDAY=-1SU
END:STANDARD
BEGIN:DAYLIGHT
TZNAME:CEST
TZOFFSETFROM:+0100
TZOFFSETTO:+0200
DTSTART:19810329T020000
RRULE:FREQ=YEARLY;BYMONTH=3;BYDAY=-1SU
END:DAYLIGHT
BEGIN:STANDARD
TZNAME:CET
TZOFFSETFROM:+0200
TZOFFSETTO:+0100
DTSTART:19961027T030000
RRULE:FREQ=YEARLY;BYMONTH=10;BYDAY=-1SU
END:STANDARD
END:VTIMEZONE
BEGIN:VEVENT
DTSTAMP:20260424T191211Z
DTSTART;TZID=Europe/Berlin:20251212T193000
DTEND;TZID=Europe/Berlin:20251212T223000
SUMMARY:HE 5. Liga Gr. 1 Rio-Star Muttenz VII vs Pratteln II (0)
UID:771d7600-88cc-4332-b65b-25768673d8e5
STATUS:CONFIRMED
LAST-MODIFIED:20251216T122157Z
DESCRIPTION:5. Liga Herren Gruppe 1\nBegegnungs-Nr: 0\nHeim: Rio-Star Muttenz VII\nGast: Pratteln II\n\nAdresse: Gründenstrasse 32\, 4132 Muttenz\n
LOCATION:Gründenstrasse 32\, 4132 Muttenz
CATEGORIES:Saison 2025/26
END:VEVENT
BEGIN:VEVENT
DTSTAMP:20260424T191211Z
DTSTART;TZID=Europe/Berlin:20250822T193000
DTEND;TZID=Europe/Berlin:20250822T223000
SUMMARY:HE 5. Liga Gr. 1 Rio-Star Muttenz VII vs Binningen III (0)
UID:c5aa640a-1984-4710-8e26-2f271d902ede
STATUS:CONFIRMED
LAST-MODIFIED:20250825T070304Z
DESCRIPTION:5. Liga Herren Gruppe 1\nBegegnungs-Nr: 0\nHeim: Rio-Star Muttenz VII\nGast: Binningen III\n\nAdresse: Gründenstrasse 32\, 4132 Muttenz\n
LOCATION:Gründenstrasse 32\, 4132 Muttenz
CATEGORIES:Saison 2025/26
END:VEVENT
BEGIN:VEVENT
DTSTAMP:20260424T191211Z
DTSTART;TZID=Europe/Berlin:20250919T193000
DTEND;TZID=Europe/Berlin:20250919T223000
SUMMARY:HE 5. Liga Gr. 1 Rio-Star Muttenz VII vs Basel X (0)
UID:f213d8aa-ded6-4206-a3ee-83ee90b981bb
STATUS:CONFIRMED
LAST-MODIFIED:20250926T125104Z
DESCRIPTION:5. Liga Herren Gruppe 1\nBegegnungs-Nr: 0\nHeim: Rio-Star Muttenz VII\nGast: Basel X\n\nAdresse: Gründenstrasse 32\, 4132 Muttenz\n
LOCATION:Gründenstrasse 32\, 4132 Muttenz
CATEGORIES:Saison 2025/26
END:VEVENT
BEGIN:VEVENT
DTSTAMP:20260424T191211Z
DTSTART;TZID=Europe/Berlin:20251031T193000
DTEND;TZID=Europe/Berlin:20251031T223000
SUMMARY:HE 5. Liga Gr. 1 Rio-Star Muttenz VII vs Münchenstein-City III (0)
UID:d004209d-24b9-498f-ad98-99f9bb16f8b4
STATUS:CONFIRMED
LAST-MODIFIED:20251119T122815Z
DESCRIPTION:5. Liga Herren Gruppe 1\nBegegnungs-Nr: 0\nHeim: Rio-Star Muttenz VII\nGast: Münchenstein-City III\n\nAdresse: Gründenstrasse 32\, 4132 Muttenz\n
LOCATION:Gründenstrasse 32\, 4132 Muttenz
CATEGORIES:Saison 2025/26
END:VEVENT
BEGIN:VEVENT
DTSTAMP:20260424T191211Z
DTSTART;TZID=Europe/Berlin:20260313T193000
DTEND;TZID=Europe/Berlin:20260313T223000
SUMMARY:HE 5. Liga Gr. 1 Rio-Star Muttenz VII vs Breitenbach II (0)
UID:1233ab4d-d18d-46f1-8ee7-0dee9f8fa607
STATUS:CONFIRMED
LAST-MODIFIED:20260420T134014Z
DESCRIPTION:5. Liga Herren Gruppe 1\nBegegnungs-Nr: 0\nHeim: Rio-Star Muttenz VII\nGast: Breitenbach II\n\nAdresse: Gründenstrasse 32\, 4132 Muttenz\n
LOCATION:Gründenstrasse 32\, 4132 Muttenz
CATEGORIES:Saison 2025/26
END:VEVENT
BEGIN:VEVENT
DTSTAMP:20260424T191211Z
DTSTART;TZID=Europe/Berlin:20260213T193000
DTEND;TZID=Europe/Berlin:20260213T223000
SUMMARY:HE 5. Liga Gr. 1 Rio-Star Muttenz VII vs Old Boys Basel III (0)
UID:70ba17d8-0ff0-4952-8bb0-0e6a6dad7834
STATUS:CONFIRMED
LAST-MODIFIED:20260218T071752Z
DESCRIPTION:5. Liga Herren Gruppe 1\nBegegnungs-Nr: 0\nHeim: Rio-Star Muttenz VII\nGast: Old Boys Basel III\n\nAdresse: Gründenstrasse 32\, 4132 Muttenz\n
LOCATION:Gründenstrasse 32\, 4132 Muttenz
CATEGORIES:Saison 2025/26
END:VEVENT
BEGIN:VEVENT
DTSTAMP:20260424T191211Z
DTSTART;TZID=Europe/Berlin:20260116T193000
DTEND;TZID=Europe/Berlin:20260116T223000
SUMMARY:HE 5. Liga Gr. 1 Rio-Star Muttenz VII vs Copains Birsfelden IV (0)
UID:d9cb0be3-9662-4ec6-82d7-d92a8fd9adcf
STATUS:CONFIRMED
LAST-MODIFIED:20260123T081756Z
DESCRIPTION:5. Liga Herren Gruppe 1\nBegegnungs-Nr: 0\nHeim: Rio-Star Muttenz VII\nGast: Copains Birsfelden IV\n\nAdresse: Gründenstrasse 32\, 4132 Muttenz\n
LOCATION:Gründenstrasse 32\, 4132 Muttenz
CATEGORIES:Saison 2025/26
END:VEVENT
BEGIN:VEVENT
DTSTAMP:20260424T191211Z
DTSTART;TZID=Europe/Berlin:20250905T193000
DTEND;TZID=Europe/Berlin:20250905T223000
SUMMARY:HE 5. Liga Gr. 1 Copains Birsfelden IV vs Rio-Star Muttenz VII (0)
UID:7e18182a-74d4-40a2-8b9f-ed97a837a2c0
STATUS:CONFIRMED
LAST-MODIFIED:20250918T095204Z
DESCRIPTION:5. Liga Herren Gruppe 1\nBegegnungs-Nr: 0\nHeim: Copains Birsfelden IV\nGast: Rio-Star Muttenz VII\n\nAdresse: Wartenbergstrasse (Hintereingang)\, 4127 Birsfelden\n
LOCATION:Wartenbergstrasse (Hintereingang)\, 4127 Birsfelden
CATEGORIES:Saison 2025/26
END:VEVENT
BEGIN:VEVENT
DTSTAMP:20260424T191211Z
DTSTART;TZID=Europe/Berlin:20251017T193000
DTEND;TZID=Europe/Berlin:20251017T223000
SUMMARY:HE 5. Liga Gr. 1 Old Boys Basel III vs Rio-Star Muttenz VII (0)
UID:16ea876b-a745-4313-b0d3-1aa1bf6639df
STATUS:CONFIRMED
LAST-MODIFIED:20251020T113019Z
DESCRIPTION:5. Liga Herren Gruppe 1\nBegegnungs-Nr: 0\nHeim: Old Boys Basel III\nGast: Rio-Star Muttenz VII\n\nAdresse: 5 Rue Saint-Exupéry\, \, 683020 St. Louis\n
LOCATION:5 Rue Saint-Exupéry\, \, 683020 St. Louis
CATEGORIES:Saison 2025/26
END:VEVENT
BEGIN:VEVENT
DTSTAMP:20260424T191211Z
DTSTART;TZID=Europe/Berlin:20260327T193000
DTEND;TZID=Europe/Berlin:20260327T223000
SUMMARY:HE 5. Liga Gr. 1 Pratteln II vs Rio-Star Muttenz VII (0)
UID:1a11f05b-8091-4a76-bf4a-8efb87cc8b4a
STATUS:CONFIRMED
LAST-MODIFIED:20260416T093955Z
DESCRIPTION:5. Liga Herren Gruppe 1\nBegegnungs-Nr: 0\nHeim: Pratteln II\nGast: Rio-Star Muttenz VII\n\nAdresse: Erliweg 16\, 4133 Pratteln\n
LOCATION:Erliweg 16\, 4133 Pratteln
CATEGORIES:Saison 2025/26
END:VEVENT
BEGIN:VEVENT
DTSTAMP:20260424T191211Z
DTSTART;TZID=Europe/Berlin:20260319T193000
DTEND;TZID=Europe/Berlin:20260319T223000
SUMMARY:HE 5. Liga Gr. 1 Münchenstein-City III vs Rio-Star Muttenz VII (0)
UID:64c50a65-c598-4e1e-8ce5-a32ea872dd9b
STATUS:CONFIRMED
LAST-MODIFIED:20260420T134225Z
DESCRIPTION:5. Liga Herren Gruppe 1\nBegegnungs-Nr: 0\nHeim: Münchenstein-City III\nGast: Rio-Star Muttenz VII\n\nAdresse: Gruthweg 8\, 4142 Münchenstein\n
LOCATION:Gruthweg 8\, 4142 Münchenstein
CATEGORIES:Saison 2025/26
END:VEVENT
BEGIN:VEVENT
DTSTAMP:20260424T191211Z
DTSTART;TZID=Europe/Berlin:20260130T200000
DTEND;TZID=Europe/Berlin:20260130T230000
SUMMARY:HE 5. Liga Gr. 1 Basel X vs Rio-Star Muttenz VII (0)
UID:68267f42-abc4-410f-8a05-0fb00736b0f4
STATUS:CONFIRMED
LAST-MODIFIED:20260203T141445Z
DESCRIPTION:5. Liga Herren Gruppe 1\nBegegnungs-Nr: 0\nHeim: Basel X\nGast: Rio-Star Muttenz VII\n\nAdresse: Schwarzwaldallee 107\, 4058 Basel\n
LOCATION:Schwarzwaldallee 107\, 4058 Basel
CATEGORIES:Saison 2025/26
END:VEVENT
BEGIN:VEVENT
DTSTAMP:20260424T191211Z
DTSTART;TZID=Europe/Berlin:20251218T194500
DTEND;TZID=Europe/Berlin:20251218T224500
SUMMARY:HE 5. Liga Gr. 1 Binningen III vs Rio-Star Muttenz VII (0)
UID:5d267d67-6a8f-4207-be38-01b7ccde1b2f
STATUS:CONFIRMED
LAST-MODIFIED:20260109T074254Z
DESCRIPTION:5. Liga Herren Gruppe 1\nBegegnungs-Nr: 0\nHeim: Binningen III\nGast: Rio-Star Muttenz VII\n\nAdresse: Rottmannsbodenstr./Neusatzweg\, 4102 Binningen\n
LOCATION:Rottmannsbodenstr./Neusatzweg\, 4102 Binningen
CATEGORIES:Saison 2025/26
END:VEVENT
BEGIN:VEVENT
DTSTAMP:20260424T191211Z
DTSTART;TZID=Europe/Berlin:20251118T200000
DTEND;TZID=Europe/Berlin:20251118T230000
SUMMARY:HE 5. Liga Gr. 1 Breitenbach II vs Rio-Star Muttenz VII (0)
UID:2af8a612-7494-4f3c-9ad9-35de93bc7cc3
STATUS:CONFIRMED
LAST-MODIFIED:20251120T083343Z
DESCRIPTION:5. Liga Herren Gruppe 1\nBegegnungs-Nr: 0\nHeim: Breitenbach II\nGast: Rio-Star Muttenz VII\n\nAdresse: Grienackerweg 12\, 4226 Breitenbach\n
LOCATION:Grienackerweg 12\, 4226 Breitenbach
CATEGORIES:Saison 2025/26
END:VEVENT
END:VCALENDAR
