BEGIN:VCALENDAR
PRODID:-//nuDatenautomaten//framework iCal4j //DE
VERSION:2.0
CALSCALE:GREGORIAN
BEGIN:VTIMEZONE
TZID:Europe/Berlin
LAST-MODIFIED:20260306T231828Z
TZURL:https://www.tzurl.org/zoneinfo/Europe/Berlin
X-LIC-LOCATION:Europe/Berlin
X-PROLEPTIC-TZNAME:LMT
BEGIN:STANDARD
TZNAME:CET
TZOFFSETFROM:+005328
TZOFFSETTO:+0100
DTSTART:18930401T000000
END:STANDARD
BEGIN:DAYLIGHT
TZNAME:CEST
TZOFFSETFROM:+0100
TZOFFSETTO:+0200
DTSTART:19160430T230000
RDATE:19400401T020000
RDATE:19430329T020000
RDATE:19460414T020000
RDATE:19470406T030000
RDATE:19480418T020000
RDATE:19490410T020000
RDATE:19800406T020000
END:DAYLIGHT
BEGIN:STANDARD
TZNAME:CET
TZOFFSETFROM:+0200
TZOFFSETTO:+0100
DTSTART:19161001T010000
RDATE:19421102T030000
RDATE:19431004T030000
RDATE:19441002T030000
RDATE:19451118T030000
RDATE:19461007T030000
END:STANDARD
BEGIN:DAYLIGHT
TZNAME:CEST
TZOFFSETFROM:+0100
TZOFFSETTO:+0200
DTSTART:19170416T020000
RRULE:FREQ=YEARLY;UNTIL=19180415T010000Z;BYMONTH=4;BYDAY=3MO
END:DAYLIGHT
BEGIN:STANDARD
TZNAME:CET
TZOFFSETFROM:+0200
TZOFFSETTO:+0100
DTSTART:19170917T030000
RRULE:FREQ=YEARLY;UNTIL=19180916T010000Z;BYMONTH=9;BYDAY=3MO
END:STANDARD
BEGIN:DAYLIGHT
TZNAME:CEST
TZOFFSETFROM:+0100
TZOFFSETTO:+0200
DTSTART:19440403T020000
RRULE:FREQ=YEARLY;UNTIL=19450402T010000Z;BYMONTH=4;BYDAY=1MO
END:DAYLIGHT
BEGIN:DAYLIGHT
TZNAME:CEMT
TZOFFSETFROM:+0200
TZOFFSETTO:+0300
DTSTART:19450524T020000
RDATE:19470511T030000
END:DAYLIGHT
BEGIN:DAYLIGHT
TZNAME:CEST
TZOFFSETFROM:+0300
TZOFFSETTO:+0200
DTSTART:19450924T030000
RDATE:19470629T030000
END:DAYLIGHT
BEGIN:STANDARD
TZNAME:CET
TZOFFSETFROM:+0100
TZOFFSETTO:+0100
DTSTART:19460101T000000
RDATE:19800101T000000
END:STANDARD
BEGIN:STANDARD
TZNAME:CET
TZOFFSETFROM:+0200
TZOFFSETTO:+0100
DTSTART:19471005T030000
RRULE:FREQ=YEARLY;UNTIL=19491002T010000Z;BYMONTH=10;BYDAY=1SU
END:STANDARD
BEGIN:STANDARD
TZNAME:CET
TZOFFSETFROM:+0200
TZOFFSETTO:+0100
DTSTART:19800928T030000
RRULE:FREQ=YEARLY;UNTIL=19950924T010000Z;BYMONTH=9;BYDAY=-1SU
END:STANDARD
BEGIN:DAYLIGHT
TZNAME:CEST
TZOFFSETFROM:+0100
TZOFFSETTO:+0200
DTSTART:19810329T020000
RRULE:FREQ=YEARLY;BYMONTH=3;BYDAY=-1SU
END:DAYLIGHT
BEGIN:STANDARD
TZNAME:CET
TZOFFSETFROM:+0200
TZOFFSETTO:+0100
DTSTART:19961027T030000
RRULE:FREQ=YEARLY;BYMONTH=10;BYDAY=-1SU
END:STANDARD
END:VTIMEZONE
BEGIN:VEVENT
DTSTAMP:20260424T135850Z
DTSTART;TZID=Europe/Berlin:20260129T201500
DTEND;TZID=Europe/Berlin:20260129T231500
SUMMARY:DA 1. Liga Gr. 1 Zürich-Affoltern II vs Wädenswil II (0)
UID:01026751-2fd8-4486-adaa-46f84a8952ab
STATUS:CONFIRMED
LAST-MODIFIED:20260130T131839Z
DESCRIPTION:1. Liga Damen Gruppe 1\nBegegnungs-Nr: 0\nHeim: Zürich-Affoltern II\nGast: Wädenswil II\n\nAdresse: Rümlangstr. 89\, 8052 Zürich\n
LOCATION:Rümlangstr. 89\, 8052 Zürich
CATEGORIES:Saison 2025/26
END:VEVENT
BEGIN:VEVENT
DTSTAMP:20260424T135850Z
DTSTART;TZID=Europe/Berlin:20260319T201500
DTEND;TZID=Europe/Berlin:20260319T231500
SUMMARY:DA 1. Liga Gr. 1 Zürich-Affoltern II vs Uster III (0)
UID:910b5ebd-9a4b-4222-b374-f2d8bba6a02f
STATUS:CONFIRMED
LAST-MODIFIED:20260408T075035Z
DESCRIPTION:1. Liga Damen Gruppe 1\nBegegnungs-Nr: 0\nHeim: Zürich-Affoltern II\nGast: Uster III\n\nAdresse: Rümlangstr. 89\, 8052 Zürich\n
LOCATION:Rümlangstr. 89\, 8052 Zürich
CATEGORIES:Saison 2025/26
END:VEVENT
BEGIN:VEVENT
DTSTAMP:20260424T135850Z
DTSTART;TZID=Europe/Berlin:20260326T201500
DTEND;TZID=Europe/Berlin:20260326T231500
SUMMARY:DA 1. Liga Gr. 1 Zürich-Affoltern II vs Horgen (0)
UID:b9331c5e-e860-4ce8-a78d-0f7fea6942be
STATUS:CONFIRMED
LAST-MODIFIED:20260401T132819Z
DESCRIPTION:1. Liga Damen Gruppe 1\nBegegnungs-Nr: 0\nHeim: Zürich-Affoltern II\nGast: Horgen\n\nAdresse: Rümlangstr. 89\, 8052 Zürich\n
LOCATION:Rümlangstr. 89\, 8052 Zürich
CATEGORIES:Saison 2025/26
END:VEVENT
BEGIN:VEVENT
DTSTAMP:20260424T135850Z
DTSTART;TZID=Europe/Berlin:20250904T201500
DTEND;TZID=Europe/Berlin:20250904T231500
SUMMARY:DA 1. Liga Gr. 1 Zürich-Affoltern II vs Wetzikon II (0)
UID:ec34756a-67b6-4d78-8b1a-ac4a31a75a9c
STATUS:CONFIRMED
LAST-MODIFIED:20250905T124748Z
DESCRIPTION:1. Liga Damen Gruppe 1\nBegegnungs-Nr: 0\nHeim: Zürich-Affoltern II\nGast: Wetzikon II\n\nAdresse: Rümlangstr. 89\, 8052 Zürich\n
LOCATION:Rümlangstr. 89\, 8052 Zürich
CATEGORIES:Saison 2025/26
END:VEVENT
BEGIN:VEVENT
DTSTAMP:20260424T135850Z
DTSTART;TZID=Europe/Berlin:20251030T201500
DTEND;TZID=Europe/Berlin:20251030T231500
SUMMARY:DA 1. Liga Gr. 1 Zürich-Affoltern II vs Romanshorn (0)
UID:3d228d6e-7d2e-4468-b31c-0d96016fbffc
STATUS:CONFIRMED
LAST-MODIFIED:20251031T144732Z
DESCRIPTION:1. Liga Damen Gruppe 1\nBegegnungs-Nr: 0\nHeim: Zürich-Affoltern II\nGast: Romanshorn\n\nAdresse: Rümlangstr. 89\, 8052 Zürich\n
LOCATION:Rümlangstr. 89\, 8052 Zürich
CATEGORIES:Saison 2025/26
END:VEVENT
BEGIN:VEVENT
DTSTAMP:20260424T135850Z
DTSTART;TZID=Europe/Berlin:20260119T194500
DTEND;TZID=Europe/Berlin:20260119T224500
SUMMARY:DA 1. Liga Gr. 1 Wetzikon II vs Zürich-Affoltern II (0)
UID:26f0eb4e-04eb-4c62-ba0f-3ebb1d328db9
STATUS:CONFIRMED
LAST-MODIFIED:20260121T092855Z
DESCRIPTION:1. Liga Damen Gruppe 1\nBegegnungs-Nr: 0\nHeim: Wetzikon II\nGast: Zürich-Affoltern II\n\nAdresse: Usterstrasse 37\, 8620 Wetzikon\n
LOCATION:Usterstrasse 37\, 8620 Wetzikon
CATEGORIES:Saison 2025/26
END:VEVENT
BEGIN:VEVENT
DTSTAMP:20260424T135850Z
DTSTART;TZID=Europe/Berlin:20260302T201500
DTEND;TZID=Europe/Berlin:20260302T231500
SUMMARY:DA 1. Liga Gr. 1 Romanshorn vs Zürich-Affoltern II (0)
UID:785b18ec-f5ca-418f-9e25-e8fb22f846d4
STATUS:CONFIRMED
LAST-MODIFIED:20260303T132845Z
DESCRIPTION:1. Liga Damen Gruppe 1\nBegegnungs-Nr: 0\nHeim: Romanshorn\nGast: Zürich-Affoltern II\n\nAdresse: Florastrasse\, 8590 Romanshorn\n
LOCATION:Florastrasse\, 8590 Romanshorn
CATEGORIES:Saison 2025/26
END:VEVENT
BEGIN:VEVENT
DTSTAMP:20260424T135850Z
DTSTART;TZID=Europe/Berlin:20251203T200000
DTEND;TZID=Europe/Berlin:20251203T230000
SUMMARY:DA 1. Liga Gr. 1 Horgen vs Zürich-Affoltern II (0)
UID:036276d2-1012-4fe8-a9eb-ee0997352d1c
STATUS:CONFIRMED
LAST-MODIFIED:20251205T131345Z
DESCRIPTION:1. Liga Damen Gruppe 1\nBegegnungs-Nr: 0\nHeim: Horgen\nGast: Zürich-Affoltern II\n\nAdresse: Seestrasse 110\, 8810 Horgen\n
LOCATION:Seestrasse 110\, 8810 Horgen
CATEGORIES:Saison 2025/26
END:VEVENT
BEGIN:VEVENT
DTSTAMP:20260424T135850Z
DTSTART;TZID=Europe/Berlin:20250918T201500
DTEND;TZID=Europe/Berlin:20250918T231500
SUMMARY:DA 1. Liga Gr. 1 Wädenswil II vs Zürich-Affoltern II (0)
UID:e6c66f69-fc57-4575-a3b3-59343362fea7
STATUS:CONFIRMED
LAST-MODIFIED:20251211T142247Z
DESCRIPTION:1. Liga Damen Gruppe 1\nBegegnungs-Nr: 0\nHeim: Wädenswil II\nGast: Zürich-Affoltern II\n\nAdresse: Speerstrasse 95\, 8820 Wädenswil\n
LOCATION:Speerstrasse 95\, 8820 Wädenswil
CATEGORIES:Saison 2025/26
END:VEVENT
BEGIN:VEVENT
DTSTAMP:20260424T135850Z
DTSTART;TZID=Europe/Berlin:20251107T201500
DTEND;TZID=Europe/Berlin:20251107T231500
SUMMARY:DA 1. Liga Gr. 1 Uster III vs Zürich-Affoltern II (0)
UID:bc84f33d-3e2c-41c6-80bf-1889c738169b
STATUS:CONFIRMED
LAST-MODIFIED:20251211T142258Z
DESCRIPTION:1. Liga Damen Gruppe 1\nBegegnungs-Nr: 0\nHeim: Uster III\nGast: Zürich-Affoltern II\n\nAdresse: Wilstrasse 30 / Zürcherstrasse\, 8610 Uster\n
LOCATION:Wilstrasse 30 / Zürcherstrasse\, 8610 Uster
CATEGORIES:Saison 2025/26
END:VEVENT
END:VCALENDAR
