BEGIN:VCALENDAR
PRODID:-//nuDatenautomaten//framework iCal4j //DE
VERSION:2.0
CALSCALE:GREGORIAN
BEGIN:VTIMEZONE
TZID:Europe/Berlin
LAST-MODIFIED:20260306T231828Z
TZURL:https://www.tzurl.org/zoneinfo/Europe/Berlin
X-LIC-LOCATION:Europe/Berlin
X-PROLEPTIC-TZNAME:LMT
BEGIN:STANDARD
TZNAME:CET
TZOFFSETFROM:+005328
TZOFFSETTO:+0100
DTSTART:18930401T000000
END:STANDARD
BEGIN:DAYLIGHT
TZNAME:CEST
TZOFFSETFROM:+0100
TZOFFSETTO:+0200
DTSTART:19160430T230000
RDATE:19400401T020000
RDATE:19430329T020000
RDATE:19460414T020000
RDATE:19470406T030000
RDATE:19480418T020000
RDATE:19490410T020000
RDATE:19800406T020000
END:DAYLIGHT
BEGIN:STANDARD
TZNAME:CET
TZOFFSETFROM:+0200
TZOFFSETTO:+0100
DTSTART:19161001T010000
RDATE:19421102T030000
RDATE:19431004T030000
RDATE:19441002T030000
RDATE:19451118T030000
RDATE:19461007T030000
END:STANDARD
BEGIN:DAYLIGHT
TZNAME:CEST
TZOFFSETFROM:+0100
TZOFFSETTO:+0200
DTSTART:19170416T020000
RRULE:FREQ=YEARLY;UNTIL=19180415T010000Z;BYMONTH=4;BYDAY=3MO
END:DAYLIGHT
BEGIN:STANDARD
TZNAME:CET
TZOFFSETFROM:+0200
TZOFFSETTO:+0100
DTSTART:19170917T030000
RRULE:FREQ=YEARLY;UNTIL=19180916T010000Z;BYMONTH=9;BYDAY=3MO
END:STANDARD
BEGIN:DAYLIGHT
TZNAME:CEST
TZOFFSETFROM:+0100
TZOFFSETTO:+0200
DTSTART:19440403T020000
RRULE:FREQ=YEARLY;UNTIL=19450402T010000Z;BYMONTH=4;BYDAY=1MO
END:DAYLIGHT
BEGIN:DAYLIGHT
TZNAME:CEMT
TZOFFSETFROM:+0200
TZOFFSETTO:+0300
DTSTART:19450524T020000
RDATE:19470511T030000
END:DAYLIGHT
BEGIN:DAYLIGHT
TZNAME:CEST
TZOFFSETFROM:+0300
TZOFFSETTO:+0200
DTSTART:19450924T030000
RDATE:19470629T030000
END:DAYLIGHT
BEGIN:STANDARD
TZNAME:CET
TZOFFSETFROM:+0100
TZOFFSETTO:+0100
DTSTART:19460101T000000
RDATE:19800101T000000
END:STANDARD
BEGIN:STANDARD
TZNAME:CET
TZOFFSETFROM:+0200
TZOFFSETTO:+0100
DTSTART:19471005T030000
RRULE:FREQ=YEARLY;UNTIL=19491002T010000Z;BYMONTH=10;BYDAY=1SU
END:STANDARD
BEGIN:STANDARD
TZNAME:CET
TZOFFSETFROM:+0200
TZOFFSETTO:+0100
DTSTART:19800928T030000
RRULE:FREQ=YEARLY;UNTIL=19950924T010000Z;BYMONTH=9;BYDAY=-1SU
END:STANDARD
BEGIN:DAYLIGHT
TZNAME:CEST
TZOFFSETFROM:+0100
TZOFFSETTO:+0200
DTSTART:19810329T020000
RRULE:FREQ=YEARLY;BYMONTH=3;BYDAY=-1SU
END:DAYLIGHT
BEGIN:STANDARD
TZNAME:CET
TZOFFSETFROM:+0200
TZOFFSETTO:+0100
DTSTART:19961027T030000
RRULE:FREQ=YEARLY;BYMONTH=10;BYDAY=-1SU
END:STANDARD
END:VTIMEZONE
BEGIN:VEVENT
DTSTAMP:20260424T151704Z
DTSTART;TZID=Europe/Berlin:20251117T194500
DTEND;TZID=Europe/Berlin:20251117T224500
SUMMARY:Ligue 5 Gr.3 Ph.A Collex-Bossy II vs Grand-Saconnex IV (22)
UID:c5735c50-2190-4eb3-9c86-e3aa500f1cb0
STATUS:CONFIRMED
LAST-MODIFIED:20251121T101931Z
DESCRIPTION:5ème ligue Hommes Gr.3 Phase A\nBegegnungs-Nr: 22\nHeim: Collex-Bossy II\nGast: Grand-Saconnex IV\n
LOCATION:
CATEGORIES:Saison 2025/26
END:VEVENT
BEGIN:VEVENT
DTSTAMP:20260424T151704Z
DTSTART;TZID=Europe/Berlin:20251027T194500
DTEND;TZID=Europe/Berlin:20251027T224500
SUMMARY:Ligue 5 Gr.3 Ph.A Collex-Bossy II vs ZZ-Lancy XI (17)
UID:05297da0-5176-4999-9f73-0de7fbf4195b
STATUS:CONFIRMED
LAST-MODIFIED:20251028T093601Z
DESCRIPTION:5ème ligue Hommes Gr.3 Phase A\nBegegnungs-Nr: 17\nHeim: Collex-Bossy II\nGast: ZZ-Lancy XI\n
LOCATION:
CATEGORIES:Saison 2025/26
END:VEVENT
BEGIN:VEVENT
DTSTAMP:20260424T151704Z
DTSTART;TZID=Europe/Berlin:20251124T194500
DTEND;TZID=Europe/Berlin:20251124T224500
SUMMARY:Ligue 5 Gr.3 Ph.A Collex-Bossy II vs Versoix VII (26)
UID:3abf8ef1-7f57-40cf-a805-18650edf20eb
STATUS:CONFIRMED
LAST-MODIFIED:20251125T075710Z
DESCRIPTION:5ème ligue Hommes Gr.3 Phase A\nBegegnungs-Nr: 26\nHeim: Collex-Bossy II\nGast: Versoix VII\n
LOCATION:
CATEGORIES:Saison 2025/26
END:VEVENT
BEGIN:VEVENT
DTSTAMP:20260424T151704Z
DTSTART;TZID=Europe/Berlin:20251013T194500
DTEND;TZID=Europe/Berlin:20251013T224500
SUMMARY:Ligue 5 Gr.3 Ph.A Collex-Bossy II vs Châtelaine VII (15)
UID:0ce2e0f8-e4c3-42cd-9396-e4299115234a
STATUS:CONFIRMED
LAST-MODIFIED:20251014T165358Z
DESCRIPTION:5ème ligue Hommes Gr.3 Phase A\nBegegnungs-Nr: 15\nHeim: Collex-Bossy II\nGast: Châtelaine VII\n
LOCATION:
CATEGORIES:Saison 2025/26
END:VEVENT
BEGIN:VEVENT
DTSTAMP:20260424T151704Z
DTSTART;TZID=Europe/Berlin:20250915T194500
DTEND;TZID=Europe/Berlin:20250915T224500
SUMMARY:Ligue 5 Gr.3 Ph.A Collex-Bossy II vs Veyrier IV (4)
UID:47943b77-88ee-4ab0-b6a4-52a5523b8eda
STATUS:CONFIRMED
LAST-MODIFIED:20250916T191728Z
DESCRIPTION:5ème ligue Hommes Gr.3 Phase A\nBegegnungs-Nr: 4\nHeim: Collex-Bossy II\nGast: Veyrier IV\n
LOCATION:
CATEGORIES:Saison 2025/26
END:VEVENT
BEGIN:VEVENT
DTSTAMP:20260424T151704Z
DTSTART;TZID=Europe/Berlin:20260427T194500
DTEND;TZID=Europe/Berlin:20260427T224500
SUMMARY:Ligue 5 Gr.2 Ph.B Collex-Bossy II vs Grand-Saconnex V (29)
UID:ad1c029e-b0c1-46b1-a5a3-f07d11e5b71c
STATUS:CONFIRMED
DESCRIPTION:5ème ligue Hommes Gr.2 Phase B\nBegegnungs-Nr: 29\nHeim: Collex-Bossy II\nGast: Grand-Saconnex V\n
LOCATION:
CATEGORIES:Saison 2025/26
END:VEVENT
BEGIN:VEVENT
DTSTAMP:20260424T151704Z
DTSTART;TZID=Europe/Berlin:20260119T194500
DTEND;TZID=Europe/Berlin:20260119T224500
SUMMARY:Ligue 5 Gr.2 Ph.B Collex-Bossy II vs UGS-Chênois XI (5)
UID:3609d5aa-3ac6-4d1a-9e45-74658d02f368
STATUS:CONFIRMED
LAST-MODIFIED:20260120T120950Z
DESCRIPTION:5ème ligue Hommes Gr.2 Phase B\nBegegnungs-Nr: 5\nHeim: Collex-Bossy II\nGast: UGS-Chênois XI\n
LOCATION:
CATEGORIES:Saison 2025/26
END:VEVENT
BEGIN:VEVENT
DTSTAMP:20260424T151704Z
DTSTART;TZID=Europe/Berlin:20260326T190000
DTEND;TZID=Europe/Berlin:20260326T220000
SUMMARY:Ligue 5 Gr.2 Ph.B Collex-Bossy II vs Meyrin V (24)
UID:d2d5ebcb-58b8-4c2f-8612-f0ab5efd76e4
STATUS:CONFIRMED
LAST-MODIFIED:20260327T081826Z
DESCRIPTION:5ème ligue Hommes Gr.2 Phase B\nBegegnungs-Nr: 24\nHeim: Collex-Bossy II\nGast: Meyrin V\n
LOCATION:
CATEGORIES:Saison 2025/26
END:VEVENT
BEGIN:VEVENT
DTSTAMP:20260424T151704Z
DTSTART;TZID=Europe/Berlin:20260309T194500
DTEND;TZID=Europe/Berlin:20260309T224500
SUMMARY:Ligue 5 Gr.2 Ph.B Collex-Bossy II vs Châtelaine VII (16)
UID:b4466726-4322-4387-9912-53e10e815d70
STATUS:CONFIRMED
LAST-MODIFIED:20260310T221326Z
DESCRIPTION:5ème ligue Hommes Gr.2 Phase B\nBegegnungs-Nr: 16\nHeim: Collex-Bossy II\nGast: Châtelaine VII\n
LOCATION:
CATEGORIES:Saison 2025/26
END:VEVENT
BEGIN:VEVENT
DTSTAMP:20260424T151704Z
DTSTART;TZID=Europe/Berlin:20260209T194500
DTEND;TZID=Europe/Berlin:20260209T224500
SUMMARY:Ligue 5 Gr.2 Ph.B Collex-Bossy II vs ZZ-Lancy X (11)
UID:0688f110-4163-446e-be95-674428917c34
STATUS:CONFIRMED
LAST-MODIFIED:20260210T174552Z
DESCRIPTION:5ème ligue Hommes Gr.2 Phase B\nBegegnungs-Nr: 11\nHeim: Collex-Bossy II\nGast: ZZ-Lancy X\n
LOCATION:
CATEGORIES:Saison 2025/26
END:VEVENT
BEGIN:VEVENT
DTSTAMP:20260424T151704Z
DTSTART;TZID=Europe/Berlin:20251110T194500
DTEND;TZID=Europe/Berlin:20251110T224500
SUMMARY:Ligue 5 Gr.3 Ph.A Veyrier IV vs Collex-Bossy II (19)
UID:c24211d6-fcc7-4680-9709-6af82a91a2ea
STATUS:CONFIRMED
LAST-MODIFIED:20251111T165248Z
DESCRIPTION:5ème ligue Hommes Gr.3 Phase A\nBegegnungs-Nr: 19\nHeim: Veyrier IV\nGast: Collex-Bossy II\n\nAdresse: -\, 1255 Veyrier\n
LOCATION:-\, 1255 Veyrier
CATEGORIES:Saison 2025/26
END:VEVENT
BEGIN:VEVENT
DTSTAMP:20260424T151704Z
DTSTART;TZID=Europe/Berlin:20250901T194500
DTEND;TZID=Europe/Berlin:20250901T224500
SUMMARY:Ligue 5 Gr.3 Ph.A ZZ-Lancy XI vs Collex-Bossy II (2)
UID:f357be7c-cd54-4190-bf6d-ae1f814f9f3a
STATUS:CONFIRMED
LAST-MODIFIED:20250902T074131Z
DESCRIPTION:5ème ligue Hommes Gr.3 Phase A\nBegegnungs-Nr: 2\nHeim: ZZ-Lancy XI\nGast: Collex-Bossy II\n
LOCATION:
CATEGORIES:Saison 2025/26
END:VEVENT
BEGIN:VEVENT
DTSTAMP:20260424T151704Z
DTSTART;TZID=Europe/Berlin:20251203T194500
DTEND;TZID=Europe/Berlin:20251203T224500
SUMMARY:Ligue 5 Gr.3 Ph.A Châtelaine VII vs Collex-Bossy II (30)
UID:1a9500c0-bfc9-4c7e-96d7-7bc5a0dd5873
STATUS:CONFIRMED
LAST-MODIFIED:20251204T083753Z
DESCRIPTION:5ème ligue Hommes Gr.3 Phase A\nBegegnungs-Nr: 30\nHeim: Châtelaine VII\nGast: Collex-Bossy II\n
LOCATION:
CATEGORIES:Saison 2025/26
END:VEVENT
BEGIN:VEVENT
DTSTAMP:20260424T151704Z
DTSTART;TZID=Europe/Berlin:20251006T194500
DTEND;TZID=Europe/Berlin:20251006T224500
SUMMARY:Ligue 5 Gr.3 Ph.A Versoix VII vs Collex-Bossy II (11)
UID:34e89da9-cea4-4155-89bb-8247883eb558
STATUS:CONFIRMED
LAST-MODIFIED:20251007T071449Z
DESCRIPTION:5ème ligue Hommes Gr.3 Phase A\nBegegnungs-Nr: 11\nHeim: Versoix VII\nGast: Collex-Bossy II\n
LOCATION:
CATEGORIES:Saison 2025/26
END:VEVENT
BEGIN:VEVENT
DTSTAMP:20260424T151704Z
DTSTART;TZID=Europe/Berlin:20250922T194500
DTEND;TZID=Europe/Berlin:20250922T224500
SUMMARY:Ligue 5 Gr.3 Ph.A Grand-Saconnex IV vs Collex-Bossy II (7)
UID:bb1824bc-0a30-4b93-a7ea-0217491f6238
STATUS:CONFIRMED
LAST-MODIFIED:20250923T071910Z
DESCRIPTION:5ème ligue Hommes Gr.3 Phase A\nBegegnungs-Nr: 7\nHeim: Grand-Saconnex IV\nGast: Collex-Bossy II\n
LOCATION:
CATEGORIES:Saison 2025/26
END:VEVENT
BEGIN:VEVENT
DTSTAMP:20260424T151704Z
DTSTART;TZID=Europe/Berlin:20260330T200000
DTEND;TZID=Europe/Berlin:20260330T230000
SUMMARY:Ligue 5 Gr.2 Ph.B ZZ-Lancy X vs Collex-Bossy II (26)
UID:689e61da-abd9-4da8-b7c2-d27c4a7cdcea
STATUS:CONFIRMED
LAST-MODIFIED:20260401T064931Z
DESCRIPTION:5ème ligue Hommes Gr.2 Phase B\nBegegnungs-Nr: 26\nHeim: ZZ-Lancy X\nGast: Collex-Bossy II\n
LOCATION:
CATEGORIES:Saison 2025/26
END:VEVENT
BEGIN:VEVENT
DTSTAMP:20260424T151704Z
DTSTART;TZID=Europe/Berlin:20260318T194500
DTEND;TZID=Europe/Berlin:20260318T224500
SUMMARY:Ligue 5 Gr.2 Ph.B UGS-Chênois XI vs Collex-Bossy II (20)
UID:a8e8068f-1689-49ff-88be-6d774c63c3d5
STATUS:CONFIRMED
LAST-MODIFIED:20260319T131727Z
DESCRIPTION:5ème ligue Hommes Gr.2 Phase B\nBegegnungs-Nr: 20\nHeim: UGS-Chênois XI\nGast: Collex-Bossy II\n
LOCATION:
CATEGORIES:Saison 2025/26
END:VEVENT
BEGIN:VEVENT
DTSTAMP:20260424T151704Z
DTSTART;TZID=Europe/Berlin:20260114T194500
DTEND;TZID=Europe/Berlin:20260114T224500
SUMMARY:Ligue 5 Gr.2 Ph.B Châtelaine VII vs Collex-Bossy II (1)
UID:eb5fa567-7846-49bf-aaa2-3025a1a05a7d
STATUS:CONFIRMED
LAST-MODIFIED:20260116T093537Z
DESCRIPTION:5ème ligue Hommes Gr.2 Phase B\nBegegnungs-Nr: 1\nHeim: Châtelaine VII\nGast: Collex-Bossy II\n
LOCATION:
CATEGORIES:Saison 2025/26
END:VEVENT
BEGIN:VEVENT
DTSTAMP:20260424T151704Z
DTSTART;TZID=Europe/Berlin:20260216T194500
DTEND;TZID=Europe/Berlin:20260216T224500
SUMMARY:Ligue 5 Gr.2 Ph.B Grand-Saconnex V vs Collex-Bossy II (14)
UID:0663d04d-6a21-4d34-a883-cd545adca250
STATUS:CONFIRMED
LAST-MODIFIED:20260217T124417Z
DESCRIPTION:5ème ligue Hommes Gr.2 Phase B\nBegegnungs-Nr: 14\nHeim: Grand-Saconnex V\nGast: Collex-Bossy II\n
LOCATION:
CATEGORIES:Saison 2025/26
END:VEVENT
BEGIN:VEVENT
DTSTAMP:20260424T151704Z
DTSTART;TZID=Europe/Berlin:20260128T194500
DTEND;TZID=Europe/Berlin:20260128T224500
SUMMARY:Ligue 5 Gr.2 Ph.B Meyrin V vs Collex-Bossy II (9)
UID:208610d4-962e-42b5-932d-3626e33a88ba
STATUS:CONFIRMED
LAST-MODIFIED:20260129T094830Z
DESCRIPTION:5ème ligue Hommes Gr.2 Phase B\nBegegnungs-Nr: 9\nHeim: Meyrin V\nGast: Collex-Bossy II\n
LOCATION:
CATEGORIES:Saison 2025/26
END:VEVENT
END:VCALENDAR
