BEGIN:VCALENDAR
PRODID:-//nuDatenautomaten//framework iCal4j //DE
VERSION:2.0
CALSCALE:GREGORIAN
BEGIN:VTIMEZONE
TZID:Europe/Berlin
LAST-MODIFIED:20260306T231828Z
TZURL:https://www.tzurl.org/zoneinfo/Europe/Berlin
X-LIC-LOCATION:Europe/Berlin
X-PROLEPTIC-TZNAME:LMT
BEGIN:STANDARD
TZNAME:CET
TZOFFSETFROM:+005328
TZOFFSETTO:+0100
DTSTART:18930401T000000
END:STANDARD
BEGIN:DAYLIGHT
TZNAME:CEST
TZOFFSETFROM:+0100
TZOFFSETTO:+0200
DTSTART:19160430T230000
RDATE:19400401T020000
RDATE:19430329T020000
RDATE:19460414T020000
RDATE:19470406T030000
RDATE:19480418T020000
RDATE:19490410T020000
RDATE:19800406T020000
END:DAYLIGHT
BEGIN:STANDARD
TZNAME:CET
TZOFFSETFROM:+0200
TZOFFSETTO:+0100
DTSTART:19161001T010000
RDATE:19421102T030000
RDATE:19431004T030000
RDATE:19441002T030000
RDATE:19451118T030000
RDATE:19461007T030000
END:STANDARD
BEGIN:DAYLIGHT
TZNAME:CEST
TZOFFSETFROM:+0100
TZOFFSETTO:+0200
DTSTART:19170416T020000
RRULE:FREQ=YEARLY;UNTIL=19180415T010000Z;BYMONTH=4;BYDAY=3MO
END:DAYLIGHT
BEGIN:STANDARD
TZNAME:CET
TZOFFSETFROM:+0200
TZOFFSETTO:+0100
DTSTART:19170917T030000
RRULE:FREQ=YEARLY;UNTIL=19180916T010000Z;BYMONTH=9;BYDAY=3MO
END:STANDARD
BEGIN:DAYLIGHT
TZNAME:CEST
TZOFFSETFROM:+0100
TZOFFSETTO:+0200
DTSTART:19440403T020000
RRULE:FREQ=YEARLY;UNTIL=19450402T010000Z;BYMONTH=4;BYDAY=1MO
END:DAYLIGHT
BEGIN:DAYLIGHT
TZNAME:CEMT
TZOFFSETFROM:+0200
TZOFFSETTO:+0300
DTSTART:19450524T020000
RDATE:19470511T030000
END:DAYLIGHT
BEGIN:DAYLIGHT
TZNAME:CEST
TZOFFSETFROM:+0300
TZOFFSETTO:+0200
DTSTART:19450924T030000
RDATE:19470629T030000
END:DAYLIGHT
BEGIN:STANDARD
TZNAME:CET
TZOFFSETFROM:+0100
TZOFFSETTO:+0100
DTSTART:19460101T000000
RDATE:19800101T000000
END:STANDARD
BEGIN:STANDARD
TZNAME:CET
TZOFFSETFROM:+0200
TZOFFSETTO:+0100
DTSTART:19471005T030000
RRULE:FREQ=YEARLY;UNTIL=19491002T010000Z;BYMONTH=10;BYDAY=1SU
END:STANDARD
BEGIN:STANDARD
TZNAME:CET
TZOFFSETFROM:+0200
TZOFFSETTO:+0100
DTSTART:19800928T030000
RRULE:FREQ=YEARLY;UNTIL=19950924T010000Z;BYMONTH=9;BYDAY=-1SU
END:STANDARD
BEGIN:DAYLIGHT
TZNAME:CEST
TZOFFSETFROM:+0100
TZOFFSETTO:+0200
DTSTART:19810329T020000
RRULE:FREQ=YEARLY;BYMONTH=3;BYDAY=-1SU
END:DAYLIGHT
BEGIN:STANDARD
TZNAME:CET
TZOFFSETFROM:+0200
TZOFFSETTO:+0100
DTSTART:19961027T030000
RRULE:FREQ=YEARLY;BYMONTH=10;BYDAY=-1SU
END:STANDARD
END:VTIMEZONE
BEGIN:VEVENT
DTSTAMP:20260424T165358Z
DTSTART;TZID=Europe/Berlin:20260123T194500
DTEND;TZID=Europe/Berlin:20260123T224500
SUMMARY:HE 5. Liga Gr. 6 Wetzikon VIII vs Eschenbach (0)
UID:70b11136-99cf-45eb-8594-0c3af9f62f6f
STATUS:CONFIRMED
LAST-MODIFIED:20260130T101736Z
DESCRIPTION:5. Liga Herren Gruppe 6\nBegegnungs-Nr: 0\nHeim: Wetzikon VIII\nGast: Eschenbach\n\nAdresse: Usterstrasse 37\, 8620 Wetzikon\n
LOCATION:Usterstrasse 37\, 8620 Wetzikon
CATEGORIES:Saison 2025/26
END:VEVENT
BEGIN:VEVENT
DTSTAMP:20260424T165358Z
DTSTART;TZID=Europe/Berlin:20260306T194500
DTEND;TZID=Europe/Berlin:20260306T224500
SUMMARY:HE 5. Liga Gr. 6 Wetzikon VIII vs Uster IV (0)
UID:169bc2ac-60d0-4638-95e0-2c96ff9f083c
STATUS:CONFIRMED
LAST-MODIFIED:20260313T132101Z
DESCRIPTION:5. Liga Herren Gruppe 6\nBegegnungs-Nr: 0\nHeim: Wetzikon VIII\nGast: Uster IV\n\nAdresse: Usterstrasse 37\, 8620 Wetzikon\n
LOCATION:Usterstrasse 37\, 8620 Wetzikon
CATEGORIES:Saison 2025/26
END:VEVENT
BEGIN:VEVENT
DTSTAMP:20260424T165358Z
DTSTART;TZID=Europe/Berlin:20260327T194500
DTEND;TZID=Europe/Berlin:20260327T224500
SUMMARY:HE 5. Liga Gr. 6 Wetzikon VIII vs Rüti (0)
UID:44cef166-1204-4919-9132-22e2f2173e50
STATUS:CONFIRMED
LAST-MODIFIED:20260401T125419Z
DESCRIPTION:5. Liga Herren Gruppe 6\nBegegnungs-Nr: 0\nHeim: Wetzikon VIII\nGast: Rüti\n\nAdresse: Usterstrasse 37\, 8620 Wetzikon\n
LOCATION:Usterstrasse 37\, 8620 Wetzikon
CATEGORIES:Saison 2025/26
END:VEVENT
BEGIN:VEVENT
DTSTAMP:20260424T165358Z
DTSTART;TZID=Europe/Berlin:20260417T194500
DTEND;TZID=Europe/Berlin:20260417T224500
SUMMARY:HE 5. Liga Gr. 6 Wetzikon VIII vs Greifensee (0)
UID:b1cb4809-acfd-4169-b816-d710ac014c19
STATUS:CONFIRMED
LAST-MODIFIED:20260420T123516Z
DESCRIPTION:5. Liga Herren Gruppe 6\nBegegnungs-Nr: 0\nHeim: Wetzikon VIII\nGast: Greifensee\n\nAdresse: Usterstrasse 37\, 8620 Wetzikon\n
LOCATION:Usterstrasse 37\, 8620 Wetzikon
CATEGORIES:Saison 2025/26
END:VEVENT
BEGIN:VEVENT
DTSTAMP:20260424T165358Z
DTSTART;TZID=Europe/Berlin:20250829T194500
DTEND;TZID=Europe/Berlin:20250829T224500
SUMMARY:HE 5. Liga Gr. 6 Wetzikon VIII vs Wädenswil VI (0)
UID:5111297d-2b2a-4403-ab76-a66e3415f1c4
STATUS:CONFIRMED
LAST-MODIFIED:20250902T093025Z
DESCRIPTION:5. Liga Herren Gruppe 6\nBegegnungs-Nr: 0\nHeim: Wetzikon VIII\nGast: Wädenswil VI\n\nAdresse: Usterstrasse 37\, 8620 Wetzikon\n
LOCATION:Usterstrasse 37\, 8620 Wetzikon
CATEGORIES:Saison 2025/26
END:VEVENT
BEGIN:VEVENT
DTSTAMP:20260424T165358Z
DTSTART;TZID=Europe/Berlin:20250919T194500
DTEND;TZID=Europe/Berlin:20250919T224500
SUMMARY:HE 5. Liga Gr. 6 Wetzikon VIII vs Wolfhausen II (0)
UID:02b38850-5a45-4e49-89a5-12ae2b2b1667
STATUS:CONFIRMED
LAST-MODIFIED:20250926T132743Z
DESCRIPTION:5. Liga Herren Gruppe 6\nBegegnungs-Nr: 0\nHeim: Wetzikon VIII\nGast: Wolfhausen II\n\nAdresse: Usterstrasse 37\, 8620 Wetzikon\n
LOCATION:Usterstrasse 37\, 8620 Wetzikon
CATEGORIES:Saison 2025/26
END:VEVENT
BEGIN:VEVENT
DTSTAMP:20260424T165358Z
DTSTART;TZID=Europe/Berlin:20251031T194500
DTEND;TZID=Europe/Berlin:20251031T224500
SUMMARY:HE 5. Liga Gr. 6 Wetzikon VIII vs Meilen-Männedorf IV (0)
UID:5c3e0443-86b5-4f8f-8253-7c9b471d3bd3
STATUS:CONFIRMED
LAST-MODIFIED:20251107T145146Z
DESCRIPTION:5. Liga Herren Gruppe 6\nBegegnungs-Nr: 0\nHeim: Wetzikon VIII\nGast: Meilen-Männedorf IV\n\nAdresse: Usterstrasse 37\, 8620 Wetzikon\n
LOCATION:Usterstrasse 37\, 8620 Wetzikon
CATEGORIES:Saison 2025/26
END:VEVENT
BEGIN:VEVENT
DTSTAMP:20260424T165358Z
DTSTART;TZID=Europe/Berlin:20260108T201500
DTEND;TZID=Europe/Berlin:20260108T231500
SUMMARY:HE 5. Liga Gr. 6 Wädenswil VI vs Wetzikon VIII (0)
UID:eb78e5a3-9e23-4d31-b55c-b91339810b75
STATUS:CONFIRMED
LAST-MODIFIED:20260112T095915Z
DESCRIPTION:5. Liga Herren Gruppe 6\nBegegnungs-Nr: 0\nHeim: Wädenswil VI\nGast: Wetzikon VIII\n\nAdresse: Speerstrasse 95\, 8820 Wädenswil\n
LOCATION:Speerstrasse 95\, 8820 Wädenswil
CATEGORIES:Saison 2025/26
END:VEVENT
BEGIN:VEVENT
DTSTAMP:20260424T165358Z
DTSTART;TZID=Europe/Berlin:20260130T200000
DTEND;TZID=Europe/Berlin:20260130T230000
SUMMARY:HE 5. Liga Gr. 6 Wolfhausen II vs Wetzikon VIII (0)
UID:ae865f5d-c7f2-4a5a-bfe8-8df4ae5d65f9
STATUS:CONFIRMED
LAST-MODIFIED:20260203T142611Z
DESCRIPTION:5. Liga Herren Gruppe 6\nBegegnungs-Nr: 0\nHeim: Wolfhausen II\nGast: Wetzikon VIII\n\nAdresse: Schulstrasse 9\, 8633 Wolfhausen\n
LOCATION:Schulstrasse 9\, 8633 Wolfhausen
CATEGORIES:Saison 2025/26
END:VEVENT
BEGIN:VEVENT
DTSTAMP:20260424T165358Z
DTSTART;TZID=Europe/Berlin:20260312T194500
DTEND;TZID=Europe/Berlin:20260312T224500
SUMMARY:HE 5. Liga Gr. 6 Meilen-Männedorf IV vs Wetzikon VIII (0)
UID:c4cdd663-9939-4bf3-a8ac-1601c631b735
STATUS:CONFIRMED
LAST-MODIFIED:20260313T132122Z
DESCRIPTION:5. Liga Herren Gruppe 6\nBegegnungs-Nr: 0\nHeim: Meilen-Männedorf IV\nGast: Wetzikon VIII\n\nAdresse: Schulhausstr. 27\, 8706 Meilen\n
LOCATION:Schulhausstr. 27\, 8706 Meilen
CATEGORIES:Saison 2025/26
END:VEVENT
BEGIN:VEVENT
DTSTAMP:20260424T165358Z
DTSTART;TZID=Europe/Berlin:20250905T200000
DTEND;TZID=Europe/Berlin:20250905T230000
SUMMARY:HE 5. Liga Gr. 6 Eschenbach vs Wetzikon VIII (0)
UID:b72bb391-684f-4b56-a543-03189f63152c
STATUS:CONFIRMED
LAST-MODIFIED:20250908T140844Z
DESCRIPTION:5. Liga Herren Gruppe 6\nBegegnungs-Nr: 0\nHeim: Eschenbach\nGast: Wetzikon VIII\n\nAdresse: Bildstöcklistrasse 2\, 8733 Eschenbach\n
LOCATION:Bildstöcklistrasse 2\, 8733 Eschenbach
CATEGORIES:Saison 2025/26
END:VEVENT
BEGIN:VEVENT
DTSTAMP:20260424T165358Z
DTSTART;TZID=Europe/Berlin:20250925T201500
DTEND;TZID=Europe/Berlin:20250925T231500
SUMMARY:HE 5. Liga Gr. 6 Uster IV vs Wetzikon VIII (0)
UID:723c4c62-ccb3-4112-b33b-571fddb8a510
STATUS:CONFIRMED
LAST-MODIFIED:20250930T124324Z
DESCRIPTION:5. Liga Herren Gruppe 6\nBegegnungs-Nr: 0\nHeim: Uster IV\nGast: Wetzikon VIII\n\nAdresse: Wilstrasse 30 / Zürcherstrasse\, 8610 Uster\n
LOCATION:Wilstrasse 30 / Zürcherstrasse\, 8610 Uster
CATEGORIES:Saison 2025/26
END:VEVENT
BEGIN:VEVENT
DTSTAMP:20260424T165358Z
DTSTART;TZID=Europe/Berlin:20251104T200000
DTEND;TZID=Europe/Berlin:20251104T230000
SUMMARY:HE 5. Liga Gr. 6 Rüti vs Wetzikon VIII (0)
UID:b31fc105-27cd-437b-b776-771e42a7838e
STATUS:CONFIRMED
LAST-MODIFIED:20251107T145154Z
DESCRIPTION:5. Liga Herren Gruppe 6\nBegegnungs-Nr: 0\nHeim: Rüti\nGast: Wetzikon VIII\n\nAdresse: Spitalstrasse 20\, 8630 Rüti\n
LOCATION:Spitalstrasse 20\, 8630 Rüti
CATEGORIES:Saison 2025/26
END:VEVENT
BEGIN:VEVENT
DTSTAMP:20260424T165358Z
DTSTART;TZID=Europe/Berlin:20251202T200000
DTEND;TZID=Europe/Berlin:20251202T230000
SUMMARY:HE 5. Liga Gr. 6 Greifensee vs Wetzikon VIII (0)
UID:fccb7ea9-70ac-422b-b077-b94aad7f87ec
STATUS:CONFIRMED
LAST-MODIFIED:20251205T130930Z
DESCRIPTION:5. Liga Herren Gruppe 6\nBegegnungs-Nr: 0\nHeim: Greifensee\nGast: Wetzikon VIII\n\nAdresse: Stationsstrasse\, 8606 Nänikon\n
LOCATION:Stationsstrasse\, 8606 Nänikon
CATEGORIES:Saison 2025/26
END:VEVENT
END:VCALENDAR
