BEGIN:VCALENDAR
PRODID:-//nuDatenautomaten//framework iCal4j //DE
VERSION:2.0
CALSCALE:GREGORIAN
BEGIN:VTIMEZONE
TZID:Europe/Berlin
LAST-MODIFIED:20260306T231828Z
TZURL:https://www.tzurl.org/zoneinfo/Europe/Berlin
X-LIC-LOCATION:Europe/Berlin
X-PROLEPTIC-TZNAME:LMT
BEGIN:STANDARD
TZNAME:CET
TZOFFSETFROM:+005328
TZOFFSETTO:+0100
DTSTART:18930401T000000
END:STANDARD
BEGIN:DAYLIGHT
TZNAME:CEST
TZOFFSETFROM:+0100
TZOFFSETTO:+0200
DTSTART:19160430T230000
RDATE:19400401T020000
RDATE:19430329T020000
RDATE:19460414T020000
RDATE:19470406T030000
RDATE:19480418T020000
RDATE:19490410T020000
RDATE:19800406T020000
END:DAYLIGHT
BEGIN:STANDARD
TZNAME:CET
TZOFFSETFROM:+0200
TZOFFSETTO:+0100
DTSTART:19161001T010000
RDATE:19421102T030000
RDATE:19431004T030000
RDATE:19441002T030000
RDATE:19451118T030000
RDATE:19461007T030000
END:STANDARD
BEGIN:DAYLIGHT
TZNAME:CEST
TZOFFSETFROM:+0100
TZOFFSETTO:+0200
DTSTART:19170416T020000
RRULE:FREQ=YEARLY;UNTIL=19180415T010000Z;BYMONTH=4;BYDAY=3MO
END:DAYLIGHT
BEGIN:STANDARD
TZNAME:CET
TZOFFSETFROM:+0200
TZOFFSETTO:+0100
DTSTART:19170917T030000
RRULE:FREQ=YEARLY;UNTIL=19180916T010000Z;BYMONTH=9;BYDAY=3MO
END:STANDARD
BEGIN:DAYLIGHT
TZNAME:CEST
TZOFFSETFROM:+0100
TZOFFSETTO:+0200
DTSTART:19440403T020000
RRULE:FREQ=YEARLY;UNTIL=19450402T010000Z;BYMONTH=4;BYDAY=1MO
END:DAYLIGHT
BEGIN:DAYLIGHT
TZNAME:CEMT
TZOFFSETFROM:+0200
TZOFFSETTO:+0300
DTSTART:19450524T020000
RDATE:19470511T030000
END:DAYLIGHT
BEGIN:DAYLIGHT
TZNAME:CEST
TZOFFSETFROM:+0300
TZOFFSETTO:+0200
DTSTART:19450924T030000
RDATE:19470629T030000
END:DAYLIGHT
BEGIN:STANDARD
TZNAME:CET
TZOFFSETFROM:+0100
TZOFFSETTO:+0100
DTSTART:19460101T000000
RDATE:19800101T000000
END:STANDARD
BEGIN:STANDARD
TZNAME:CET
TZOFFSETFROM:+0200
TZOFFSETTO:+0100
DTSTART:19471005T030000
RRULE:FREQ=YEARLY;UNTIL=19491002T010000Z;BYMONTH=10;BYDAY=1SU
END:STANDARD
BEGIN:STANDARD
TZNAME:CET
TZOFFSETFROM:+0200
TZOFFSETTO:+0100
DTSTART:19800928T030000
RRULE:FREQ=YEARLY;UNTIL=19950924T010000Z;BYMONTH=9;BYDAY=-1SU
END:STANDARD
BEGIN:DAYLIGHT
TZNAME:CEST
TZOFFSETFROM:+0100
TZOFFSETTO:+0200
DTSTART:19810329T020000
RRULE:FREQ=YEARLY;BYMONTH=3;BYDAY=-1SU
END:DAYLIGHT
BEGIN:STANDARD
TZNAME:CET
TZOFFSETFROM:+0200
TZOFFSETTO:+0100
DTSTART:19961027T030000
RRULE:FREQ=YEARLY;BYMONTH=10;BYDAY=-1SU
END:STANDARD
END:VTIMEZONE
BEGIN:VEVENT
DTSTAMP:20260424T115004Z
DTSTART;TZID=Europe/Berlin:20250910T194500
DTEND;TZID=Europe/Berlin:20250910T224500
SUMMARY:ME L4 Gr 5\, Tours 1&2 Ependes II vs Estavayer (0)
UID:06604605-d2c1-4260-a397-4f1121107602
STATUS:CONFIRMED
LAST-MODIFIED:20250911T185014Z
DESCRIPTION:4ème ligue Hommes Groupe 5\, Tours 1&2\nBegegnungs-Nr: 0\nHeim: Ependes II\nGast: Estavayer\n\nAdresse: -\, 1731 Ependes FR\n
LOCATION:-\, 1731 Ependes FR
CATEGORIES:Saison 2025/26
END:VEVENT
BEGIN:VEVENT
DTSTAMP:20260424T115004Z
DTSTART;TZID=Europe/Berlin:20250917T194500
DTEND;TZID=Europe/Berlin:20250917T224500
SUMMARY:ME L4 Gr 5\, Tours 1&2 Ependes II vs Domdidier (0)
UID:ffb927d5-b62b-4cb0-a1d4-5cc2b182e7ce
STATUS:CONFIRMED
LAST-MODIFIED:20250918T181955Z
DESCRIPTION:4ème ligue Hommes Groupe 5\, Tours 1&2\nBegegnungs-Nr: 0\nHeim: Ependes II\nGast: Domdidier\n\nAdresse: -\, 1731 Ependes FR\n
LOCATION:-\, 1731 Ependes FR
CATEGORIES:Saison 2025/26
END:VEVENT
BEGIN:VEVENT
DTSTAMP:20260424T115004Z
DTSTART;TZID=Europe/Berlin:20251029T194500
DTEND;TZID=Europe/Berlin:20251029T224500
SUMMARY:ME L4 Gr 5\, Tours 1&2 Ependes II vs Ependes (0)
UID:0944e76c-2011-4b2a-b504-6e1193529063
STATUS:CONFIRMED
LAST-MODIFIED:20251030T154729Z
DESCRIPTION:4ème ligue Hommes Groupe 5\, Tours 1&2\nBegegnungs-Nr: 0\nHeim: Ependes II\nGast: Ependes\n\nAdresse: -\, 1731 Ependes FR\n
LOCATION:-\, 1731 Ependes FR
CATEGORIES:Saison 2025/26
END:VEVENT
BEGIN:VEVENT
DTSTAMP:20260424T115004Z
DTSTART;TZID=Europe/Berlin:20251126T194500
DTEND;TZID=Europe/Berlin:20251126T224500
SUMMARY:ME L4 Gr 5\, Tours 1&2 Ependes II vs Avry-Rosé III (0)
UID:5793a235-7020-4fa7-8ca6-210a62b33e7a
STATUS:CONFIRMED
LAST-MODIFIED:20251127T155321Z
DESCRIPTION:4ème ligue Hommes Groupe 5\, Tours 1&2\nBegegnungs-Nr: 0\nHeim: Ependes II\nGast: Avry-Rosé III\n\nAdresse: -\, 1731 Ependes FR\n
LOCATION:-\, 1731 Ependes FR
CATEGORIES:Saison 2025/26
END:VEVENT
BEGIN:VEVENT
DTSTAMP:20260424T115004Z
DTSTART;TZID=Europe/Berlin:20251210T194500
DTEND;TZID=Europe/Berlin:20251210T224500
SUMMARY:ME L4 Gr 5\, Tours 1&2 Ependes II vs Cheyres (0)
UID:543573dc-52a5-4dbb-84e0-e0b5e81a8d16
STATUS:CONFIRMED
LAST-MODIFIED:20251213T095513Z
DESCRIPTION:4ème ligue Hommes Groupe 5\, Tours 1&2\nBegegnungs-Nr: 0\nHeim: Ependes II\nGast: Cheyres\n\nAdresse: -\, 1731 Ependes FR\n
LOCATION:-\, 1731 Ependes FR
CATEGORIES:Saison 2025/26
END:VEVENT
BEGIN:VEVENT
DTSTAMP:20260424T115004Z
DTSTART;TZID=Europe/Berlin:20260121T194500
DTEND;TZID=Europe/Berlin:20260121T224500
SUMMARY:ME L5 Gr 4\, Tours 3&4 Ependes II vs Sainte-Croix (0)
UID:009d2999-8c59-40cc-a67b-8d9ef16abc83
STATUS:CONFIRMED
LAST-MODIFIED:20260122T225223Z
DESCRIPTION:5ème ligue Hommes Groupe 4\, Tours 3&4\nBegegnungs-Nr: 0\nHeim: Ependes II\nGast: Sainte-Croix\n\nAdresse: -\, 1731 Ependes FR\n
LOCATION:-\, 1731 Ependes FR
CATEGORIES:Saison 2025/26
END:VEVENT
BEGIN:VEVENT
DTSTAMP:20260424T115004Z
DTSTART;TZID=Europe/Berlin:20260211T194500
DTEND;TZID=Europe/Berlin:20260211T224500
SUMMARY:ME L5 Gr 4\, Tours 3&4 Ependes II vs Yverdon IV (0)
UID:aae8f27f-a870-4f27-9b97-569c15960ff7
STATUS:CONFIRMED
LAST-MODIFIED:20260212T150803Z
DESCRIPTION:5ème ligue Hommes Groupe 4\, Tours 3&4\nBegegnungs-Nr: 0\nHeim: Ependes II\nGast: Yverdon IV\n\nAdresse: -\, 1731 Ependes FR\n
LOCATION:-\, 1731 Ependes FR
CATEGORIES:Saison 2025/26
END:VEVENT
BEGIN:VEVENT
DTSTAMP:20260424T115004Z
DTSTART;TZID=Europe/Berlin:20260311T194500
DTEND;TZID=Europe/Berlin:20260311T224500
SUMMARY:ME L5 Gr 4\, Tours 3&4 Ependes II vs Orbe II (0)
UID:c14fdf89-07fb-4563-b233-36f256cdb521
STATUS:CONFIRMED
LAST-MODIFIED:20260312T134149Z
DESCRIPTION:5ème ligue Hommes Groupe 4\, Tours 3&4\nBegegnungs-Nr: 0\nHeim: Ependes II\nGast: Orbe II\n\nAdresse: -\, 1731 Ependes FR\n
LOCATION:-\, 1731 Ependes FR
CATEGORIES:Saison 2025/26
END:VEVENT
BEGIN:VEVENT
DTSTAMP:20260424T115004Z
DTSTART;TZID=Europe/Berlin:20260401T194500
DTEND;TZID=Europe/Berlin:20260401T224500
SUMMARY:ME L5 Gr 4\, Tours 3&4 Ependes II vs Yverdon V (0)
UID:4abbe56d-972a-406e-8a9a-66d0e2c4af8d
STATUS:CONFIRMED
LAST-MODIFIED:20260402T172000Z
DESCRIPTION:5ème ligue Hommes Groupe 4\, Tours 3&4\nBegegnungs-Nr: 0\nHeim: Ependes II\nGast: Yverdon V\n\nAdresse: -\, 1731 Ependes FR\n
LOCATION:-\, 1731 Ependes FR
CATEGORIES:Saison 2025/26
END:VEVENT
BEGIN:VEVENT
DTSTAMP:20260424T115004Z
DTSTART;TZID=Europe/Berlin:20260429T194500
DTEND;TZID=Europe/Berlin:20260429T224500
SUMMARY:ME L5 Gr 4\, Tours 3&4 Ependes II vs Avry-Rosé V (0)
UID:998b4a8e-4d02-4c6d-ae8a-ccb9723ec817
STATUS:CONFIRMED
DESCRIPTION:5ème ligue Hommes Groupe 4\, Tours 3&4\nBegegnungs-Nr: 0\nHeim: Ependes II\nGast: Avry-Rosé V\n\nAdresse: -\, 1731 Ependes FR\n
LOCATION:-\, 1731 Ependes FR
CATEGORIES:Saison 2025/26
END:VEVENT
BEGIN:VEVENT
DTSTAMP:20260424T115004Z
DTSTART;TZID=Europe/Berlin:20250924T194500
DTEND;TZID=Europe/Berlin:20250924T224500
SUMMARY:ME L4 Gr 5\, Tours 1&2 Ependes vs Ependes II (0)
UID:e0f8d5d3-9968-4edf-baf7-bd805fe22df3
STATUS:CONFIRMED
LAST-MODIFIED:20250925T094220Z
DESCRIPTION:4ème ligue Hommes Groupe 5\, Tours 1&2\nBegegnungs-Nr: 0\nHeim: Ependes\nGast: Ependes II\n\nAdresse: -\, 1731 Ependes FR\n
LOCATION:-\, 1731 Ependes FR
CATEGORIES:Saison 2025/26
END:VEVENT
BEGIN:VEVENT
DTSTAMP:20260424T115004Z
DTSTART;TZID=Europe/Berlin:20250925T193000
DTEND;TZID=Europe/Berlin:20250925T223000
SUMMARY:ME L4 Gr 5\, Tours 1&2 Avry-Rosé III vs Ependes II (0)
UID:065ba9e8-d457-4cfd-92c6-f1adf59c3959
STATUS:CONFIRMED
LAST-MODIFIED:20250926T105225Z
DESCRIPTION:4ème ligue Hommes Groupe 5\, Tours 1&2\nBegegnungs-Nr: 0\nHeim: Avry-Rosé III\nGast: Ependes II\n\nAdresse: Route du Château 15\, 1754 Avry-sur-Matran\n
LOCATION:Route du Château 15\, 1754 Avry-sur-Matran
CATEGORIES:Saison 2025/26
END:VEVENT
BEGIN:VEVENT
DTSTAMP:20260424T115004Z
DTSTART;TZID=Europe/Berlin:20251009T194500
DTEND;TZID=Europe/Berlin:20251009T224500
SUMMARY:ME L4 Gr 5\, Tours 1&2 Cheyres vs Ependes II (0)
UID:4562d91f-ede0-4764-9f0d-7b84d9c5939c
STATUS:CONFIRMED
LAST-MODIFIED:20251011T112303Z
DESCRIPTION:4ème ligue Hommes Groupe 5\, Tours 1&2\nBegegnungs-Nr: 0\nHeim: Cheyres\nGast: Ependes II\n\nAdresse: Rue de la Gare 10\, 1468 Cheyres\n
LOCATION:Rue de la Gare 10\, 1468 Cheyres
CATEGORIES:Saison 2025/26
END:VEVENT
BEGIN:VEVENT
DTSTAMP:20260424T115004Z
DTSTART;TZID=Europe/Berlin:20251107T193000
DTEND;TZID=Europe/Berlin:20251107T223000
SUMMARY:ME L4 Gr 5\, Tours 1&2 Estavayer vs Ependes II (0)
UID:2032e9f9-ddd8-4e44-b6c0-21553e989b75
STATUS:CONFIRMED
LAST-MODIFIED:20251109T122746Z
DESCRIPTION:4ème ligue Hommes Groupe 5\, Tours 1&2\nBegegnungs-Nr: 0\nHeim: Estavayer\nGast: Ependes II\n\nAdresse: Avenue de la Gare 111\, 1470 Estavayer-le-Lac\n
LOCATION:Avenue de la Gare 111\, 1470 Estavayer-le-Lac
CATEGORIES:Saison 2025/26
END:VEVENT
BEGIN:VEVENT
DTSTAMP:20260424T115004Z
DTSTART;TZID=Europe/Berlin:20251117T201500
DTEND;TZID=Europe/Berlin:20251117T231500
SUMMARY:ME L4 Gr 5\, Tours 1&2 Domdidier vs Ependes II (0)
UID:471c3176-6f09-4465-884a-e18373d0284e
STATUS:CONFIRMED
LAST-MODIFIED:20251121T100551Z
DESCRIPTION:4ème ligue Hommes Groupe 5\, Tours 1&2\nBegegnungs-Nr: 0\nHeim: Domdidier\nGast: Ependes II\n\nAdresse: Pré-de-la-Cour\, 1564 Domdidier\n
LOCATION:Pré-de-la-Cour\, 1564 Domdidier
CATEGORIES:Saison 2025/26
END:VEVENT
BEGIN:VEVENT
DTSTAMP:20260424T115004Z
DTSTART;TZID=Europe/Berlin:20260113T201500
DTEND;TZID=Europe/Berlin:20260113T231500
SUMMARY:ME L5 Gr 4\, Tours 3&4 Orbe II vs Ependes II (0)
UID:0ad3fdda-7c9a-4477-85d7-4201e7c05852
STATUS:CONFIRMED
LAST-MODIFIED:20260113T231504Z
DESCRIPTION:5ème ligue Hommes Groupe 4\, Tours 3&4\nBegegnungs-Nr: 0\nHeim: Orbe II\nGast: Ependes II\n\nAdresse: Rue du Suchet\, 1350 Orbe\n
LOCATION:Rue du Suchet\, 1350 Orbe
CATEGORIES:Saison 2025/26
END:VEVENT
BEGIN:VEVENT
DTSTAMP:20260424T115004Z
DTSTART;TZID=Europe/Berlin:20260204T201500
DTEND;TZID=Europe/Berlin:20260204T231500
SUMMARY:ME L5 Gr 4\, Tours 3&4 Yverdon V vs Ependes II (0)
UID:9b6a28f2-55a4-4325-b50f-9f4dd7f73ec8
STATUS:CONFIRMED
LAST-MODIFIED:20260205T224501Z
DESCRIPTION:5ème ligue Hommes Groupe 4\, Tours 3&4\nBegegnungs-Nr: 0\nHeim: Yverdon V\nGast: Ependes II\n\nAdresse: Avenue des Quatre Marroniers 1\, 1400 Yverdon-les-Bains\n
LOCATION:Avenue des Quatre Marroniers 1\, 1400 Yverdon-les-Bains
CATEGORIES:Saison 2025/26
END:VEVENT
BEGIN:VEVENT
DTSTAMP:20260424T115004Z
DTSTART;TZID=Europe/Berlin:20260224T200000
DTEND;TZID=Europe/Berlin:20260224T230000
SUMMARY:ME L5 Gr 4\, Tours 3&4 Avry-Rosé V vs Ependes II (0)
UID:5faa0c08-339d-4186-87bd-18a31523850a
STATUS:CONFIRMED
LAST-MODIFIED:20260225T224959Z
DESCRIPTION:5ème ligue Hommes Groupe 4\, Tours 3&4\nBegegnungs-Nr: 0\nHeim: Avry-Rosé V\nGast: Ependes II\n\nAdresse: Route du Château 15\, 1754 Avry-sur-Matran\n
LOCATION:Route du Château 15\, 1754 Avry-sur-Matran
CATEGORIES:Saison 2025/26
END:VEVENT
BEGIN:VEVENT
DTSTAMP:20260424T115004Z
DTSTART;TZID=Europe/Berlin:20260323T200000
DTEND;TZID=Europe/Berlin:20260323T230000
SUMMARY:ME L5 Gr 4\, Tours 3&4 Sainte-Croix vs Ependes II (0)
UID:13ae3ef8-6df7-4483-b8a5-788dc56b5c4a
STATUS:CONFIRMED
LAST-MODIFIED:20260325T093335Z
DESCRIPTION:5ème ligue Hommes Groupe 4\, Tours 3&4\nBegegnungs-Nr: 0\nHeim: Sainte-Croix\nGast: Ependes II\n\nAdresse: Av. de la Gare 23\, 1450 Sainte-Croix\n
LOCATION:Av. de la Gare 23\, 1450 Sainte-Croix
CATEGORIES:Saison 2025/26
END:VEVENT
BEGIN:VEVENT
DTSTAMP:20260424T115004Z
DTSTART;TZID=Europe/Berlin:20260422T201500
DTEND;TZID=Europe/Berlin:20260422T231500
SUMMARY:ME L5 Gr 4\, Tours 3&4 Yverdon IV vs Ependes II (0)
UID:8cd42620-abb3-4f68-9757-58fda24ad6e3
STATUS:CONFIRMED
LAST-MODIFIED:20260423T165105Z
DESCRIPTION:5ème ligue Hommes Groupe 4\, Tours 3&4\nBegegnungs-Nr: 0\nHeim: Yverdon IV\nGast: Ependes II\n\nAdresse: Avenue des Quatre Marroniers 1\, 1400 Yverdon-les-Bains\n
LOCATION:Avenue des Quatre Marroniers 1\, 1400 Yverdon-les-Bains
CATEGORIES:Saison 2025/26
END:VEVENT
END:VCALENDAR
