BEGIN:VCALENDAR
PRODID:-//nuDatenautomaten//framework iCal4j //DE
VERSION:2.0
CALSCALE:GREGORIAN
BEGIN:VTIMEZONE
TZID:Europe/Berlin
LAST-MODIFIED:20260306T231828Z
TZURL:https://www.tzurl.org/zoneinfo/Europe/Berlin
X-LIC-LOCATION:Europe/Berlin
X-PROLEPTIC-TZNAME:LMT
BEGIN:STANDARD
TZNAME:CET
TZOFFSETFROM:+005328
TZOFFSETTO:+0100
DTSTART:18930401T000000
END:STANDARD
BEGIN:DAYLIGHT
TZNAME:CEST
TZOFFSETFROM:+0100
TZOFFSETTO:+0200
DTSTART:19160430T230000
RDATE:19400401T020000
RDATE:19430329T020000
RDATE:19460414T020000
RDATE:19470406T030000
RDATE:19480418T020000
RDATE:19490410T020000
RDATE:19800406T020000
END:DAYLIGHT
BEGIN:STANDARD
TZNAME:CET
TZOFFSETFROM:+0200
TZOFFSETTO:+0100
DTSTART:19161001T010000
RDATE:19421102T030000
RDATE:19431004T030000
RDATE:19441002T030000
RDATE:19451118T030000
RDATE:19461007T030000
END:STANDARD
BEGIN:DAYLIGHT
TZNAME:CEST
TZOFFSETFROM:+0100
TZOFFSETTO:+0200
DTSTART:19170416T020000
RRULE:FREQ=YEARLY;UNTIL=19180415T010000Z;BYMONTH=4;BYDAY=3MO
END:DAYLIGHT
BEGIN:STANDARD
TZNAME:CET
TZOFFSETFROM:+0200
TZOFFSETTO:+0100
DTSTART:19170917T030000
RRULE:FREQ=YEARLY;UNTIL=19180916T010000Z;BYMONTH=9;BYDAY=3MO
END:STANDARD
BEGIN:DAYLIGHT
TZNAME:CEST
TZOFFSETFROM:+0100
TZOFFSETTO:+0200
DTSTART:19440403T020000
RRULE:FREQ=YEARLY;UNTIL=19450402T010000Z;BYMONTH=4;BYDAY=1MO
END:DAYLIGHT
BEGIN:DAYLIGHT
TZNAME:CEMT
TZOFFSETFROM:+0200
TZOFFSETTO:+0300
DTSTART:19450524T020000
RDATE:19470511T030000
END:DAYLIGHT
BEGIN:DAYLIGHT
TZNAME:CEST
TZOFFSETFROM:+0300
TZOFFSETTO:+0200
DTSTART:19450924T030000
RDATE:19470629T030000
END:DAYLIGHT
BEGIN:STANDARD
TZNAME:CET
TZOFFSETFROM:+0100
TZOFFSETTO:+0100
DTSTART:19460101T000000
RDATE:19800101T000000
END:STANDARD
BEGIN:STANDARD
TZNAME:CET
TZOFFSETFROM:+0200
TZOFFSETTO:+0100
DTSTART:19471005T030000
RRULE:FREQ=YEARLY;UNTIL=19491002T010000Z;BYMONTH=10;BYDAY=1SU
END:STANDARD
BEGIN:STANDARD
TZNAME:CET
TZOFFSETFROM:+0200
TZOFFSETTO:+0100
DTSTART:19800928T030000
RRULE:FREQ=YEARLY;UNTIL=19950924T010000Z;BYMONTH=9;BYDAY=-1SU
END:STANDARD
BEGIN:DAYLIGHT
TZNAME:CEST
TZOFFSETFROM:+0100
TZOFFSETTO:+0200
DTSTART:19810329T020000
RRULE:FREQ=YEARLY;BYMONTH=3;BYDAY=-1SU
END:DAYLIGHT
BEGIN:STANDARD
TZNAME:CET
TZOFFSETFROM:+0200
TZOFFSETTO:+0100
DTSTART:19961027T030000
RRULE:FREQ=YEARLY;BYMONTH=10;BYDAY=-1SU
END:STANDARD
END:VTIMEZONE
BEGIN:VEVENT
DTSTAMP:20260424T191151Z
DTSTART;TZID=Europe/Berlin:20250912T200000
DTEND;TZID=Europe/Berlin:20250912T230000
SUMMARY:HE 6. Liga Gr. 1 Binningen IV vs Old Boys Basel IV (null)
UID:9fa1a3b9-b681-49bb-8878-20324bd93402
STATUS:CONFIRMED
LAST-MODIFIED:20250918T095602Z
DESCRIPTION:6. Liga Herren Gruppe 1\nBegegnungs-Nr: null\nHeim: Binningen IV\nGast: Old Boys Basel IV\n\nAdresse: Rottmannsbodenstr./Neusatzweg\, 4102 Binningen\n
LOCATION:Rottmannsbodenstr./Neusatzweg\, 4102 Binningen
CATEGORIES:Saison 2025/26
END:VEVENT
BEGIN:VEVENT
DTSTAMP:20260424T191151Z
DTSTART;TZID=Europe/Berlin:20251017T200000
DTEND;TZID=Europe/Berlin:20251017T230000
SUMMARY:HE 6. Liga Gr. 1 Binningen IV vs Aesch V (null)
UID:cb68c28c-99b5-44b9-859c-98797b5253ae
STATUS:CONFIRMED
LAST-MODIFIED:20251020T113028Z
DESCRIPTION:6. Liga Herren Gruppe 1\nBegegnungs-Nr: null\nHeim: Binningen IV\nGast: Aesch V\n\nAdresse: Rottmannsbodenstr./Neusatzweg\, 4102 Binningen\n
LOCATION:Rottmannsbodenstr./Neusatzweg\, 4102 Binningen
CATEGORIES:Saison 2025/26
END:VEVENT
BEGIN:VEVENT
DTSTAMP:20260424T191151Z
DTSTART;TZID=Europe/Berlin:20251113T200000
DTEND;TZID=Europe/Berlin:20251113T230000
SUMMARY:HE 6. Liga Gr. 1 Binningen IV vs KV Liestal V (null)
UID:a3dc3aa2-d6ff-4ce6-8897-874c3118c559
STATUS:CONFIRMED
LAST-MODIFIED:20251119T123246Z
DESCRIPTION:6. Liga Herren Gruppe 1\nBegegnungs-Nr: null\nHeim: Binningen IV\nGast: KV Liestal V\n\nAdresse: Rottmannsbodenstr./Neusatzweg\, 4102 Binningen\n
LOCATION:Rottmannsbodenstr./Neusatzweg\, 4102 Binningen
CATEGORIES:Saison 2025/26
END:VEVENT
BEGIN:VEVENT
DTSTAMP:20260424T191151Z
DTSTART;TZID=Europe/Berlin:20260109T200000
DTEND;TZID=Europe/Berlin:20260109T230000
SUMMARY:HE 6. Liga Gr. 1 Binningen IV vs Oberwil VII (null)
UID:7ab8be92-b19a-4351-b0ba-3998d2789600
STATUS:CONFIRMED
LAST-MODIFIED:20260115T095032Z
DESCRIPTION:6. Liga Herren Gruppe 1\nBegegnungs-Nr: null\nHeim: Binningen IV\nGast: Oberwil VII\n\nAdresse: Rottmannsbodenstr./Neusatzweg\, 4102 Binningen\n
LOCATION:Rottmannsbodenstr./Neusatzweg\, 4102 Binningen
CATEGORIES:Saison 2025/26
END:VEVENT
BEGIN:VEVENT
DTSTAMP:20260424T191151Z
DTSTART;TZID=Europe/Berlin:20260130T200000
DTEND;TZID=Europe/Berlin:20260130T230000
SUMMARY:HE 6. Liga Gr. 1 Binningen IV vs Allschwil (null)
UID:0e5db721-c987-48e5-914a-2591ce54a428
STATUS:CONFIRMED
LAST-MODIFIED:20260203T141618Z
DESCRIPTION:6. Liga Herren Gruppe 1\nBegegnungs-Nr: null\nHeim: Binningen IV\nGast: Allschwil\n\nAdresse: Rottmannsbodenstr./Neusatzweg\, 4102 Binningen\n
LOCATION:Rottmannsbodenstr./Neusatzweg\, 4102 Binningen
CATEGORIES:Saison 2025/26
END:VEVENT
BEGIN:VEVENT
DTSTAMP:20260424T191151Z
DTSTART;TZID=Europe/Berlin:20260313T200000
DTEND;TZID=Europe/Berlin:20260313T230000
SUMMARY:HE 6. Liga Gr. 1 Binningen IV vs Basel XII (null)
UID:696c939e-7c42-4c68-9649-f2579ad4c098
STATUS:CONFIRMED
LAST-MODIFIED:20260420T134451Z
DESCRIPTION:6. Liga Herren Gruppe 1\nBegegnungs-Nr: null\nHeim: Binningen IV\nGast: Basel XII\n\nAdresse: Rottmannsbodenstr./Neusatzweg\, 4102 Binningen\n
LOCATION:Rottmannsbodenstr./Neusatzweg\, 4102 Binningen
CATEGORIES:Saison 2025/26
END:VEVENT
BEGIN:VEVENT
DTSTAMP:20260424T191151Z
DTSTART;TZID=Europe/Berlin:20260320T200000
DTEND;TZID=Europe/Berlin:20260320T230000
SUMMARY:HE 6. Liga Gr. 1 Binningen IV vs Copains Birsfelden V (null)
UID:cd46d7f0-1068-4e9b-b736-3237a5eafdb2
STATUS:CONFIRMED
LAST-MODIFIED:20260416T094315Z
DESCRIPTION:6. Liga Herren Gruppe 1\nBegegnungs-Nr: null\nHeim: Binningen IV\nGast: Copains Birsfelden V\n\nAdresse: Rottmannsbodenstr./Neusatzweg\, 4102 Binningen\n
LOCATION:Rottmannsbodenstr./Neusatzweg\, 4102 Binningen
CATEGORIES:Saison 2025/26
END:VEVENT
BEGIN:VEVENT
DTSTAMP:20260424T191151Z
DTSTART;TZID=Europe/Berlin:20250825T193000
DTEND;TZID=Europe/Berlin:20250825T223000
SUMMARY:HE 6. Liga Gr. 1 Oberwil VII vs Binningen IV (null)
UID:05127af7-a4d8-435a-9bc4-d68d7de0d5eb
STATUS:CONFIRMED
LAST-MODIFIED:20250826T122555Z
DESCRIPTION:6. Liga Herren Gruppe 1\nBegegnungs-Nr: null\nHeim: Oberwil VII\nGast: Binningen IV\n\nAdresse: Schulstrasse\, 4104 Oberwil\n
LOCATION:Schulstrasse\, 4104 Oberwil
CATEGORIES:Saison 2025/26
END:VEVENT
BEGIN:VEVENT
DTSTAMP:20260424T191151Z
DTSTART;TZID=Europe/Berlin:20250919T190000
DTEND;TZID=Europe/Berlin:20250919T220000
SUMMARY:HE 6. Liga Gr. 1 Allschwil vs Binningen IV (null)
UID:c9ca7668-4919-40bc-8258-961d90684cba
STATUS:CONFIRMED
LAST-MODIFIED:20250926T124015Z
DESCRIPTION:6. Liga Herren Gruppe 1\nBegegnungs-Nr: null\nHeim: Allschwil\nGast: Binningen IV\n\nAdresse: Schönenbuchstrasse 12\, 4123 Allschwil\n
LOCATION:Schönenbuchstrasse 12\, 4123 Allschwil
CATEGORIES:Saison 2025/26
END:VEVENT
BEGIN:VEVENT
DTSTAMP:20260424T191151Z
DTSTART;TZID=Europe/Berlin:20251216T191500
DTEND;TZID=Europe/Berlin:20251216T221500
SUMMARY:HE 6. Liga Gr. 1 Copains Birsfelden V vs Binningen IV (null)
UID:3c83079c-3e15-4c6a-bfe0-5a3a7a64e58b
STATUS:CONFIRMED
LAST-MODIFIED:20251217T080852Z
DESCRIPTION:6. Liga Herren Gruppe 1\nBegegnungs-Nr: null\nHeim: Copains Birsfelden V\nGast: Binningen IV\n\nAdresse: Wartenbergstrasse (Hintereingang)\, 4127 Birsfelden\n
LOCATION:Wartenbergstrasse (Hintereingang)\, 4127 Birsfelden
CATEGORIES:Saison 2025/26
END:VEVENT
BEGIN:VEVENT
DTSTAMP:20260424T191151Z
DTSTART;TZID=Europe/Berlin:20251128T200000
DTEND;TZID=Europe/Berlin:20251128T230000
SUMMARY:HE 6. Liga Gr. 1 Basel XII vs Binningen IV (null)
UID:25cca7d3-a3df-48c0-9e25-a28a1d6a6f39
STATUS:CONFIRMED
LAST-MODIFIED:20251201T142108Z
DESCRIPTION:6. Liga Herren Gruppe 1\nBegegnungs-Nr: null\nHeim: Basel XII\nGast: Binningen IV\n\nAdresse: Schwarzwaldallee 107\, 4058 Basel\n
LOCATION:Schwarzwaldallee 107\, 4058 Basel
CATEGORIES:Saison 2025/26
END:VEVENT
BEGIN:VEVENT
DTSTAMP:20260424T191151Z
DTSTART;TZID=Europe/Berlin:20260123T193000
DTEND;TZID=Europe/Berlin:20260123T223000
SUMMARY:HE 6. Liga Gr. 1 Old Boys Basel IV vs Binningen IV (null)
UID:2362a272-e924-4dc8-a91a-60b4d31952ce
STATUS:CONFIRMED
LAST-MODIFIED:20260130T135702Z
DESCRIPTION:6. Liga Herren Gruppe 1\nBegegnungs-Nr: null\nHeim: Old Boys Basel IV\nGast: Binningen IV\n\nAdresse: 5 Rue Saint-Exupéry\, \, 683020 St. Louis\n
LOCATION:5 Rue Saint-Exupéry\, \, 683020 St. Louis
CATEGORIES:Saison 2025/26
END:VEVENT
BEGIN:VEVENT
DTSTAMP:20260424T191151Z
DTSTART;TZID=Europe/Berlin:20260206T193000
DTEND;TZID=Europe/Berlin:20260206T223000
SUMMARY:HE 6. Liga Gr. 1 Aesch V vs Binningen IV (null)
UID:ab039901-21a8-4f53-86a0-602fd5219567
STATUS:CONFIRMED
LAST-MODIFIED:20260211T100525Z
DESCRIPTION:6. Liga Herren Gruppe 1\nBegegnungs-Nr: null\nHeim: Aesch V\nGast: Binningen IV\n\nAdresse: Dornacherstrasse\, 4147 Aesch\n
LOCATION:Dornacherstrasse\, 4147 Aesch
CATEGORIES:Saison 2025/26
END:VEVENT
BEGIN:VEVENT
DTSTAMP:20260424T191151Z
DTSTART;TZID=Europe/Berlin:20260305T200000
DTEND;TZID=Europe/Berlin:20260305T230000
SUMMARY:HE 6. Liga Gr. 1 KV Liestal V vs Binningen IV (null)
UID:7e4458df-b695-481c-81df-a49e4eb32139
STATUS:CONFIRMED
LAST-MODIFIED:20260313T125724Z
DESCRIPTION:6. Liga Herren Gruppe 1\nBegegnungs-Nr: null\nHeim: KV Liestal V\nGast: Binningen IV\n\nAdresse: Büchelistrasse\, 4410 Liestal\n
LOCATION:Büchelistrasse\, 4410 Liestal
CATEGORIES:Saison 2025/26
END:VEVENT
END:VCALENDAR
