BEGIN:VCALENDAR
PRODID:-//nuDatenautomaten//framework iCal4j //DE
VERSION:2.0
CALSCALE:GREGORIAN
BEGIN:VTIMEZONE
TZID:Europe/Berlin
LAST-MODIFIED:20260306T231828Z
TZURL:https://www.tzurl.org/zoneinfo/Europe/Berlin
X-LIC-LOCATION:Europe/Berlin
X-PROLEPTIC-TZNAME:LMT
BEGIN:STANDARD
TZNAME:CET
TZOFFSETFROM:+005328
TZOFFSETTO:+0100
DTSTART:18930401T000000
END:STANDARD
BEGIN:DAYLIGHT
TZNAME:CEST
TZOFFSETFROM:+0100
TZOFFSETTO:+0200
DTSTART:19160430T230000
RDATE:19400401T020000
RDATE:19430329T020000
RDATE:19460414T020000
RDATE:19470406T030000
RDATE:19480418T020000
RDATE:19490410T020000
RDATE:19800406T020000
END:DAYLIGHT
BEGIN:STANDARD
TZNAME:CET
TZOFFSETFROM:+0200
TZOFFSETTO:+0100
DTSTART:19161001T010000
RDATE:19421102T030000
RDATE:19431004T030000
RDATE:19441002T030000
RDATE:19451118T030000
RDATE:19461007T030000
END:STANDARD
BEGIN:DAYLIGHT
TZNAME:CEST
TZOFFSETFROM:+0100
TZOFFSETTO:+0200
DTSTART:19170416T020000
RRULE:FREQ=YEARLY;UNTIL=19180415T010000Z;BYMONTH=4;BYDAY=3MO
END:DAYLIGHT
BEGIN:STANDARD
TZNAME:CET
TZOFFSETFROM:+0200
TZOFFSETTO:+0100
DTSTART:19170917T030000
RRULE:FREQ=YEARLY;UNTIL=19180916T010000Z;BYMONTH=9;BYDAY=3MO
END:STANDARD
BEGIN:DAYLIGHT
TZNAME:CEST
TZOFFSETFROM:+0100
TZOFFSETTO:+0200
DTSTART:19440403T020000
RRULE:FREQ=YEARLY;UNTIL=19450402T010000Z;BYMONTH=4;BYDAY=1MO
END:DAYLIGHT
BEGIN:DAYLIGHT
TZNAME:CEMT
TZOFFSETFROM:+0200
TZOFFSETTO:+0300
DTSTART:19450524T020000
RDATE:19470511T030000
END:DAYLIGHT
BEGIN:DAYLIGHT
TZNAME:CEST
TZOFFSETFROM:+0300
TZOFFSETTO:+0200
DTSTART:19450924T030000
RDATE:19470629T030000
END:DAYLIGHT
BEGIN:STANDARD
TZNAME:CET
TZOFFSETFROM:+0100
TZOFFSETTO:+0100
DTSTART:19460101T000000
RDATE:19800101T000000
END:STANDARD
BEGIN:STANDARD
TZNAME:CET
TZOFFSETFROM:+0200
TZOFFSETTO:+0100
DTSTART:19471005T030000
RRULE:FREQ=YEARLY;UNTIL=19491002T010000Z;BYMONTH=10;BYDAY=1SU
END:STANDARD
BEGIN:STANDARD
TZNAME:CET
TZOFFSETFROM:+0200
TZOFFSETTO:+0100
DTSTART:19800928T030000
RRULE:FREQ=YEARLY;UNTIL=19950924T010000Z;BYMONTH=9;BYDAY=-1SU
END:STANDARD
BEGIN:DAYLIGHT
TZNAME:CEST
TZOFFSETFROM:+0100
TZOFFSETTO:+0200
DTSTART:19810329T020000
RRULE:FREQ=YEARLY;BYMONTH=3;BYDAY=-1SU
END:DAYLIGHT
BEGIN:STANDARD
TZNAME:CET
TZOFFSETFROM:+0200
TZOFFSETTO:+0100
DTSTART:19961027T030000
RRULE:FREQ=YEARLY;BYMONTH=10;BYDAY=-1SU
END:STANDARD
END:VTIMEZONE
BEGIN:VEVENT
DTSTAMP:20260424T084029Z
DTSTART;TZID=Europe/Berlin:20250903T200000
DTEND;TZID=Europe/Berlin:20250903T230000
SUMMARY:O40 2. Liga Langnau vs Worb (3)
UID:69b50a73-a08e-4121-87da-e3b578162262
STATUS:CONFIRMED
LAST-MODIFIED:20250907T195057Z
DESCRIPTION:2. Liga O40 \nBegegnungs-Nr: 3\nHeim: Langnau\nGast: Worb\n\nAdresse: Bleicheweg 11\, 3550 Langnau\n
LOCATION:Bleicheweg 11\, 3550 Langnau
CATEGORIES:Saison 2025/26
END:VEVENT
BEGIN:VEVENT
DTSTAMP:20260424T084029Z
DTSTART;TZID=Europe/Berlin:20251210T200000
DTEND;TZID=Europe/Berlin:20251210T230000
SUMMARY:O40 2. Liga Langnau vs Thun (26)
UID:f2720171-287f-4968-a23b-bcf04bf11c81
STATUS:CONFIRMED
LAST-MODIFIED:20251216T121028Z
DESCRIPTION:2. Liga O40 \nBegegnungs-Nr: 26\nHeim: Langnau\nGast: Thun\n\nAdresse: Bleicheweg 11\, 3550 Langnau\n
LOCATION:Bleicheweg 11\, 3550 Langnau
CATEGORIES:Saison 2025/26
END:VEVENT
BEGIN:VEVENT
DTSTAMP:20260424T084029Z
DTSTART;TZID=Europe/Berlin:20251126T200000
DTEND;TZID=Europe/Berlin:20251126T230000
SUMMARY:O40 2. Liga Langnau vs Royal Bern (21)
UID:c38cadf1-6df1-4938-8ba3-305c88873206
STATUS:CONFIRMED
LAST-MODIFIED:20251207T182307Z
DESCRIPTION:2. Liga O40 \nBegegnungs-Nr: 21\nHeim: Langnau\nGast: Royal Bern\n\nAdresse: Bleicheweg 11\, 3550 Langnau\n
LOCATION:Bleicheweg 11\, 3550 Langnau
CATEGORIES:Saison 2025/26
END:VEVENT
BEGIN:VEVENT
DTSTAMP:20260424T084029Z
DTSTART;TZID=Europe/Berlin:20251015T200000
DTEND;TZID=Europe/Berlin:20251015T230000
SUMMARY:O40 2. Liga Langnau vs Bern II (11)
UID:32109cc8-f6e5-4ec1-98b0-b7ace3fd936a
STATUS:CONFIRMED
LAST-MODIFIED:20251016T191059Z
DESCRIPTION:2. Liga O40 \nBegegnungs-Nr: 11\nHeim: Langnau\nGast: Bern II\n\nAdresse: Bleicheweg 11\, 3550 Langnau\n
LOCATION:Bleicheweg 11\, 3550 Langnau
CATEGORIES:Saison 2025/26
END:VEVENT
BEGIN:VEVENT
DTSTAMP:20260424T084029Z
DTSTART;TZID=Europe/Berlin:20260228T140000
DTEND;TZID=Europe/Berlin:20260228T170000
SUMMARY:O40 2. Liga Langnau vs Burgdorf III (18)
UID:05b81cea-0314-459a-b7cf-08b3ab6b59f0
STATUS:CONFIRMED
LAST-MODIFIED:20260302T144949Z
DESCRIPTION:2. Liga O40 \nBegegnungs-Nr: 18\nHeim: Langnau\nGast: Burgdorf III\n\nAdresse: Bleicheweg 11\, 3550 Langnau\n
LOCATION:Bleicheweg 11\, 3550 Langnau
CATEGORIES:Saison 2025/26
END:VEVENT
BEGIN:VEVENT
DTSTAMP:20260424T084029Z
DTSTART;TZID=Europe/Berlin:20260221T140000
DTEND;TZID=Europe/Berlin:20260221T170000
SUMMARY:O40 2. Liga Langnau vs Port II (15)
UID:0c6c00bd-6fde-409d-8348-d71a68ca52ab
STATUS:CONFIRMED
LAST-MODIFIED:20260224T075719Z
DESCRIPTION:2. Liga O40 \nBegegnungs-Nr: 15\nHeim: Langnau\nGast: Port II\n\nAdresse: Bleicheweg 11\, 3550 Langnau\n
LOCATION:Bleicheweg 11\, 3550 Langnau
CATEGORIES:Saison 2025/26
END:VEVENT
BEGIN:VEVENT
DTSTAMP:20260424T084029Z
DTSTART;TZID=Europe/Berlin:20260128T200000
DTEND;TZID=Europe/Berlin:20260128T230000
SUMMARY:O40 2. Liga Langnau vs Ostermundigen (7)
UID:7106c937-aa9e-4677-97d7-57755c85343c
STATUS:CONFIRMED
LAST-MODIFIED:20260217T212502Z
DESCRIPTION:2. Liga O40 \nBegegnungs-Nr: 7\nHeim: Langnau\nGast: Ostermundigen\n\nAdresse: Bleicheweg 11\, 3550 Langnau\n
LOCATION:Bleicheweg 11\, 3550 Langnau
CATEGORIES:Saison 2025/26
END:VEVENT
BEGIN:VEVENT
DTSTAMP:20260424T084029Z
DTSTART;TZID=Europe/Berlin:20251007T193000
DTEND;TZID=Europe/Berlin:20251007T223000
SUMMARY:O40 2. Liga Ostermundigen vs Langnau (7)
UID:79dc3d6c-c419-4e34-818d-ba93c5fccc80
STATUS:CONFIRMED
LAST-MODIFIED:20251009T193554Z
DESCRIPTION:2. Liga O40 \nBegegnungs-Nr: 7\nHeim: Ostermundigen\nGast: Langnau\n\nAdresse: Dennigkofenweg 169\, 3072 Ostermundigen\n
LOCATION:Dennigkofenweg 169\, 3072 Ostermundigen
CATEGORIES:Saison 2025/26
END:VEVENT
BEGIN:VEVENT
DTSTAMP:20260424T084029Z
DTSTART;TZID=Europe/Berlin:20251121T193000
DTEND;TZID=Europe/Berlin:20251121T223000
SUMMARY:O40 2. Liga Burgdorf III vs Langnau (18)
UID:237c1fc6-96f8-4dad-afe3-c1edfceaa45e
STATUS:CONFIRMED
LAST-MODIFIED:20251122T091235Z
DESCRIPTION:2. Liga O40 \nBegegnungs-Nr: 18\nHeim: Burgdorf III\nGast: Langnau\n\nAdresse: Pestalozzistrasse 69\, 3400 Burgdorf\n
LOCATION:Pestalozzistrasse 69\, 3400 Burgdorf
CATEGORIES:Saison 2025/26
END:VEVENT
BEGIN:VEVENT
DTSTAMP:20260424T084029Z
DTSTART;TZID=Europe/Berlin:20251104T194500
DTEND;TZID=Europe/Berlin:20251104T224500
SUMMARY:O40 2. Liga Port II vs Langnau (15)
UID:dd68f826-716c-4ed2-885d-d67fdcfafd4a
STATUS:CONFIRMED
LAST-MODIFIED:20251115T172902Z
DESCRIPTION:2. Liga O40 \nBegegnungs-Nr: 15\nHeim: Port II\nGast: Langnau\n\nAdresse: Allmendstrasse 23\, 2562 Port\n
LOCATION:Allmendstrasse 23\, 2562 Port
CATEGORIES:Saison 2025/26
END:VEVENT
BEGIN:VEVENT
DTSTAMP:20260424T084029Z
DTSTART;TZID=Europe/Berlin:20260321T160000
DTEND;TZID=Europe/Berlin:20260321T190000
SUMMARY:O40 2. Liga Thun vs Langnau (26)
UID:06cf92b6-305b-494a-bd3e-0c2dba51dcb0
STATUS:CONFIRMED
LAST-MODIFIED:20260327T144526Z
DESCRIPTION:2. Liga O40 \nBegegnungs-Nr: 26\nHeim: Thun\nGast: Langnau\n\nAdresse: Hallerstrasse 28\, 3604 Thun\n
LOCATION:Hallerstrasse 28\, 3604 Thun
CATEGORIES:Saison 2025/26
END:VEVENT
BEGIN:VEVENT
DTSTAMP:20260424T084029Z
DTSTART;TZID=Europe/Berlin:20260318T194500
DTEND;TZID=Europe/Berlin:20260318T224500
SUMMARY:O40 2. Liga Royal Bern vs Langnau (21)
UID:2a92332b-ab6c-464a-8abb-c9cd98febd92
STATUS:CONFIRMED
LAST-MODIFIED:20260327T144433Z
DESCRIPTION:2. Liga O40 \nBegegnungs-Nr: 21\nHeim: Royal Bern\nGast: Langnau\n\nAdresse: Dändlikerweg 60\, 3014 Bern\n
LOCATION:Dändlikerweg 60\, 3014 Bern
CATEGORIES:Saison 2025/26
END:VEVENT
BEGIN:VEVENT
DTSTAMP:20260424T084029Z
DTSTART;TZID=Europe/Berlin:20260212T200000
DTEND;TZID=Europe/Berlin:20260212T230000
SUMMARY:O40 2. Liga Bern II vs Langnau (11)
UID:26f93581-be9a-45f1-8afb-bc6f0243f98b
STATUS:CONFIRMED
LAST-MODIFIED:20260217T212446Z
DESCRIPTION:2. Liga O40 \nBegegnungs-Nr: 11\nHeim: Bern II\nGast: Langnau\n\nAdresse: Mädergutstrasse 58\, 3018 Bern\n
LOCATION:Mädergutstrasse 58\, 3018 Bern
CATEGORIES:Saison 2025/26
END:VEVENT
BEGIN:VEVENT
DTSTAMP:20260424T084029Z
DTSTART;TZID=Europe/Berlin:20260116T194500
DTEND;TZID=Europe/Berlin:20260116T224500
SUMMARY:O40 2. Liga Worb vs Langnau (3)
UID:1813b7bb-0f13-48b5-be4a-f0fc1611b63c
STATUS:CONFIRMED
LAST-MODIFIED:20260125T002856Z
DESCRIPTION:2. Liga O40 \nBegegnungs-Nr: 3\nHeim: Worb\nGast: Langnau\n\nAdresse: Rosenweg 9\, 3075 Rüfenacht BE\n
LOCATION:Rosenweg 9\, 3075 Rüfenacht BE
CATEGORIES:Saison 2025/26
END:VEVENT
END:VCALENDAR
