BEGIN:VCALENDAR
PRODID:-//nuDatenautomaten//framework iCal4j //DE
VERSION:2.0
CALSCALE:GREGORIAN
BEGIN:VTIMEZONE
TZID:Europe/Berlin
LAST-MODIFIED:20260306T231828Z
TZURL:https://www.tzurl.org/zoneinfo/Europe/Berlin
X-LIC-LOCATION:Europe/Berlin
X-PROLEPTIC-TZNAME:LMT
BEGIN:STANDARD
TZNAME:CET
TZOFFSETFROM:+005328
TZOFFSETTO:+0100
DTSTART:18930401T000000
END:STANDARD
BEGIN:DAYLIGHT
TZNAME:CEST
TZOFFSETFROM:+0100
TZOFFSETTO:+0200
DTSTART:19160430T230000
RDATE:19400401T020000
RDATE:19430329T020000
RDATE:19460414T020000
RDATE:19470406T030000
RDATE:19480418T020000
RDATE:19490410T020000
RDATE:19800406T020000
END:DAYLIGHT
BEGIN:STANDARD
TZNAME:CET
TZOFFSETFROM:+0200
TZOFFSETTO:+0100
DTSTART:19161001T010000
RDATE:19421102T030000
RDATE:19431004T030000
RDATE:19441002T030000
RDATE:19451118T030000
RDATE:19461007T030000
END:STANDARD
BEGIN:DAYLIGHT
TZNAME:CEST
TZOFFSETFROM:+0100
TZOFFSETTO:+0200
DTSTART:19170416T020000
RRULE:FREQ=YEARLY;UNTIL=19180415T010000Z;BYMONTH=4;BYDAY=3MO
END:DAYLIGHT
BEGIN:STANDARD
TZNAME:CET
TZOFFSETFROM:+0200
TZOFFSETTO:+0100
DTSTART:19170917T030000
RRULE:FREQ=YEARLY;UNTIL=19180916T010000Z;BYMONTH=9;BYDAY=3MO
END:STANDARD
BEGIN:DAYLIGHT
TZNAME:CEST
TZOFFSETFROM:+0100
TZOFFSETTO:+0200
DTSTART:19440403T020000
RRULE:FREQ=YEARLY;UNTIL=19450402T010000Z;BYMONTH=4;BYDAY=1MO
END:DAYLIGHT
BEGIN:DAYLIGHT
TZNAME:CEMT
TZOFFSETFROM:+0200
TZOFFSETTO:+0300
DTSTART:19450524T020000
RDATE:19470511T030000
END:DAYLIGHT
BEGIN:DAYLIGHT
TZNAME:CEST
TZOFFSETFROM:+0300
TZOFFSETTO:+0200
DTSTART:19450924T030000
RDATE:19470629T030000
END:DAYLIGHT
BEGIN:STANDARD
TZNAME:CET
TZOFFSETFROM:+0100
TZOFFSETTO:+0100
DTSTART:19460101T000000
RDATE:19800101T000000
END:STANDARD
BEGIN:STANDARD
TZNAME:CET
TZOFFSETFROM:+0200
TZOFFSETTO:+0100
DTSTART:19471005T030000
RRULE:FREQ=YEARLY;UNTIL=19491002T010000Z;BYMONTH=10;BYDAY=1SU
END:STANDARD
BEGIN:STANDARD
TZNAME:CET
TZOFFSETFROM:+0200
TZOFFSETTO:+0100
DTSTART:19800928T030000
RRULE:FREQ=YEARLY;UNTIL=19950924T010000Z;BYMONTH=9;BYDAY=-1SU
END:STANDARD
BEGIN:DAYLIGHT
TZNAME:CEST
TZOFFSETFROM:+0100
TZOFFSETTO:+0200
DTSTART:19810329T020000
RRULE:FREQ=YEARLY;BYMONTH=3;BYDAY=-1SU
END:DAYLIGHT
BEGIN:STANDARD
TZNAME:CET
TZOFFSETFROM:+0200
TZOFFSETTO:+0100
DTSTART:19961027T030000
RRULE:FREQ=YEARLY;BYMONTH=10;BYDAY=-1SU
END:STANDARD
END:VTIMEZONE
BEGIN:VEVENT
DTSTAMP:20260424T134200Z
DTSTART;TZID=Europe/Berlin:20251006T194500
DTEND;TZID=Europe/Berlin:20251006T224500
SUMMARY:Ligue 5 Gr.2 Ph.A Versoix V vs Châtelaine IX (10)
UID:e9321de4-d565-4fad-963f-8164c409dc4c
STATUS:CONFIRMED
LAST-MODIFIED:20251006T162234Z
DESCRIPTION:5ème ligue Hommes Gr.2 Phase A\nBegegnungs-Nr: 10\nHeim: Versoix V\nGast: Châtelaine IX\n\nAdresse: Chemin Ami-Argand 40\, 1290 Versoix\n
LOCATION:Chemin Ami-Argand 40\, 1290 Versoix
CATEGORIES:Saison 2025/26
END:VEVENT
BEGIN:VEVENT
DTSTAMP:20260424T134200Z
DTSTART;TZID=Europe/Berlin:20251201T194500
DTEND;TZID=Europe/Berlin:20251201T224500
SUMMARY:Ligue 5 Gr.2 Ph.A Versoix V vs Silver Star IX (28)
UID:7c6e5c4e-4a27-44e8-8c6d-8d87597cd0ba
STATUS:CONFIRMED
LAST-MODIFIED:20251202T084633Z
DESCRIPTION:5ème ligue Hommes Gr.2 Phase A\nBegegnungs-Nr: 28\nHeim: Versoix V\nGast: Silver Star IX\n\nAdresse: Chemin Ami-Argand 40\, 1290 Versoix\n
LOCATION:Chemin Ami-Argand 40\, 1290 Versoix
CATEGORIES:Saison 2025/26
END:VEVENT
BEGIN:VEVENT
DTSTAMP:20260424T134200Z
DTSTART;TZID=Europe/Berlin:20251117T194500
DTEND;TZID=Europe/Berlin:20251117T224500
SUMMARY:Ligue 5 Gr.2 Ph.A Versoix V vs Bernex VI (22)
UID:5129b9a3-6b7b-4ebc-8e5a-c31814920f49
STATUS:CONFIRMED
LAST-MODIFIED:20251118T081106Z
DESCRIPTION:5ème ligue Hommes Gr.2 Phase A\nBegegnungs-Nr: 22\nHeim: Versoix V\nGast: Bernex VI\n\nAdresse: Chemin Ami-Argand 40\, 1290 Versoix\n
LOCATION:Chemin Ami-Argand 40\, 1290 Versoix
CATEGORIES:Saison 2025/26
END:VEVENT
BEGIN:VEVENT
DTSTAMP:20260424T134200Z
DTSTART;TZID=Europe/Berlin:20251110T194500
DTEND;TZID=Europe/Berlin:20251110T224500
SUMMARY:Ligue 5 Gr.2 Ph.A Versoix V vs Veyrier V (21)
UID:6c590bfd-6a48-4260-98dd-236b8ef9e9a3
STATUS:CONFIRMED
LAST-MODIFIED:20251111T213640Z
DESCRIPTION:5ème ligue Hommes Gr.2 Phase A\nBegegnungs-Nr: 21\nHeim: Versoix V\nGast: Veyrier V\n
LOCATION:
CATEGORIES:Saison 2025/26
END:VEVENT
BEGIN:VEVENT
DTSTAMP:20260424T134200Z
DTSTART;TZID=Europe/Berlin:20250901T194500
DTEND;TZID=Europe/Berlin:20250901T224500
SUMMARY:Ligue 5 Gr.2 Ph.A Versoix V vs Grand-Saconnex V (1)
UID:43274384-f55d-4e07-a4f3-1ee067d16e85
STATUS:CONFIRMED
LAST-MODIFIED:20250902T073754Z
DESCRIPTION:5ème ligue Hommes Gr.2 Phase A\nBegegnungs-Nr: 1\nHeim: Versoix V\nGast: Grand-Saconnex V\n
LOCATION:
CATEGORIES:Saison 2025/26
END:VEVENT
BEGIN:VEVENT
DTSTAMP:20260424T134200Z
DTSTART;TZID=Europe/Berlin:20260115T194500
DTEND;TZID=Europe/Berlin:20260115T224500
SUMMARY:Ligue 4 Gr.3 Ph.B Versoix V vs Châtelaine VI (3)
UID:c3a597f4-35ec-4ce1-9539-27c930f8ab67
STATUS:CONFIRMED
LAST-MODIFIED:20260116T094618Z
DESCRIPTION:4ème ligue Hommes Gr.3 Phase B\nBegegnungs-Nr: 3\nHeim: Versoix V\nGast: Châtelaine VI\n
LOCATION:
CATEGORIES:Saison 2025/26
END:VEVENT
BEGIN:VEVENT
DTSTAMP:20260424T134200Z
DTSTART;TZID=Europe/Berlin:20260326T194500
DTEND;TZID=Europe/Berlin:20260326T224500
SUMMARY:Ligue 4 Gr.3 Ph.B Versoix V vs Meyrin VI (23)
UID:3b4797ab-ef8c-40e3-a642-def5a57a5c33
STATUS:CONFIRMED
LAST-MODIFIED:20260328T071353Z
DESCRIPTION:4ème ligue Hommes Gr.3 Phase B\nBegegnungs-Nr: 23\nHeim: Versoix V\nGast: Meyrin VI\n
LOCATION:
CATEGORIES:Saison 2025/26
END:VEVENT
BEGIN:VEVENT
DTSTAMP:20260424T134200Z
DTSTART;TZID=Europe/Berlin:20260319T194500
DTEND;TZID=Europe/Berlin:20260319T224500
SUMMARY:Ligue 4 Gr.3 Ph.B Versoix V vs Silver Star VII (19)
UID:64126430-ee11-4973-ab03-278cb2893a69
STATUS:CONFIRMED
LAST-MODIFIED:20260320T081548Z
DESCRIPTION:4ème ligue Hommes Gr.3 Phase B\nBegegnungs-Nr: 19\nHeim: Versoix V\nGast: Silver Star VII\n
LOCATION:
CATEGORIES:Saison 2025/26
END:VEVENT
BEGIN:VEVENT
DTSTAMP:20260424T134200Z
DTSTART;TZID=Europe/Berlin:20260219T194500
DTEND;TZID=Europe/Berlin:20260219T224500
SUMMARY:Ligue 4 Gr.3 Ph.B Versoix V vs Collex-Bossy (14)
UID:39cdce7c-ebf5-4ba2-b52c-a257f5913254
STATUS:CONFIRMED
LAST-MODIFIED:20260220T111640Z
DESCRIPTION:4ème ligue Hommes Gr.3 Phase B\nBegegnungs-Nr: 14\nHeim: Versoix V\nGast: Collex-Bossy\n
LOCATION:
CATEGORIES:Saison 2025/26
END:VEVENT
BEGIN:VEVENT
DTSTAMP:20260424T134200Z
DTSTART;TZID=Europe/Berlin:20260212T194500
DTEND;TZID=Europe/Berlin:20260212T224500
SUMMARY:Ligue 4 Gr.3 Ph.B Versoix V vs Puplinge (10)
UID:47a6352c-e9c6-47d3-9745-039d130ebb73
STATUS:CONFIRMED
LAST-MODIFIED:20260213T083117Z
DESCRIPTION:4ème ligue Hommes Gr.3 Phase B\nBegegnungs-Nr: 10\nHeim: Versoix V\nGast: Puplinge\n
LOCATION:
CATEGORIES:Saison 2025/26
END:VEVENT
BEGIN:VEVENT
DTSTAMP:20260424T134200Z
DTSTART;TZID=Europe/Berlin:20251127T200000
DTEND;TZID=Europe/Berlin:20251127T230000
SUMMARY:Ligue 5 Gr.2 Ph.A Châtelaine IX vs Versoix V (25)
UID:7d8049a5-c014-4055-a628-7c2cc069a7cb
STATUS:CONFIRMED
LAST-MODIFIED:20251129T091639Z
DESCRIPTION:5ème ligue Hommes Gr.2 Phase A\nBegegnungs-Nr: 25\nHeim: Châtelaine IX\nGast: Versoix V\n\nAdresse: Avenue de Pailly 15\, 1219 Châtelaine\n
LOCATION:Avenue de Pailly 15\, 1219 Châtelaine
CATEGORIES:Saison 2025/26
END:VEVENT
BEGIN:VEVENT
DTSTAMP:20260424T134200Z
DTSTART;TZID=Europe/Berlin:20250926T194500
DTEND;TZID=Europe/Berlin:20250926T224500
SUMMARY:Ligue 5 Gr.2 Ph.A Bernex VI vs Versoix V (7)
UID:c6943283-279f-40bd-b9b8-79f899f85162
STATUS:CONFIRMED
LAST-MODIFIED:20250928T155907Z
DESCRIPTION:5ème ligue Hommes Gr.2 Phase A\nBegegnungs-Nr: 7\nHeim: Bernex VI\nGast: Versoix V\n\nAdresse: Chemin de Saule 120\, 1233 Bernex\n
LOCATION:Chemin de Saule 120\, 1233 Bernex
CATEGORIES:Saison 2025/26
END:VEVENT
BEGIN:VEVENT
DTSTAMP:20260424T134200Z
DTSTART;TZID=Europe/Berlin:20250915T194500
DTEND;TZID=Europe/Berlin:20250915T224500
SUMMARY:Ligue 5 Gr.2 Ph.A Veyrier V vs Versoix V (6)
UID:4e13924c-9bb4-43c4-a923-2e0e37d41225
STATUS:CONFIRMED
LAST-MODIFIED:20250916T191337Z
DESCRIPTION:5ème ligue Hommes Gr.2 Phase A\nBegegnungs-Nr: 6\nHeim: Veyrier V\nGast: Versoix V\n\nAdresse: -\, 1255 Veyrier\n
LOCATION:-\, 1255 Veyrier
CATEGORIES:Saison 2025/26
END:VEVENT
BEGIN:VEVENT
DTSTAMP:20260424T134200Z
DTSTART;TZID=Europe/Berlin:20251027T194500
DTEND;TZID=Europe/Berlin:20251027T224500
SUMMARY:Ligue 5 Gr.2 Ph.A Grand-Saconnex V vs Versoix V (16)
UID:1b59b106-b050-4eec-acb4-cb38a6890a89
STATUS:CONFIRMED
LAST-MODIFIED:20251028T093333Z
DESCRIPTION:5ème ligue Hommes Gr.2 Phase A\nBegegnungs-Nr: 16\nHeim: Grand-Saconnex V\nGast: Versoix V\n
LOCATION:
CATEGORIES:Saison 2025/26
END:VEVENT
BEGIN:VEVENT
DTSTAMP:20260424T134200Z
DTSTART;TZID=Europe/Berlin:20251013T194500
DTEND;TZID=Europe/Berlin:20251013T224500
SUMMARY:Ligue 5 Gr.2 Ph.A Silver Star IX vs Versoix V (13)
UID:61963368-61d1-417a-87a2-ba256f6fec5f
STATUS:CONFIRMED
LAST-MODIFIED:20251014T080736Z
DESCRIPTION:5ème ligue Hommes Gr.2 Phase A\nBegegnungs-Nr: 13\nHeim: Silver Star IX\nGast: Versoix V\n\nAdresse: Rue de Vermont 33\, 1202 Genève\n
LOCATION:Rue de Vermont 33\, 1202 Genève
CATEGORIES:Saison 2025/26
END:VEVENT
BEGIN:VEVENT
DTSTAMP:20260424T134200Z
DTSTART;TZID=Europe/Berlin:20260122T194500
DTEND;TZID=Europe/Berlin:20260122T224500
SUMMARY:Ligue 4 Gr.3 Ph.B Silver Star VII vs Versoix V (4)
UID:6c9d454c-f9cb-4580-a160-2ffec73dc179
STATUS:CONFIRMED
LAST-MODIFIED:20260123T083410Z
DESCRIPTION:4ème ligue Hommes Gr.3 Phase B\nBegegnungs-Nr: 4\nHeim: Silver Star VII\nGast: Versoix V\n
LOCATION:
CATEGORIES:Saison 2025/26
END:VEVENT
BEGIN:VEVENT
DTSTAMP:20260424T134200Z
DTSTART;TZID=Europe/Berlin:20260427T194500
DTEND;TZID=Europe/Berlin:20260427T224500
SUMMARY:Ligue 4 Gr.3 Ph.B Collex-Bossy vs Versoix V (29)
UID:324b7b33-b116-4f4b-8ec0-688adfc86ace
STATUS:CONFIRMED
DESCRIPTION:4ème ligue Hommes Gr.3 Phase B\nBegegnungs-Nr: 29\nHeim: Collex-Bossy\nGast: Versoix V\n
LOCATION:
CATEGORIES:Saison 2025/26
END:VEVENT
BEGIN:VEVENT
DTSTAMP:20260424T134200Z
DTSTART;TZID=Europe/Berlin:20260402T194500
DTEND;TZID=Europe/Berlin:20260402T224500
SUMMARY:Ligue 4 Gr.3 Ph.B Puplinge vs Versoix V (25)
UID:e4cfb07f-6c78-4e76-9311-3fc5cbcb0fa7
STATUS:CONFIRMED
LAST-MODIFIED:20260403T075031Z
DESCRIPTION:4ème ligue Hommes Gr.3 Phase B\nBegegnungs-Nr: 25\nHeim: Puplinge\nGast: Versoix V\n\nAdresse: Chemin de la Brenaz\,  15\, 1241 Puplinge\n
LOCATION:Chemin de la Brenaz\,  15\, 1241 Puplinge
CATEGORIES:Saison 2025/26
END:VEVENT
BEGIN:VEVENT
DTSTAMP:20260424T134200Z
DTSTART;TZID=Europe/Berlin:20260312T200000
DTEND;TZID=Europe/Berlin:20260312T230000
SUMMARY:Ligue 4 Gr.3 Ph.B Châtelaine VI vs Versoix V (18)
UID:57c93b54-7700-402f-a3ce-a36ab5f97633
STATUS:CONFIRMED
LAST-MODIFIED:20260313T073112Z
DESCRIPTION:4ème ligue Hommes Gr.3 Phase B\nBegegnungs-Nr: 18\nHeim: Châtelaine VI\nGast: Versoix V\n
LOCATION:
CATEGORIES:Saison 2025/26
END:VEVENT
BEGIN:VEVENT
DTSTAMP:20260424T134200Z
DTSTART;TZID=Europe/Berlin:20260127T194500
DTEND;TZID=Europe/Berlin:20260127T224500
SUMMARY:Ligue 4 Gr.3 Ph.B Meyrin VI vs Versoix V (8)
UID:e744c84e-d61a-402e-9df5-f9b44614df80
STATUS:CONFIRMED
LAST-MODIFIED:20260128T132642Z
DESCRIPTION:4ème ligue Hommes Gr.3 Phase B\nBegegnungs-Nr: 8\nHeim: Meyrin VI\nGast: Versoix V\n
LOCATION:
CATEGORIES:Saison 2025/26
END:VEVENT
END:VCALENDAR
