BEGIN:VCALENDAR
PRODID:-//nuDatenautomaten//framework iCal4j //DE
VERSION:2.0
CALSCALE:GREGORIAN
BEGIN:VTIMEZONE
TZID:Europe/Berlin
LAST-MODIFIED:20260306T231828Z
TZURL:https://www.tzurl.org/zoneinfo/Europe/Berlin
X-LIC-LOCATION:Europe/Berlin
X-PROLEPTIC-TZNAME:LMT
BEGIN:STANDARD
TZNAME:CET
TZOFFSETFROM:+005328
TZOFFSETTO:+0100
DTSTART:18930401T000000
END:STANDARD
BEGIN:DAYLIGHT
TZNAME:CEST
TZOFFSETFROM:+0100
TZOFFSETTO:+0200
DTSTART:19160430T230000
RDATE:19400401T020000
RDATE:19430329T020000
RDATE:19460414T020000
RDATE:19470406T030000
RDATE:19480418T020000
RDATE:19490410T020000
RDATE:19800406T020000
END:DAYLIGHT
BEGIN:STANDARD
TZNAME:CET
TZOFFSETFROM:+0200
TZOFFSETTO:+0100
DTSTART:19161001T010000
RDATE:19421102T030000
RDATE:19431004T030000
RDATE:19441002T030000
RDATE:19451118T030000
RDATE:19461007T030000
END:STANDARD
BEGIN:DAYLIGHT
TZNAME:CEST
TZOFFSETFROM:+0100
TZOFFSETTO:+0200
DTSTART:19170416T020000
RRULE:FREQ=YEARLY;UNTIL=19180415T010000Z;BYMONTH=4;BYDAY=3MO
END:DAYLIGHT
BEGIN:STANDARD
TZNAME:CET
TZOFFSETFROM:+0200
TZOFFSETTO:+0100
DTSTART:19170917T030000
RRULE:FREQ=YEARLY;UNTIL=19180916T010000Z;BYMONTH=9;BYDAY=3MO
END:STANDARD
BEGIN:DAYLIGHT
TZNAME:CEST
TZOFFSETFROM:+0100
TZOFFSETTO:+0200
DTSTART:19440403T020000
RRULE:FREQ=YEARLY;UNTIL=19450402T010000Z;BYMONTH=4;BYDAY=1MO
END:DAYLIGHT
BEGIN:DAYLIGHT
TZNAME:CEMT
TZOFFSETFROM:+0200
TZOFFSETTO:+0300
DTSTART:19450524T020000
RDATE:19470511T030000
END:DAYLIGHT
BEGIN:DAYLIGHT
TZNAME:CEST
TZOFFSETFROM:+0300
TZOFFSETTO:+0200
DTSTART:19450924T030000
RDATE:19470629T030000
END:DAYLIGHT
BEGIN:STANDARD
TZNAME:CET
TZOFFSETFROM:+0100
TZOFFSETTO:+0100
DTSTART:19460101T000000
RDATE:19800101T000000
END:STANDARD
BEGIN:STANDARD
TZNAME:CET
TZOFFSETFROM:+0200
TZOFFSETTO:+0100
DTSTART:19471005T030000
RRULE:FREQ=YEARLY;UNTIL=19491002T010000Z;BYMONTH=10;BYDAY=1SU
END:STANDARD
BEGIN:STANDARD
TZNAME:CET
TZOFFSETFROM:+0200
TZOFFSETTO:+0100
DTSTART:19800928T030000
RRULE:FREQ=YEARLY;UNTIL=19950924T010000Z;BYMONTH=9;BYDAY=-1SU
END:STANDARD
BEGIN:DAYLIGHT
TZNAME:CEST
TZOFFSETFROM:+0100
TZOFFSETTO:+0200
DTSTART:19810329T020000
RRULE:FREQ=YEARLY;BYMONTH=3;BYDAY=-1SU
END:DAYLIGHT
BEGIN:STANDARD
TZNAME:CET
TZOFFSETFROM:+0200
TZOFFSETTO:+0100
DTSTART:19961027T030000
RRULE:FREQ=YEARLY;BYMONTH=10;BYDAY=-1SU
END:STANDARD
END:VTIMEZONE
BEGIN:VEVENT
DTSTAMP:20260424T114933Z
DTSTART;TZID=Europe/Berlin:20251023T200000
DTEND;TZID=Europe/Berlin:20251023T230000
SUMMARY:S L2 Gr 2 Avry-Rosé vs Lausanne (0)
UID:46c25746-6af4-421b-a5d5-e36a185d42cf
STATUS:CONFIRMED
LAST-MODIFIED:20251024T105359Z
DESCRIPTION:2ème ligue Seniors Groupe 2\nBegegnungs-Nr: 0\nHeim: Avry-Rosé\nGast: Lausanne\n\nAdresse: Route du Château 15\, 1754 Avry-sur-Matran\n
LOCATION:Route du Château 15\, 1754 Avry-sur-Matran
CATEGORIES:Saison 2025/26
END:VEVENT
BEGIN:VEVENT
DTSTAMP:20260424T114933Z
DTSTART;TZID=Europe/Berlin:20251016T200000
DTEND;TZID=Europe/Berlin:20251016T230000
SUMMARY:S L2 Gr 2 Avry-Rosé vs Martigny (0)
UID:251d426a-fe16-4afb-a9b8-9cdb69e3573a
STATUS:CONFIRMED
LAST-MODIFIED:20251016T233439Z
DESCRIPTION:2ème ligue Seniors Groupe 2\nBegegnungs-Nr: 0\nHeim: Avry-Rosé\nGast: Martigny\n\nAdresse: Route du Château 15\, 1754 Avry-sur-Matran\n
LOCATION:Route du Château 15\, 1754 Avry-sur-Matran
CATEGORIES:Saison 2025/26
END:VEVENT
BEGIN:VEVENT
DTSTAMP:20260424T114933Z
DTSTART;TZID=Europe/Berlin:20251204T200000
DTEND;TZID=Europe/Berlin:20251204T230000
SUMMARY:S L2 Gr 2 Avry-Rosé vs Sion (0)
UID:c15b0186-8334-4fcd-9467-4b136c54e4e4
STATUS:CONFIRMED
LAST-MODIFIED:20251205T150844Z
DESCRIPTION:2ème ligue Seniors Groupe 2\nBegegnungs-Nr: 0\nHeim: Avry-Rosé\nGast: Sion\n\nAdresse: Route du Château 15\, 1754 Avry-sur-Matran\n
LOCATION:Route du Château 15\, 1754 Avry-sur-Matran
CATEGORIES:Saison 2025/26
END:VEVENT
BEGIN:VEVENT
DTSTAMP:20260424T114933Z
DTSTART;TZID=Europe/Berlin:20251218T200000
DTEND;TZID=Europe/Berlin:20251218T230000
SUMMARY:S L2 Gr 2 Avry-Rosé vs Yvorne (0)
UID:6cf98b98-d101-47c0-9f58-cbcef2b3a438
STATUS:CONFIRMED
LAST-MODIFIED:20251218T230300Z
DESCRIPTION:2ème ligue Seniors Groupe 2\nBegegnungs-Nr: 0\nHeim: Avry-Rosé\nGast: Yvorne\n\nAdresse: Route du Château 15\, 1754 Avry-sur-Matran\n
LOCATION:Route du Château 15\, 1754 Avry-sur-Matran
CATEGORIES:Saison 2025/26
END:VEVENT
BEGIN:VEVENT
DTSTAMP:20260424T114933Z
DTSTART;TZID=Europe/Berlin:20260108T200000
DTEND;TZID=Europe/Berlin:20260108T230000
SUMMARY:S L2 Gr 2 Avry-Rosé vs Fribourg (0)
UID:1ca6db6d-72a6-4048-92cb-9c3f29fe12a6
STATUS:CONFIRMED
LAST-MODIFIED:20260112T074002Z
DESCRIPTION:2ème ligue Seniors Groupe 2\nBegegnungs-Nr: 0\nHeim: Avry-Rosé\nGast: Fribourg\n\nAdresse: Route du Château 15\, 1754 Avry-sur-Matran\n
LOCATION:Route du Château 15\, 1754 Avry-sur-Matran
CATEGORIES:Saison 2025/26
END:VEVENT
BEGIN:VEVENT
DTSTAMP:20260424T114933Z
DTSTART;TZID=Europe/Berlin:20260129T200000
DTEND;TZID=Europe/Berlin:20260129T230000
SUMMARY:S L2 Gr 2 Martigny vs Avry-Rosé (0)
UID:bcd0e255-3e84-43fc-a3c5-aa55b70f8ed6
STATUS:CONFIRMED
LAST-MODIFIED:20260131T171156Z
DESCRIPTION:2ème ligue Seniors Groupe 2\nBegegnungs-Nr: 0\nHeim: Martigny\nGast: Avry-Rosé\n\nAdresse: Rue des Ecoles 9\, 1920 Martigny\n
LOCATION:Rue des Ecoles 9\, 1920 Martigny
CATEGORIES:Saison 2025/26
END:VEVENT
BEGIN:VEVENT
DTSTAMP:20260424T114933Z
DTSTART;TZID=Europe/Berlin:20260219T200000
DTEND;TZID=Europe/Berlin:20260219T230000
SUMMARY:S L2 Gr 2 Lausanne vs Avry-Rosé (0)
UID:47f84df9-7cbd-47e2-b7d1-5477ff6ed420
STATUS:CONFIRMED
LAST-MODIFIED:20260220T155237Z
DESCRIPTION:2ème ligue Seniors Groupe 2\nBegegnungs-Nr: 0\nHeim: Lausanne\nGast: Avry-Rosé\n\nAdresse: Vaudoise Aréna\, Ch. du Viaduc 14\, 1008 Prilly\n
LOCATION:Vaudoise Aréna\, Ch. du Viaduc 14\, 1008 Prilly
CATEGORIES:Saison 2025/26
END:VEVENT
BEGIN:VEVENT
DTSTAMP:20260424T114933Z
DTSTART;TZID=Europe/Berlin:20260304T193000
DTEND;TZID=Europe/Berlin:20260304T223000
SUMMARY:S L2 Gr 2 Sion vs Avry-Rosé (0)
UID:d952796e-dd89-409a-95f8-c91828a75912
STATUS:CONFIRMED
LAST-MODIFIED:20260305T200308Z
DESCRIPTION:2ème ligue Seniors Groupe 2\nBegegnungs-Nr: 0\nHeim: Sion\nGast: Avry-Rosé\n\nAdresse: Rue du Chanoine-Berchtold 17\, 1950 Sion\n
LOCATION:Rue du Chanoine-Berchtold 17\, 1950 Sion
CATEGORIES:Saison 2025/26
END:VEVENT
BEGIN:VEVENT
DTSTAMP:20260424T114933Z
DTSTART;TZID=Europe/Berlin:20260325T194500
DTEND;TZID=Europe/Berlin:20260325T224500
SUMMARY:S L2 Gr 2 Yvorne vs Avry-Rosé (0)
UID:ce872d62-9166-45bf-b4ae-84349cb57e51
STATUS:CONFIRMED
LAST-MODIFIED:20260326T063157Z
DESCRIPTION:2ème ligue Seniors Groupe 2\nBegegnungs-Nr: 0\nHeim: Yvorne\nGast: Avry-Rosé\n\nAdresse: Les Maisons Neuves 38\, 1853 Yvorne\n
LOCATION:Les Maisons Neuves 38\, 1853 Yvorne
CATEGORIES:Saison 2025/26
END:VEVENT
BEGIN:VEVENT
DTSTAMP:20260424T114933Z
DTSTART;TZID=Europe/Berlin:20250925T191500
DTEND;TZID=Europe/Berlin:20250925T221500
SUMMARY:S L2 Gr 2 Fribourg vs Avry-Rosé (0)
UID:6949d3d6-4d05-4963-940f-eb7dc87b04f9
STATUS:CONFIRMED
LAST-MODIFIED:20250927T150100Z
DESCRIPTION:2ème ligue Seniors Groupe 2\nBegegnungs-Nr: 0\nHeim: Fribourg\nGast: Avry-Rosé\n\nAdresse: Avenue Général Guisan 61\, 1700 Fribourg\n
LOCATION:Avenue Général Guisan 61\, 1700 Fribourg
CATEGORIES:Saison 2025/26
END:VEVENT
END:VCALENDAR
