BEGIN:VCALENDAR
PRODID:-//nuDatenautomaten//framework iCal4j //DE
VERSION:2.0
CALSCALE:GREGORIAN
BEGIN:VTIMEZONE
TZID:Europe/Berlin
LAST-MODIFIED:20260306T231828Z
TZURL:https://www.tzurl.org/zoneinfo/Europe/Berlin
X-LIC-LOCATION:Europe/Berlin
X-PROLEPTIC-TZNAME:LMT
BEGIN:STANDARD
TZNAME:CET
TZOFFSETFROM:+005328
TZOFFSETTO:+0100
DTSTART:18930401T000000
END:STANDARD
BEGIN:DAYLIGHT
TZNAME:CEST
TZOFFSETFROM:+0100
TZOFFSETTO:+0200
DTSTART:19160430T230000
RDATE:19400401T020000
RDATE:19430329T020000
RDATE:19460414T020000
RDATE:19470406T030000
RDATE:19480418T020000
RDATE:19490410T020000
RDATE:19800406T020000
END:DAYLIGHT
BEGIN:STANDARD
TZNAME:CET
TZOFFSETFROM:+0200
TZOFFSETTO:+0100
DTSTART:19161001T010000
RDATE:19421102T030000
RDATE:19431004T030000
RDATE:19441002T030000
RDATE:19451118T030000
RDATE:19461007T030000
END:STANDARD
BEGIN:DAYLIGHT
TZNAME:CEST
TZOFFSETFROM:+0100
TZOFFSETTO:+0200
DTSTART:19170416T020000
RRULE:FREQ=YEARLY;UNTIL=19180415T010000Z;BYMONTH=4;BYDAY=3MO
END:DAYLIGHT
BEGIN:STANDARD
TZNAME:CET
TZOFFSETFROM:+0200
TZOFFSETTO:+0100
DTSTART:19170917T030000
RRULE:FREQ=YEARLY;UNTIL=19180916T010000Z;BYMONTH=9;BYDAY=3MO
END:STANDARD
BEGIN:DAYLIGHT
TZNAME:CEST
TZOFFSETFROM:+0100
TZOFFSETTO:+0200
DTSTART:19440403T020000
RRULE:FREQ=YEARLY;UNTIL=19450402T010000Z;BYMONTH=4;BYDAY=1MO
END:DAYLIGHT
BEGIN:DAYLIGHT
TZNAME:CEMT
TZOFFSETFROM:+0200
TZOFFSETTO:+0300
DTSTART:19450524T020000
RDATE:19470511T030000
END:DAYLIGHT
BEGIN:DAYLIGHT
TZNAME:CEST
TZOFFSETFROM:+0300
TZOFFSETTO:+0200
DTSTART:19450924T030000
RDATE:19470629T030000
END:DAYLIGHT
BEGIN:STANDARD
TZNAME:CET
TZOFFSETFROM:+0100
TZOFFSETTO:+0100
DTSTART:19460101T000000
RDATE:19800101T000000
END:STANDARD
BEGIN:STANDARD
TZNAME:CET
TZOFFSETFROM:+0200
TZOFFSETTO:+0100
DTSTART:19471005T030000
RRULE:FREQ=YEARLY;UNTIL=19491002T010000Z;BYMONTH=10;BYDAY=1SU
END:STANDARD
BEGIN:STANDARD
TZNAME:CET
TZOFFSETFROM:+0200
TZOFFSETTO:+0100
DTSTART:19800928T030000
RRULE:FREQ=YEARLY;UNTIL=19950924T010000Z;BYMONTH=9;BYDAY=-1SU
END:STANDARD
BEGIN:DAYLIGHT
TZNAME:CEST
TZOFFSETFROM:+0100
TZOFFSETTO:+0200
DTSTART:19810329T020000
RRULE:FREQ=YEARLY;BYMONTH=3;BYDAY=-1SU
END:DAYLIGHT
BEGIN:STANDARD
TZNAME:CET
TZOFFSETFROM:+0200
TZOFFSETTO:+0100
DTSTART:19961027T030000
RRULE:FREQ=YEARLY;BYMONTH=10;BYDAY=-1SU
END:STANDARD
END:VTIMEZONE
BEGIN:VEVENT
DTSTAMP:20260424T181615Z
DTSTART;TZID=Europe/Berlin:20260327T193000
DTEND;TZID=Europe/Berlin:20260327T223000
SUMMARY:HE 4. Liga Gr. 4 Bülach IV vs Kloten II (0)
UID:1dc18523-1a16-444c-8d35-c742198493ad
STATUS:CONFIRMED
LAST-MODIFIED:20260401T123414Z
DESCRIPTION:4. Liga Herren Gruppe 4\nBegegnungs-Nr: 0\nHeim: Bülach IV\nGast: Kloten II\n\nAdresse: Schwerzgruebstrasse 28\, 8180 Bülach\n
LOCATION:Schwerzgruebstrasse 28\, 8180 Bülach
CATEGORIES:Saison 2025/26
END:VEVENT
BEGIN:VEVENT
DTSTAMP:20260424T181615Z
DTSTART;TZID=Europe/Berlin:20260417T193000
DTEND;TZID=Europe/Berlin:20260417T223000
SUMMARY:HE 4. Liga Gr. 4 Bülach IV vs Embrachertal II (0)
UID:f2087271-c420-41a4-84c0-9648528bb5bb
STATUS:CONFIRMED
LAST-MODIFIED:20260420T122906Z
DESCRIPTION:4. Liga Herren Gruppe 4\nBegegnungs-Nr: 0\nHeim: Bülach IV\nGast: Embrachertal II\n\nAdresse: Schwerzgruebstrasse 28\, 8180 Bülach\n
LOCATION:Schwerzgruebstrasse 28\, 8180 Bülach
CATEGORIES:Saison 2025/26
END:VEVENT
BEGIN:VEVENT
DTSTAMP:20260424T181615Z
DTSTART;TZID=Europe/Berlin:20250926T193000
DTEND;TZID=Europe/Berlin:20250926T223000
SUMMARY:HE 4. Liga Gr. 4 Bülach IV vs Dietikon-Weiningen II (0)
UID:251d85f5-018f-4fce-9c35-e6bbb001162f
STATUS:CONFIRMED
LAST-MODIFIED:20250930T123211Z
DESCRIPTION:4. Liga Herren Gruppe 4\nBegegnungs-Nr: 0\nHeim: Bülach IV\nGast: Dietikon-Weiningen II\n\nAdresse: Schwerzgruebstrasse 28\, 8180 Bülach\n
LOCATION:Schwerzgruebstrasse 28\, 8180 Bülach
CATEGORIES:Saison 2025/26
END:VEVENT
BEGIN:VEVENT
DTSTAMP:20260424T181615Z
DTSTART;TZID=Europe/Berlin:20250905T193000
DTEND;TZID=Europe/Berlin:20250905T223000
SUMMARY:HE 4. Liga Gr. 4 Bülach IV vs Niederhasli V (0)
UID:065862bb-039c-4130-9e44-998dfa50229f
STATUS:CONFIRMED
LAST-MODIFIED:20250912T084543Z
DESCRIPTION:4. Liga Herren Gruppe 4\nBegegnungs-Nr: 0\nHeim: Bülach IV\nGast: Niederhasli V\n\nAdresse: Schwerzgruebstrasse 28\, 8180 Bülach\n
LOCATION:Schwerzgruebstrasse 28\, 8180 Bülach
CATEGORIES:Saison 2025/26
END:VEVENT
BEGIN:VEVENT
DTSTAMP:20260424T181615Z
DTSTART;TZID=Europe/Berlin:20251031T193000
DTEND;TZID=Europe/Berlin:20251031T223000
SUMMARY:HE 4. Liga Gr. 4 Bülach IV vs Zürich-Affoltern VI (0)
UID:2231681b-23ad-43a3-b586-b47a90b53e7e
STATUS:CONFIRMED
LAST-MODIFIED:20251107T144806Z
DESCRIPTION:4. Liga Herren Gruppe 4\nBegegnungs-Nr: 0\nHeim: Bülach IV\nGast: Zürich-Affoltern VI\n\nAdresse: Schwerzgruebstrasse 28\, 8180 Bülach\n
LOCATION:Schwerzgruebstrasse 28\, 8180 Bülach
CATEGORIES:Saison 2025/26
END:VEVENT
BEGIN:VEVENT
DTSTAMP:20260424T181615Z
DTSTART;TZID=Europe/Berlin:20260109T193000
DTEND;TZID=Europe/Berlin:20260109T223000
SUMMARY:HE 4. Liga Gr. 4 Bülach IV vs Urdorf II (0)
UID:2364bae1-93ce-495c-99f4-884e4da20402
STATUS:CONFIRMED
LAST-MODIFIED:20260112T091757Z
DESCRIPTION:4. Liga Herren Gruppe 4\nBegegnungs-Nr: 0\nHeim: Bülach IV\nGast: Urdorf II\n\nAdresse: Schwerzgruebstrasse 28\, 8180 Bülach\n
LOCATION:Schwerzgruebstrasse 28\, 8180 Bülach
CATEGORIES:Saison 2025/26
END:VEVENT
BEGIN:VEVENT
DTSTAMP:20260424T181615Z
DTSTART;TZID=Europe/Berlin:20260130T193000
DTEND;TZID=Europe/Berlin:20260130T223000
SUMMARY:HE 4. Liga Gr. 4 Bülach IV vs Buchs Zürich II (0)
UID:2b4b520c-b875-45c0-99e1-179bf7a22167
STATUS:CONFIRMED
LAST-MODIFIED:20260204T085054Z
DESCRIPTION:4. Liga Herren Gruppe 4\nBegegnungs-Nr: 0\nHeim: Bülach IV\nGast: Buchs Zürich II\n\nAdresse: Schwerzgruebstrasse 28\, 8180 Bülach\n
LOCATION:Schwerzgruebstrasse 28\, 8180 Bülach
CATEGORIES:Saison 2025/26
END:VEVENT
BEGIN:VEVENT
DTSTAMP:20260424T181615Z
DTSTART;TZID=Europe/Berlin:20260306T200000
DTEND;TZID=Europe/Berlin:20260306T230000
SUMMARY:HE 4. Liga Gr. 4 Dietikon-Weiningen II vs Bülach IV (0)
UID:17109be2-12fa-424e-b64e-542b2d4fcd58
STATUS:CONFIRMED
LAST-MODIFIED:20260313T130856Z
DESCRIPTION:4. Liga Herren Gruppe 4\nBegegnungs-Nr: 0\nHeim: Dietikon-Weiningen II\nGast: Bülach IV\n\nAdresse: Bohnackerstrasse 5\, 8953 Dietikon\n
LOCATION:Bohnackerstrasse 5\, 8953 Dietikon
CATEGORIES:Saison 2025/26
END:VEVENT
BEGIN:VEVENT
DTSTAMP:20260424T181615Z
DTSTART;TZID=Europe/Berlin:20260311T194500
DTEND;TZID=Europe/Berlin:20260311T224500
SUMMARY:HE 4. Liga Gr. 4 Zürich-Affoltern VI vs Bülach IV (0)
UID:7607254c-dcb4-42c1-bc44-fe69629bbeca
STATUS:CONFIRMED
LAST-MODIFIED:20260313T130916Z
DESCRIPTION:4. Liga Herren Gruppe 4\nBegegnungs-Nr: 0\nHeim: Zürich-Affoltern VI\nGast: Bülach IV\n\nAdresse: Fronwaldstr.115\, 8046 Zürich\n
LOCATION:Fronwaldstr.115\, 8046 Zürich
CATEGORIES:Saison 2025/26
END:VEVENT
BEGIN:VEVENT
DTSTAMP:20260424T181615Z
DTSTART;TZID=Europe/Berlin:20250910T201500
DTEND;TZID=Europe/Berlin:20250910T231500
SUMMARY:HE 4. Liga Gr. 4 Urdorf II vs Bülach IV (0)
UID:c9278820-07f8-4932-ae66-4b1f05b6ae30
STATUS:CONFIRMED
LAST-MODIFIED:20250915T083802Z
DESCRIPTION:4. Liga Herren Gruppe 4\nBegegnungs-Nr: 0\nHeim: Urdorf II\nGast: Bülach IV\n\nAdresse: Weihermattstrasse 50\, 8902 Urdorf\n
LOCATION:Weihermattstrasse 50\, 8902 Urdorf
CATEGORIES:Saison 2025/26
END:VEVENT
BEGIN:VEVENT
DTSTAMP:20260424T181615Z
DTSTART;TZID=Europe/Berlin:20250919T201500
DTEND;TZID=Europe/Berlin:20250919T231500
SUMMARY:HE 4. Liga Gr. 4 Buchs Zürich II vs Bülach IV (0)
UID:82f608e7-bbd1-41f6-a648-00dbfa4bb223
STATUS:CONFIRMED
LAST-MODIFIED:20251115T102808Z
DESCRIPTION:4. Liga Herren Gruppe 4\nBegegnungs-Nr: 0\nHeim: Buchs Zürich II\nGast: Bülach IV\n\nAdresse: Drisglerstrasse 3\, 8107 Buchs ZH\n
LOCATION:Drisglerstrasse 3\, 8107 Buchs ZH
CATEGORIES:Saison 2025/26
END:VEVENT
BEGIN:VEVENT
DTSTAMP:20260424T181615Z
DTSTART;TZID=Europe/Berlin:20251105T193000
DTEND;TZID=Europe/Berlin:20251105T223000
SUMMARY:HE 4. Liga Gr. 4 Kloten II vs Bülach IV (0)
UID:673c7af6-7a7d-4442-a5f0-782702af05b8
STATUS:CONFIRMED
LAST-MODIFIED:20251107T144832Z
DESCRIPTION:4. Liga Herren Gruppe 4\nBegegnungs-Nr: 0\nHeim: Kloten II\nGast: Bülach IV\n\nAdresse: Schluefweg 10\, 8302 Kloten\n
LOCATION:Schluefweg 10\, 8302 Kloten
CATEGORIES:Saison 2025/26
END:VEVENT
BEGIN:VEVENT
DTSTAMP:20260424T181615Z
DTSTART;TZID=Europe/Berlin:20251204T200000
DTEND;TZID=Europe/Berlin:20251204T230000
SUMMARY:HE 4. Liga Gr. 4 Embrachertal II vs Bülach IV (0)
UID:93f36ab8-893e-441c-ad7f-511f73684b37
STATUS:CONFIRMED
LAST-MODIFIED:20251205T130450Z
DESCRIPTION:4. Liga Herren Gruppe 4\nBegegnungs-Nr: 0\nHeim: Embrachertal II\nGast: Bülach IV\n\nAdresse: Schützenhausstrasse 20\, 8424 Embrach\n
LOCATION:Schützenhausstrasse 20\, 8424 Embrach
CATEGORIES:Saison 2025/26
END:VEVENT
BEGIN:VEVENT
DTSTAMP:20260424T181615Z
DTSTART;TZID=Europe/Berlin:20260123T193000
DTEND;TZID=Europe/Berlin:20260123T223000
SUMMARY:HE 4. Liga Gr. 4 Niederhasli V vs Bülach IV (0)
UID:accc66da-9289-4d17-ad2c-99db09ca1e37
STATUS:CONFIRMED
LAST-MODIFIED:20260127T145610Z
DESCRIPTION:4. Liga Herren Gruppe 4\nBegegnungs-Nr: 0\nHeim: Niederhasli V\nGast: Bülach IV\n\nAdresse: Dorfstrasse 22\, 8155 Niederhasli\n
LOCATION:Dorfstrasse 22\, 8155 Niederhasli
CATEGORIES:Saison 2025/26
END:VEVENT
END:VCALENDAR
