BEGIN:VCALENDAR
PRODID:-//nuDatenautomaten//framework iCal4j //DE
VERSION:2.0
CALSCALE:GREGORIAN
BEGIN:VTIMEZONE
TZID:Europe/Berlin
LAST-MODIFIED:20260306T231828Z
TZURL:https://www.tzurl.org/zoneinfo/Europe/Berlin
X-LIC-LOCATION:Europe/Berlin
X-PROLEPTIC-TZNAME:LMT
BEGIN:STANDARD
TZNAME:CET
TZOFFSETFROM:+005328
TZOFFSETTO:+0100
DTSTART:18930401T000000
END:STANDARD
BEGIN:DAYLIGHT
TZNAME:CEST
TZOFFSETFROM:+0100
TZOFFSETTO:+0200
DTSTART:19160430T230000
RDATE:19400401T020000
RDATE:19430329T020000
RDATE:19460414T020000
RDATE:19470406T030000
RDATE:19480418T020000
RDATE:19490410T020000
RDATE:19800406T020000
END:DAYLIGHT
BEGIN:STANDARD
TZNAME:CET
TZOFFSETFROM:+0200
TZOFFSETTO:+0100
DTSTART:19161001T010000
RDATE:19421102T030000
RDATE:19431004T030000
RDATE:19441002T030000
RDATE:19451118T030000
RDATE:19461007T030000
END:STANDARD
BEGIN:DAYLIGHT
TZNAME:CEST
TZOFFSETFROM:+0100
TZOFFSETTO:+0200
DTSTART:19170416T020000
RRULE:FREQ=YEARLY;UNTIL=19180415T010000Z;BYMONTH=4;BYDAY=3MO
END:DAYLIGHT
BEGIN:STANDARD
TZNAME:CET
TZOFFSETFROM:+0200
TZOFFSETTO:+0100
DTSTART:19170917T030000
RRULE:FREQ=YEARLY;UNTIL=19180916T010000Z;BYMONTH=9;BYDAY=3MO
END:STANDARD
BEGIN:DAYLIGHT
TZNAME:CEST
TZOFFSETFROM:+0100
TZOFFSETTO:+0200
DTSTART:19440403T020000
RRULE:FREQ=YEARLY;UNTIL=19450402T010000Z;BYMONTH=4;BYDAY=1MO
END:DAYLIGHT
BEGIN:DAYLIGHT
TZNAME:CEMT
TZOFFSETFROM:+0200
TZOFFSETTO:+0300
DTSTART:19450524T020000
RDATE:19470511T030000
END:DAYLIGHT
BEGIN:DAYLIGHT
TZNAME:CEST
TZOFFSETFROM:+0300
TZOFFSETTO:+0200
DTSTART:19450924T030000
RDATE:19470629T030000
END:DAYLIGHT
BEGIN:STANDARD
TZNAME:CET
TZOFFSETFROM:+0100
TZOFFSETTO:+0100
DTSTART:19460101T000000
RDATE:19800101T000000
END:STANDARD
BEGIN:STANDARD
TZNAME:CET
TZOFFSETFROM:+0200
TZOFFSETTO:+0100
DTSTART:19471005T030000
RRULE:FREQ=YEARLY;UNTIL=19491002T010000Z;BYMONTH=10;BYDAY=1SU
END:STANDARD
BEGIN:STANDARD
TZNAME:CET
TZOFFSETFROM:+0200
TZOFFSETTO:+0100
DTSTART:19800928T030000
RRULE:FREQ=YEARLY;UNTIL=19950924T010000Z;BYMONTH=9;BYDAY=-1SU
END:STANDARD
BEGIN:DAYLIGHT
TZNAME:CEST
TZOFFSETFROM:+0100
TZOFFSETTO:+0200
DTSTART:19810329T020000
RRULE:FREQ=YEARLY;BYMONTH=3;BYDAY=-1SU
END:DAYLIGHT
BEGIN:STANDARD
TZNAME:CET
TZOFFSETFROM:+0200
TZOFFSETTO:+0100
DTSTART:19961027T030000
RRULE:FREQ=YEARLY;BYMONTH=10;BYDAY=-1SU
END:STANDARD
END:VTIMEZONE
BEGIN:VEVENT
DTSTAMP:20260424T165500Z
DTSTART;TZID=Europe/Berlin:20251204T200000
DTEND;TZID=Europe/Berlin:20251204T230000
SUMMARY:HE 4. Liga Gr. 3 Embrachertal III vs Neuhausen V (0)
UID:609fa4eb-b246-4f1b-a5bd-864363f13fb1
STATUS:CONFIRMED
LAST-MODIFIED:20251205T130423Z
DESCRIPTION:4. Liga Herren Gruppe 3\nBegegnungs-Nr: 0\nHeim: Embrachertal III\nGast: Neuhausen V\n\nAdresse: Schützenhausstrasse 20\, 8424 Embrach\n
LOCATION:Schützenhausstrasse 20\, 8424 Embrach
CATEGORIES:Saison 2025/26
END:VEVENT
BEGIN:VEVENT
DTSTAMP:20260424T165500Z
DTSTART;TZID=Europe/Berlin:20260122T200000
DTEND;TZID=Europe/Berlin:20260122T230000
SUMMARY:HE 4. Liga Gr. 3 Embrachertal III vs Bülach III (0)
UID:5ffcc75c-4e28-4358-8b9c-a336a250f434
STATUS:CONFIRMED
LAST-MODIFIED:20260123T082444Z
DESCRIPTION:4. Liga Herren Gruppe 3\nBegegnungs-Nr: 0\nHeim: Embrachertal III\nGast: Bülach III\n\nAdresse: Schützenhausstrasse 20\, 8424 Embrach\n
LOCATION:Schützenhausstrasse 20\, 8424 Embrach
CATEGORIES:Saison 2025/26
END:VEVENT
BEGIN:VEVENT
DTSTAMP:20260424T165500Z
DTSTART;TZID=Europe/Berlin:20250828T200000
DTEND;TZID=Europe/Berlin:20250828T230000
SUMMARY:HE 4. Liga Gr. 3 Embrachertal III vs Uster II (0)
UID:4585adbd-f53f-4ed1-a812-5fd47237313f
STATUS:CONFIRMED
LAST-MODIFIED:20250829T143503Z
DESCRIPTION:4. Liga Herren Gruppe 3\nBegegnungs-Nr: 0\nHeim: Embrachertal III\nGast: Uster II\n\nAdresse: Schützenhausstrasse 20\, 8424 Embrach\n
LOCATION:Schützenhausstrasse 20\, 8424 Embrach
CATEGORIES:Saison 2025/26
END:VEVENT
BEGIN:VEVENT
DTSTAMP:20260424T165500Z
DTSTART;TZID=Europe/Berlin:20250904T200000
DTEND;TZID=Europe/Berlin:20250904T230000
SUMMARY:HE 4. Liga Gr. 3 Embrachertal III vs Bülach III (0)
UID:f1bd2a35-fc86-4e1d-8ceb-7fb6f958a692
STATUS:CONFIRMED
LAST-MODIFIED:20250912T084426Z
DESCRIPTION:4. Liga Herren Gruppe 3\nBegegnungs-Nr: 0\nHeim: Embrachertal III\nGast: Bülach III\n\nAdresse: Schützenhausstrasse 20\, 8424 Embrach\n
LOCATION:Schützenhausstrasse 20\, 8424 Embrach
CATEGORIES:Saison 2025/26
END:VEVENT
BEGIN:VEVENT
DTSTAMP:20260424T165500Z
DTSTART;TZID=Europe/Berlin:20260319T200000
DTEND;TZID=Europe/Berlin:20260319T230000
SUMMARY:HE 4. Liga Gr. 3 Embrachertal III vs Dübendorf-Volketswil II (0)
UID:c536ceef-237a-4e63-a8ea-893c39fa4130
STATUS:CONFIRMED
LAST-MODIFIED:20260326T151920Z
DESCRIPTION:4. Liga Herren Gruppe 3\nBegegnungs-Nr: 0\nHeim: Embrachertal III\nGast: Dübendorf-Volketswil II\n\nAdresse: Schützenhausstrasse 20\, 8424 Embrach\n
LOCATION:Schützenhausstrasse 20\, 8424 Embrach
CATEGORIES:Saison 2025/26
END:VEVENT
BEGIN:VEVENT
DTSTAMP:20260424T165500Z
DTSTART;TZID=Europe/Berlin:20260312T200000
DTEND;TZID=Europe/Berlin:20260312T230000
SUMMARY:HE 4. Liga Gr. 3 Embrachertal III vs Steckborn-Homburg III (0)
UID:984e0e0f-7efd-40e9-abbc-9f1907aa1c83
STATUS:CONFIRMED
LAST-MODIFIED:20260317T134604Z
DESCRIPTION:4. Liga Herren Gruppe 3\nBegegnungs-Nr: 0\nHeim: Embrachertal III\nGast: Steckborn-Homburg III\n\nAdresse: Schützenhausstrasse 20\, 8424 Embrach\n
LOCATION:Schützenhausstrasse 20\, 8424 Embrach
CATEGORIES:Saison 2025/26
END:VEVENT
BEGIN:VEVENT
DTSTAMP:20260424T165500Z
DTSTART;TZID=Europe/Berlin:20250918T200000
DTEND;TZID=Europe/Berlin:20250918T230000
SUMMARY:HE 4. Liga Gr. 3 Embrachertal III vs Niederhasli IV (0)
UID:5c7de998-b99d-403b-ac13-469449fec532
STATUS:CONFIRMED
LAST-MODIFIED:20250926T130928Z
DESCRIPTION:4. Liga Herren Gruppe 3\nBegegnungs-Nr: 0\nHeim: Embrachertal III\nGast: Niederhasli IV\n\nAdresse: Schützenhausstrasse 20\, 8424 Embrach\n
LOCATION:Schützenhausstrasse 20\, 8424 Embrach
CATEGORIES:Saison 2025/26
END:VEVENT
BEGIN:VEVENT
DTSTAMP:20260424T165500Z
DTSTART;TZID=Europe/Berlin:20251106T200000
DTEND;TZID=Europe/Berlin:20251106T230000
SUMMARY:HE 4. Liga Gr. 3 Embrachertal III vs Winterthur III (0)
UID:c1f22243-32e6-4957-a3ca-f49bdf1e170d
STATUS:CONFIRMED
LAST-MODIFIED:20251107T144757Z
DESCRIPTION:4. Liga Herren Gruppe 3\nBegegnungs-Nr: 0\nHeim: Embrachertal III\nGast: Winterthur III\n\nAdresse: Schützenhausstrasse 20\, 8424 Embrach\n
LOCATION:Schützenhausstrasse 20\, 8424 Embrach
CATEGORIES:Saison 2025/26
END:VEVENT
BEGIN:VEVENT
DTSTAMP:20260424T165500Z
DTSTART;TZID=Europe/Berlin:20251029T200000
DTEND;TZID=Europe/Berlin:20251029T230000
SUMMARY:HE 4. Liga Gr. 3 Steckborn-Homburg III vs Embrachertal III (0)
UID:6813047b-ff9d-4ded-a1ff-b852fba11053
STATUS:CONFIRMED
LAST-MODIFIED:20251107T152819Z
DESCRIPTION:4. Liga Herren Gruppe 3\nBegegnungs-Nr: 0\nHeim: Steckborn-Homburg III\nGast: Embrachertal III\n\nAdresse: Schulstrasse 4\, 8508 Unterhörstetten\n
LOCATION:Schulstrasse 4\, 8508 Unterhörstetten
CATEGORIES:Saison 2025/26
END:VEVENT
BEGIN:VEVENT
DTSTAMP:20260424T165500Z
DTSTART;TZID=Europe/Berlin:20260108T201500
DTEND;TZID=Europe/Berlin:20260108T231500
SUMMARY:HE 4. Liga Gr. 3 Uster II vs Embrachertal III (0)
UID:7c756fd2-adff-4a6b-9056-462bc9f74e5a
STATUS:CONFIRMED
LAST-MODIFIED:20260109T075134Z
DESCRIPTION:4. Liga Herren Gruppe 3\nBegegnungs-Nr: 0\nHeim: Uster II\nGast: Embrachertal III\n\nAdresse: Wilstrasse 30 / Zürcherstrasse\, 8610 Uster\n
LOCATION:Wilstrasse 30 / Zürcherstrasse\, 8610 Uster
CATEGORIES:Saison 2025/26
END:VEVENT
BEGIN:VEVENT
DTSTAMP:20260424T165500Z
DTSTART;TZID=Europe/Berlin:20260126T193000
DTEND;TZID=Europe/Berlin:20260126T223000
SUMMARY:HE 4. Liga Gr. 3 Niederhasli IV vs Embrachertal III (0)
UID:2aad060a-a7fc-499b-a9e6-4d8dc664198e
STATUS:CONFIRMED
LAST-MODIFIED:20260127T140605Z
DESCRIPTION:4. Liga Herren Gruppe 3\nBegegnungs-Nr: 0\nHeim: Niederhasli IV\nGast: Embrachertal III\n\nAdresse: Dorfstrasse 22\, 8155 Niederhasli\n
LOCATION:Dorfstrasse 22\, 8155 Niederhasli
CATEGORIES:Saison 2025/26
END:VEVENT
BEGIN:VEVENT
DTSTAMP:20260424T165500Z
DTSTART;TZID=Europe/Berlin:20260327T200000
DTEND;TZID=Europe/Berlin:20260327T230000
SUMMARY:HE 4. Liga Gr. 3 Winterthur III vs Embrachertal III (0)
UID:2433e1fb-7db6-4c47-8ef7-151bdc8618b8
STATUS:CONFIRMED
LAST-MODIFIED:20260401T123330Z
DESCRIPTION:4. Liga Herren Gruppe 3\nBegegnungs-Nr: 0\nHeim: Winterthur III\nGast: Embrachertal III\n\nAdresse: Buchackerstrasse 54\, 8400 Winterthur\n
LOCATION:Buchackerstrasse 54\, 8400 Winterthur
CATEGORIES:Saison 2025/26
END:VEVENT
BEGIN:VEVENT
DTSTAMP:20260424T165500Z
DTSTART;TZID=Europe/Berlin:20260413T200000
DTEND;TZID=Europe/Berlin:20260413T230000
SUMMARY:HE 4. Liga Gr. 3 Neuhausen V vs Embrachertal III (0)
UID:9ca0fef4-ec2a-4347-a24f-cf49fdc2595f
STATUS:CONFIRMED
LAST-MODIFIED:20260416T103330Z
DESCRIPTION:4. Liga Herren Gruppe 3\nBegegnungs-Nr: 0\nHeim: Neuhausen V\nGast: Embrachertal III\n\nAdresse: Ebnatstrasse 35\, 8200 Schaffhausen\n
LOCATION:Ebnatstrasse 35\, 8200 Schaffhausen
CATEGORIES:Saison 2025/26
END:VEVENT
BEGIN:VEVENT
DTSTAMP:20260424T165500Z
DTSTART;TZID=Europe/Berlin:20250923T201500
DTEND;TZID=Europe/Berlin:20250923T231500
SUMMARY:HE 4. Liga Gr. 3 Dübendorf-Volketswil II vs Embrachertal III (0)
UID:2bbd3c0d-27e1-43e2-afa6-0919cbc8dd2e
STATUS:CONFIRMED
LAST-MODIFIED:20250926T131134Z
DESCRIPTION:4. Liga Herren Gruppe 3\nBegegnungs-Nr: 0\nHeim: Dübendorf-Volketswil II\nGast: Embrachertal III\n\nAdresse: Dübendorfstrasse 46\, 8602 Wangen ZH\n
LOCATION:Dübendorfstrasse 46\, 8602 Wangen ZH
CATEGORIES:Saison 2025/26
END:VEVENT
END:VCALENDAR
