BEGIN:VCALENDAR
PRODID:-//nuDatenautomaten//framework iCal4j //DE
VERSION:2.0
CALSCALE:GREGORIAN
BEGIN:VTIMEZONE
TZID:Europe/Berlin
LAST-MODIFIED:20260306T231828Z
TZURL:https://www.tzurl.org/zoneinfo/Europe/Berlin
X-LIC-LOCATION:Europe/Berlin
X-PROLEPTIC-TZNAME:LMT
BEGIN:STANDARD
TZNAME:CET
TZOFFSETFROM:+005328
TZOFFSETTO:+0100
DTSTART:18930401T000000
END:STANDARD
BEGIN:DAYLIGHT
TZNAME:CEST
TZOFFSETFROM:+0100
TZOFFSETTO:+0200
DTSTART:19160430T230000
RDATE:19400401T020000
RDATE:19430329T020000
RDATE:19460414T020000
RDATE:19470406T030000
RDATE:19480418T020000
RDATE:19490410T020000
RDATE:19800406T020000
END:DAYLIGHT
BEGIN:STANDARD
TZNAME:CET
TZOFFSETFROM:+0200
TZOFFSETTO:+0100
DTSTART:19161001T010000
RDATE:19421102T030000
RDATE:19431004T030000
RDATE:19441002T030000
RDATE:19451118T030000
RDATE:19461007T030000
END:STANDARD
BEGIN:DAYLIGHT
TZNAME:CEST
TZOFFSETFROM:+0100
TZOFFSETTO:+0200
DTSTART:19170416T020000
RRULE:FREQ=YEARLY;UNTIL=19180415T010000Z;BYMONTH=4;BYDAY=3MO
END:DAYLIGHT
BEGIN:STANDARD
TZNAME:CET
TZOFFSETFROM:+0200
TZOFFSETTO:+0100
DTSTART:19170917T030000
RRULE:FREQ=YEARLY;UNTIL=19180916T010000Z;BYMONTH=9;BYDAY=3MO
END:STANDARD
BEGIN:DAYLIGHT
TZNAME:CEST
TZOFFSETFROM:+0100
TZOFFSETTO:+0200
DTSTART:19440403T020000
RRULE:FREQ=YEARLY;UNTIL=19450402T010000Z;BYMONTH=4;BYDAY=1MO
END:DAYLIGHT
BEGIN:DAYLIGHT
TZNAME:CEMT
TZOFFSETFROM:+0200
TZOFFSETTO:+0300
DTSTART:19450524T020000
RDATE:19470511T030000
END:DAYLIGHT
BEGIN:DAYLIGHT
TZNAME:CEST
TZOFFSETFROM:+0300
TZOFFSETTO:+0200
DTSTART:19450924T030000
RDATE:19470629T030000
END:DAYLIGHT
BEGIN:STANDARD
TZNAME:CET
TZOFFSETFROM:+0100
TZOFFSETTO:+0100
DTSTART:19460101T000000
RDATE:19800101T000000
END:STANDARD
BEGIN:STANDARD
TZNAME:CET
TZOFFSETFROM:+0200
TZOFFSETTO:+0100
DTSTART:19471005T030000
RRULE:FREQ=YEARLY;UNTIL=19491002T010000Z;BYMONTH=10;BYDAY=1SU
END:STANDARD
BEGIN:STANDARD
TZNAME:CET
TZOFFSETFROM:+0200
TZOFFSETTO:+0100
DTSTART:19800928T030000
RRULE:FREQ=YEARLY;UNTIL=19950924T010000Z;BYMONTH=9;BYDAY=-1SU
END:STANDARD
BEGIN:DAYLIGHT
TZNAME:CEST
TZOFFSETFROM:+0100
TZOFFSETTO:+0200
DTSTART:19810329T020000
RRULE:FREQ=YEARLY;BYMONTH=3;BYDAY=-1SU
END:DAYLIGHT
BEGIN:STANDARD
TZNAME:CET
TZOFFSETFROM:+0200
TZOFFSETTO:+0100
DTSTART:19961027T030000
RRULE:FREQ=YEARLY;BYMONTH=10;BYDAY=-1SU
END:STANDARD
END:VTIMEZONE
BEGIN:VEVENT
DTSTAMP:20260424T043632Z
DTSTART;TZID=Europe/Berlin:20250903T193000
DTEND;TZID=Europe/Berlin:20250903T223000
SUMMARY:ME L6 Gr 8\, Tours 1&2 Bougy vs Bougy II (0)
UID:8354e57f-1e9f-4e37-bfe1-9a68158981e7
STATUS:CONFIRMED
LAST-MODIFIED:20250910T231331Z
DESCRIPTION:6ème ligue Hommes Groupe 8\, Tours 1&2\nBegegnungs-Nr: 0\nHeim: Bougy\nGast: Bougy II\n\nAdresse: Grand-Rue 11\, 1172 Bougy-Villars\n
LOCATION:Grand-Rue 11\, 1172 Bougy-Villars
CATEGORIES:Saison 2025/26
END:VEVENT
BEGIN:VEVENT
DTSTAMP:20260424T043632Z
DTSTART;TZID=Europe/Berlin:20251001T193000
DTEND;TZID=Europe/Berlin:20251001T223000
SUMMARY:ME L6 Gr 8\, Tours 1&2 Bougy vs Nyon II (0)
UID:37bcf032-7190-4b5b-bb41-74337f2358ae
STATUS:CONFIRMED
LAST-MODIFIED:20251005T181849Z
DESCRIPTION:6ème ligue Hommes Groupe 8\, Tours 1&2\nBegegnungs-Nr: 0\nHeim: Bougy\nGast: Nyon II\n\nAdresse: Grand-Rue 11\, 1172 Bougy-Villars\n
LOCATION:Grand-Rue 11\, 1172 Bougy-Villars
CATEGORIES:Saison 2025/26
END:VEVENT
BEGIN:VEVENT
DTSTAMP:20260424T043632Z
DTSTART;TZID=Europe/Berlin:20251008T193000
DTEND;TZID=Europe/Berlin:20251008T223000
SUMMARY:ME L6 Gr 8\, Tours 1&2 Bougy vs Gland V (0)
UID:5fe0aa07-0b06-457b-8012-7e453a33f3d3
STATUS:CONFIRMED
LAST-MODIFIED:20251015T213059Z
DESCRIPTION:6ème ligue Hommes Groupe 8\, Tours 1&2\nBegegnungs-Nr: 0\nHeim: Bougy\nGast: Gland V\n\nAdresse: Grand-Rue 11\, 1172 Bougy-Villars\n
LOCATION:Grand-Rue 11\, 1172 Bougy-Villars
CATEGORIES:Saison 2025/26
END:VEVENT
BEGIN:VEVENT
DTSTAMP:20260424T043632Z
DTSTART;TZID=Europe/Berlin:20251105T193000
DTEND;TZID=Europe/Berlin:20251105T223000
SUMMARY:ME L6 Gr 8\, Tours 1&2 Bougy vs Rolle III (0)
UID:f7be8791-d1da-4865-b955-c77d81e3d3e5
STATUS:CONFIRMED
LAST-MODIFIED:20251111T210235Z
DESCRIPTION:6ème ligue Hommes Groupe 8\, Tours 1&2\nBegegnungs-Nr: 0\nHeim: Bougy\nGast: Rolle III\n\nAdresse: Grand-Rue 11\, 1172 Bougy-Villars\n
LOCATION:Grand-Rue 11\, 1172 Bougy-Villars
CATEGORIES:Saison 2025/26
END:VEVENT
BEGIN:VEVENT
DTSTAMP:20260424T043632Z
DTSTART;TZID=Europe/Berlin:20251119T193000
DTEND;TZID=Europe/Berlin:20251119T223000
SUMMARY:ME L6 Gr 8\, Tours 1&2 Bougy vs Rolle II (0)
UID:7b4aa3f1-8977-4ed2-8e43-16f5e114edee
STATUS:CONFIRMED
LAST-MODIFIED:20251124T184609Z
DESCRIPTION:6ème ligue Hommes Groupe 8\, Tours 1&2\nBegegnungs-Nr: 0\nHeim: Bougy\nGast: Rolle II\n\nAdresse: Grand-Rue 11\, 1172 Bougy-Villars\n
LOCATION:Grand-Rue 11\, 1172 Bougy-Villars
CATEGORIES:Saison 2025/26
END:VEVENT
BEGIN:VEVENT
DTSTAMP:20260424T043632Z
DTSTART;TZID=Europe/Berlin:20260114T193000
DTEND;TZID=Europe/Berlin:20260114T223000
SUMMARY:ME L5 Gr 6\, Tours 3&4 Bougy vs Vaudoise-Assurances (0)
UID:710c5082-f288-4aa2-bdc6-a6b88d19edc4
STATUS:CONFIRMED
LAST-MODIFIED:20260116T185549Z
DESCRIPTION:5ème ligue Hommes Groupe 6\, Tours 3&4\nBegegnungs-Nr: 0\nHeim: Bougy\nGast: Vaudoise-Assurances\n\nAdresse: Grand-Rue 11\, 1172 Bougy-Villars\n
LOCATION:Grand-Rue 11\, 1172 Bougy-Villars
CATEGORIES:Saison 2025/26
END:VEVENT
BEGIN:VEVENT
DTSTAMP:20260424T043632Z
DTSTART;TZID=Europe/Berlin:20260211T193000
DTEND;TZID=Europe/Berlin:20260211T223000
SUMMARY:ME L5 Gr 6\, Tours 3&4 Bougy vs Gland IV (0)
UID:10922718-a610-4be8-9cd3-f5c09e660a99
STATUS:CONFIRMED
LAST-MODIFIED:20260219T113855Z
DESCRIPTION:5ème ligue Hommes Groupe 6\, Tours 3&4\nBegegnungs-Nr: 0\nHeim: Bougy\nGast: Gland IV\n\nAdresse: Grand-Rue 11\, 1172 Bougy-Villars\n
LOCATION:Grand-Rue 11\, 1172 Bougy-Villars
CATEGORIES:Saison 2025/26
END:VEVENT
BEGIN:VEVENT
DTSTAMP:20260424T043632Z
DTSTART;TZID=Europe/Berlin:20260225T193000
DTEND;TZID=Europe/Berlin:20260225T223000
SUMMARY:ME L5 Gr 6\, Tours 3&4 Bougy vs Eysins IV (0)
UID:c22fe87f-21f5-423a-952a-ce86a3f11113
STATUS:CONFIRMED
LAST-MODIFIED:20260227T102308Z
DESCRIPTION:5ème ligue Hommes Groupe 6\, Tours 3&4\nBegegnungs-Nr: 0\nHeim: Bougy\nGast: Eysins IV\n\nAdresse: Grand-Rue 11\, 1172 Bougy-Villars\n
LOCATION:Grand-Rue 11\, 1172 Bougy-Villars
CATEGORIES:Saison 2025/26
END:VEVENT
BEGIN:VEVENT
DTSTAMP:20260424T043632Z
DTSTART;TZID=Europe/Berlin:20260318T193000
DTEND;TZID=Europe/Berlin:20260318T223000
SUMMARY:ME L5 Gr 6\, Tours 3&4 Bougy vs Romanel IV (0)
UID:cc5397f7-6556-4442-b851-25aab3e921d3
STATUS:CONFIRMED
LAST-MODIFIED:20260325T093343Z
DESCRIPTION:5ème ligue Hommes Groupe 6\, Tours 3&4\nBegegnungs-Nr: 0\nHeim: Bougy\nGast: Romanel IV\n\nAdresse: Grand-Rue 11\, 1172 Bougy-Villars\n
LOCATION:Grand-Rue 11\, 1172 Bougy-Villars
CATEGORIES:Saison 2025/26
END:VEVENT
BEGIN:VEVENT
DTSTAMP:20260424T043632Z
DTSTART;TZID=Europe/Berlin:20260401T193000
DTEND;TZID=Europe/Berlin:20260401T223000
SUMMARY:ME L5 Gr 6\, Tours 3&4 Bougy vs Lausanne XII (0)
UID:61e4d077-05b4-4fda-8eb9-71b1f56d266e
STATUS:CONFIRMED
LAST-MODIFIED:20260407T193617Z
DESCRIPTION:5ème ligue Hommes Groupe 6\, Tours 3&4\nBegegnungs-Nr: 0\nHeim: Bougy\nGast: Lausanne XII\n\nAdresse: Grand-Rue 11\, 1172 Bougy-Villars\n
LOCATION:Grand-Rue 11\, 1172 Bougy-Villars
CATEGORIES:Saison 2025/26
END:VEVENT
BEGIN:VEVENT
DTSTAMP:20260424T043632Z
DTSTART;TZID=Europe/Berlin:20250911T201500
DTEND;TZID=Europe/Berlin:20250911T231500
SUMMARY:ME L6 Gr 8\, Tours 1&2 Rolle III vs Bougy (0)
UID:e845bc0f-6991-4dbe-b0b8-b22439fd7115
STATUS:CONFIRMED
LAST-MODIFIED:20250912T144248Z
DESCRIPTION:6ème ligue Hommes Groupe 8\, Tours 1&2\nBegegnungs-Nr: 0\nHeim: Rolle III\nGast: Bougy\n\nAdresse: Route des Quatre-Communes 7\, 1180 Rolle\n
LOCATION:Route des Quatre-Communes 7\, 1180 Rolle
CATEGORIES:Saison 2025/26
END:VEVENT
BEGIN:VEVENT
DTSTAMP:20260424T043632Z
DTSTART;TZID=Europe/Berlin:20250917T200000
DTEND;TZID=Europe/Berlin:20250917T230000
SUMMARY:ME L6 Gr 8\, Tours 1&2 Rolle II vs Bougy (0)
UID:9e67ed38-0bdf-4604-92b0-20ce1a3fc0b1
STATUS:CONFIRMED
LAST-MODIFIED:20250919T205308Z
DESCRIPTION:6ème ligue Hommes Groupe 8\, Tours 1&2\nBegegnungs-Nr: 0\nHeim: Rolle II\nGast: Bougy\n\nAdresse: Route des Quatre-Communes 7\, 1180 Rolle\n
LOCATION:Route des Quatre-Communes 7\, 1180 Rolle
CATEGORIES:Saison 2025/26
END:VEVENT
BEGIN:VEVENT
DTSTAMP:20260424T043632Z
DTSTART;TZID=Europe/Berlin:20251027T193000
DTEND;TZID=Europe/Berlin:20251027T223000
SUMMARY:ME L6 Gr 8\, Tours 1&2 Bougy II vs Bougy (0)
UID:54286ee2-7d9b-4983-aa2f-527b11f580c5
STATUS:CONFIRMED
LAST-MODIFIED:20251028T113521Z
DESCRIPTION:6ème ligue Hommes Groupe 8\, Tours 1&2\nBegegnungs-Nr: 0\nHeim: Bougy II\nGast: Bougy\n\nAdresse: Grand-Rue 11\, 1172 Bougy-Villars\n
LOCATION:Grand-Rue 11\, 1172 Bougy-Villars
CATEGORIES:Saison 2025/26
END:VEVENT
BEGIN:VEVENT
DTSTAMP:20260424T043632Z
DTSTART;TZID=Europe/Berlin:20251127T193000
DTEND;TZID=Europe/Berlin:20251127T223000
SUMMARY:ME L6 Gr 8\, Tours 1&2 Nyon II vs Bougy (0)
UID:bbd04744-5062-4001-a6a3-aee3991de26a
STATUS:CONFIRMED
LAST-MODIFIED:20251128T204140Z
DESCRIPTION:6ème ligue Hommes Groupe 8\, Tours 1&2\nBegegnungs-Nr: 0\nHeim: Nyon II\nGast: Bougy\n\nAdresse: Rte des Tattes-d'Oie 97\, 1260 Nyon\n
LOCATION:Rte des Tattes-d'Oie 97\, 1260 Nyon
CATEGORIES:Saison 2025/26
END:VEVENT
BEGIN:VEVENT
DTSTAMP:20260424T043632Z
DTSTART;TZID=Europe/Berlin:20251212T193000
DTEND;TZID=Europe/Berlin:20251212T223000
SUMMARY:ME L6 Gr 8\, Tours 1&2 Gland V vs Bougy (0)
UID:5c654dcb-9da8-46d1-a14f-802609fe808b
STATUS:CONFIRMED
LAST-MODIFIED:20251213T095247Z
DESCRIPTION:6ème ligue Hommes Groupe 8\, Tours 1&2\nBegegnungs-Nr: 0\nHeim: Gland V\nGast: Bougy\n\nAdresse: Chemin de la Perroude 1\, 1196 Gland\n
LOCATION:Chemin de la Perroude 1\, 1196 Gland
CATEGORIES:Saison 2025/26
END:VEVENT
BEGIN:VEVENT
DTSTAMP:20260424T043632Z
DTSTART;TZID=Europe/Berlin:20260127T193000
DTEND;TZID=Europe/Berlin:20260127T223000
SUMMARY:ME L5 Gr 6\, Tours 3&4 Romanel IV vs Bougy (0)
UID:27980b40-673a-4af0-b567-4267131b1293
STATUS:CONFIRMED
LAST-MODIFIED:20260128T205448Z
DESCRIPTION:5ème ligue Hommes Groupe 6\, Tours 3&4\nBegegnungs-Nr: 0\nHeim: Romanel IV\nGast: Bougy\n\nAdresse: Ch des Epinettes 1\, 1032 Romanel-sur-Lausanne\n
LOCATION:Ch des Epinettes 1\, 1032 Romanel-sur-Lausanne
CATEGORIES:Saison 2025/26
END:VEVENT
BEGIN:VEVENT
DTSTAMP:20260424T043632Z
DTSTART;TZID=Europe/Berlin:20260218T200000
DTEND;TZID=Europe/Berlin:20260218T230000
SUMMARY:ME L5 Gr 6\, Tours 3&4 Lausanne XII vs Bougy (0)
UID:5f9035c9-3785-44e1-8014-844552841cb8
STATUS:CONFIRMED
LAST-MODIFIED:20260219T113920Z
DESCRIPTION:5ème ligue Hommes Groupe 6\, Tours 3&4\nBegegnungs-Nr: 0\nHeim: Lausanne XII\nGast: Bougy\n\nAdresse: Vaudoise Aréna\, Ch. du Viaduc 14\, 1008 Prilly\n
LOCATION:Vaudoise Aréna\, Ch. du Viaduc 14\, 1008 Prilly
CATEGORIES:Saison 2025/26
END:VEVENT
BEGIN:VEVENT
DTSTAMP:20260424T043632Z
DTSTART;TZID=Europe/Berlin:20260312T193000
DTEND;TZID=Europe/Berlin:20260312T223000
SUMMARY:ME L5 Gr 6\, Tours 3&4 Vaudoise-Assurances vs Bougy (0)
UID:81d46cb1-a0df-492d-bc55-b3654461ce94
STATUS:CONFIRMED
LAST-MODIFIED:20260313T231849Z
DESCRIPTION:5ème ligue Hommes Groupe 6\, Tours 3&4\nBegegnungs-Nr: 0\nHeim: Vaudoise-Assurances\nGast: Bougy\n\nAdresse: Ch de Bellerive 36\, 1007 Lausanne\n
LOCATION:Ch de Bellerive 36\, 1007 Lausanne
CATEGORIES:Saison 2025/26
END:VEVENT
BEGIN:VEVENT
DTSTAMP:20260424T043632Z
DTSTART;TZID=Europe/Berlin:20260417T193000
DTEND;TZID=Europe/Berlin:20260417T223000
SUMMARY:ME L5 Gr 6\, Tours 3&4 Gland IV vs Bougy (0)
UID:8b1cfe72-b421-4cda-9084-999bb4021cbf
STATUS:CONFIRMED
LAST-MODIFIED:20260420T150152Z
DESCRIPTION:5ème ligue Hommes Groupe 6\, Tours 3&4\nBegegnungs-Nr: 0\nHeim: Gland IV\nGast: Bougy\n\nAdresse: Chemin de la Perroude 1\, 1196 Gland\n
LOCATION:Chemin de la Perroude 1\, 1196 Gland
CATEGORIES:Saison 2025/26
END:VEVENT
BEGIN:VEVENT
DTSTAMP:20260424T043632Z
DTSTART;TZID=Europe/Berlin:20260430T201500
DTEND;TZID=Europe/Berlin:20260430T231500
SUMMARY:ME L5 Gr 6\, Tours 3&4 Eysins IV vs Bougy (0)
UID:30d9030f-1b24-4b81-a082-8bf7c9dc567c
STATUS:CONFIRMED
LAST-MODIFIED:20251226T213845Z
DESCRIPTION:5ème ligue Hommes Groupe 6\, Tours 3&4\nBegegnungs-Nr: 0\nHeim: Eysins IV\nGast: Bougy\n\nAdresse: En Bellossiez 1\, 1262 Eysins\n
LOCATION:En Bellossiez 1\, 1262 Eysins
CATEGORIES:Saison 2025/26
END:VEVENT
END:VCALENDAR
