BEGIN:VCALENDAR
PRODID:-//nuDatenautomaten//framework iCal4j //DE
VERSION:2.0
CALSCALE:GREGORIAN
BEGIN:VTIMEZONE
TZID:Europe/Berlin
LAST-MODIFIED:20260306T231828Z
TZURL:https://www.tzurl.org/zoneinfo/Europe/Berlin
X-LIC-LOCATION:Europe/Berlin
X-PROLEPTIC-TZNAME:LMT
BEGIN:STANDARD
TZNAME:CET
TZOFFSETFROM:+005328
TZOFFSETTO:+0100
DTSTART:18930401T000000
END:STANDARD
BEGIN:DAYLIGHT
TZNAME:CEST
TZOFFSETFROM:+0100
TZOFFSETTO:+0200
DTSTART:19160430T230000
RDATE:19400401T020000
RDATE:19430329T020000
RDATE:19460414T020000
RDATE:19470406T030000
RDATE:19480418T020000
RDATE:19490410T020000
RDATE:19800406T020000
END:DAYLIGHT
BEGIN:STANDARD
TZNAME:CET
TZOFFSETFROM:+0200
TZOFFSETTO:+0100
DTSTART:19161001T010000
RDATE:19421102T030000
RDATE:19431004T030000
RDATE:19441002T030000
RDATE:19451118T030000
RDATE:19461007T030000
END:STANDARD
BEGIN:DAYLIGHT
TZNAME:CEST
TZOFFSETFROM:+0100
TZOFFSETTO:+0200
DTSTART:19170416T020000
RRULE:FREQ=YEARLY;UNTIL=19180415T010000Z;BYMONTH=4;BYDAY=3MO
END:DAYLIGHT
BEGIN:STANDARD
TZNAME:CET
TZOFFSETFROM:+0200
TZOFFSETTO:+0100
DTSTART:19170917T030000
RRULE:FREQ=YEARLY;UNTIL=19180916T010000Z;BYMONTH=9;BYDAY=3MO
END:STANDARD
BEGIN:DAYLIGHT
TZNAME:CEST
TZOFFSETFROM:+0100
TZOFFSETTO:+0200
DTSTART:19440403T020000
RRULE:FREQ=YEARLY;UNTIL=19450402T010000Z;BYMONTH=4;BYDAY=1MO
END:DAYLIGHT
BEGIN:DAYLIGHT
TZNAME:CEMT
TZOFFSETFROM:+0200
TZOFFSETTO:+0300
DTSTART:19450524T020000
RDATE:19470511T030000
END:DAYLIGHT
BEGIN:DAYLIGHT
TZNAME:CEST
TZOFFSETFROM:+0300
TZOFFSETTO:+0200
DTSTART:19450924T030000
RDATE:19470629T030000
END:DAYLIGHT
BEGIN:STANDARD
TZNAME:CET
TZOFFSETFROM:+0100
TZOFFSETTO:+0100
DTSTART:19460101T000000
RDATE:19800101T000000
END:STANDARD
BEGIN:STANDARD
TZNAME:CET
TZOFFSETFROM:+0200
TZOFFSETTO:+0100
DTSTART:19471005T030000
RRULE:FREQ=YEARLY;UNTIL=19491002T010000Z;BYMONTH=10;BYDAY=1SU
END:STANDARD
BEGIN:STANDARD
TZNAME:CET
TZOFFSETFROM:+0200
TZOFFSETTO:+0100
DTSTART:19800928T030000
RRULE:FREQ=YEARLY;UNTIL=19950924T010000Z;BYMONTH=9;BYDAY=-1SU
END:STANDARD
BEGIN:DAYLIGHT
TZNAME:CEST
TZOFFSETFROM:+0100
TZOFFSETTO:+0200
DTSTART:19810329T020000
RRULE:FREQ=YEARLY;BYMONTH=3;BYDAY=-1SU
END:DAYLIGHT
BEGIN:STANDARD
TZNAME:CET
TZOFFSETFROM:+0200
TZOFFSETTO:+0100
DTSTART:19961027T030000
RRULE:FREQ=YEARLY;BYMONTH=10;BYDAY=-1SU
END:STANDARD
END:VTIMEZONE
BEGIN:VEVENT
DTSTAMP:20260424T025711Z
DTSTART;TZID=Europe/Berlin:20251119T194500
DTEND;TZID=Europe/Berlin:20251119T224500
SUMMARY:Ligue 2 Gr.1\, Ph.A Châtelaine V vs Carouge IV (24)
UID:e5501532-9446-4ddf-b735-dd9c9500525f
STATUS:CONFIRMED
LAST-MODIFIED:20251120T122939Z
DESCRIPTION:2ème ligue Homme Gr.1 Phase A\nBegegnungs-Nr: 24\nHeim: Châtelaine V\nGast: Carouge IV\n
LOCATION:
CATEGORIES:Saison 2025/26
END:VEVENT
BEGIN:VEVENT
DTSTAMP:20260424T025711Z
DTSTART;TZID=Europe/Berlin:20251112T194500
DTEND;TZID=Europe/Berlin:20251112T224500
SUMMARY:Ligue 2 Gr.1\, Ph.A Châtelaine V vs ZZ-Lancy VI (21)
UID:36d897a7-c46c-477d-ad52-1778f9edcbdb
STATUS:CONFIRMED
LAST-MODIFIED:20251114T081626Z
DESCRIPTION:2ème ligue Homme Gr.1 Phase A\nBegegnungs-Nr: 21\nHeim: Châtelaine V\nGast: ZZ-Lancy VI\n
LOCATION:
CATEGORIES:Saison 2025/26
END:VEVENT
BEGIN:VEVENT
DTSTAMP:20260424T025711Z
DTSTART;TZID=Europe/Berlin:20251015T194500
DTEND;TZID=Europe/Berlin:20251015T224500
SUMMARY:Ligue 2 Gr.1\, Ph.A Châtelaine V vs Bernex III (15)
UID:2b13ffa3-7d42-49d4-86c9-d129b48efe44
STATUS:CONFIRMED
LAST-MODIFIED:20251016T093034Z
DESCRIPTION:2ème ligue Homme Gr.1 Phase A\nBegegnungs-Nr: 15\nHeim: Châtelaine V\nGast: Bernex III\n
LOCATION:
CATEGORIES:Saison 2025/26
END:VEVENT
BEGIN:VEVENT
DTSTAMP:20260424T025711Z
DTSTART;TZID=Europe/Berlin:20251008T194500
DTEND;TZID=Europe/Berlin:20251008T224500
SUMMARY:Ligue 2 Gr.1\, Ph.A Châtelaine V vs Silver Star III (12)
UID:b17ec354-c04e-4120-a06a-39030165dab9
STATUS:CONFIRMED
LAST-MODIFIED:20251009T085639Z
DESCRIPTION:2ème ligue Homme Gr.1 Phase A\nBegegnungs-Nr: 12\nHeim: Châtelaine V\nGast: Silver Star III\n
LOCATION:
CATEGORIES:Saison 2025/26
END:VEVENT
BEGIN:VEVENT
DTSTAMP:20260424T025711Z
DTSTART;TZID=Europe/Berlin:20250903T194500
DTEND;TZID=Europe/Berlin:20250903T224500
SUMMARY:Ligue 2 Gr.1\, Ph.A Châtelaine V vs UGS-Chênois V (3)
UID:05dd28e5-c36f-42ff-9c55-c35a3bb2f1f0
STATUS:CONFIRMED
LAST-MODIFIED:20250904T113435Z
DESCRIPTION:2ème ligue Homme Gr.1 Phase A\nBegegnungs-Nr: 3\nHeim: Châtelaine V\nGast: UGS-Chênois V\n
LOCATION:
CATEGORIES:Saison 2025/26
END:VEVENT
BEGIN:VEVENT
DTSTAMP:20260424T025711Z
DTSTART;TZID=Europe/Berlin:20260311T194500
DTEND;TZID=Europe/Berlin:20260311T224500
SUMMARY:Ligue 3 Gr.2 Ph.B Châtelaine V vs ZZ-Lancy VIII (16)
UID:768c34d1-1e2a-4861-8bff-e738711a39d5
STATUS:CONFIRMED
LAST-MODIFIED:20260312T140105Z
DESCRIPTION:3ème ligue Homme Gr.2 Phase B\nBegegnungs-Nr: 16\nHeim: Châtelaine V\nGast: ZZ-Lancy VIII\n
LOCATION:
CATEGORIES:Saison 2025/26
END:VEVENT
BEGIN:VEVENT
DTSTAMP:20260424T025711Z
DTSTART;TZID=Europe/Berlin:20260211T194500
DTEND;TZID=Europe/Berlin:20260211T224500
SUMMARY:Ligue 3 Gr.2 Ph.B Châtelaine V vs Veyrier II (11)
UID:75dc8c6f-6951-499c-83ac-2a0cc37c5437
STATUS:CONFIRMED
LAST-MODIFIED:20260212T101228Z
DESCRIPTION:3ème ligue Homme Gr.2 Phase B\nBegegnungs-Nr: 11\nHeim: Châtelaine V\nGast: Veyrier II\n
LOCATION:
CATEGORIES:Saison 2025/26
END:VEVENT
BEGIN:VEVENT
DTSTAMP:20260424T025711Z
DTSTART;TZID=Europe/Berlin:20260121T194500
DTEND;TZID=Europe/Berlin:20260121T224500
SUMMARY:Ligue 3 Gr.2 Ph.B Châtelaine V vs UGS-Chênois VII (5)
UID:abbc9bd6-0902-487d-93c7-20f0e38277e8
STATUS:CONFIRMED
LAST-MODIFIED:20260122T093958Z
DESCRIPTION:3ème ligue Homme Gr.2 Phase B\nBegegnungs-Nr: 5\nHeim: Châtelaine V\nGast: UGS-Chênois VII\n
LOCATION:
CATEGORIES:Saison 2025/26
END:VEVENT
BEGIN:VEVENT
DTSTAMP:20260424T025711Z
DTSTART;TZID=Europe/Berlin:20260429T194500
DTEND;TZID=Europe/Berlin:20260429T224500
SUMMARY:Ligue 3 Gr.2 Ph.B Châtelaine V vs Carouge V (29)
UID:c248d31a-0f78-43e2-babd-33fe7dd04015
STATUS:CONFIRMED
DESCRIPTION:3ème ligue Homme Gr.2 Phase B\nBegegnungs-Nr: 29\nHeim: Châtelaine V\nGast: Carouge V\n
LOCATION:
CATEGORIES:Saison 2025/26
END:VEVENT
BEGIN:VEVENT
DTSTAMP:20260424T025711Z
DTSTART;TZID=Europe/Berlin:20260325T194500
DTEND;TZID=Europe/Berlin:20260325T224500
SUMMARY:Ligue 3 Gr.2 Ph.B Châtelaine V vs Onex III (24)
UID:3ec40067-df89-459d-b284-447b1f7718e7
STATUS:CONFIRMED
LAST-MODIFIED:20260326T095401Z
DESCRIPTION:3ème ligue Homme Gr.2 Phase B\nBegegnungs-Nr: 24\nHeim: Châtelaine V\nGast: Onex III\n
LOCATION:
CATEGORIES:Saison 2025/26
END:VEVENT
BEGIN:VEVENT
DTSTAMP:20260424T025711Z
DTSTART;TZID=Europe/Berlin:20251202T194500
DTEND;TZID=Europe/Berlin:20251202T224500
SUMMARY:Ligue 2 Gr.1\, Ph.A Bernex III vs Châtelaine V (30)
UID:b96cb776-9930-4e2d-8f53-5986aa50f286
STATUS:CONFIRMED
LAST-MODIFIED:20251203T130942Z
DESCRIPTION:2ème ligue Homme Gr.1 Phase A\nBegegnungs-Nr: 30\nHeim: Bernex III\nGast: Châtelaine V\n
LOCATION:
CATEGORIES:Saison 2025/26
END:VEVENT
BEGIN:VEVENT
DTSTAMP:20260424T025711Z
DTSTART;TZID=Europe/Berlin:20251125T194500
DTEND;TZID=Europe/Berlin:20251125T224500
SUMMARY:Ligue 2 Gr.1\, Ph.A Silver Star III vs Châtelaine V (27)
UID:ff144a2e-3b73-4ead-a294-10c2a265d0ae
STATUS:CONFIRMED
LAST-MODIFIED:20251126T081537Z
DESCRIPTION:2ème ligue Homme Gr.1 Phase A\nBegegnungs-Nr: 27\nHeim: Silver Star III\nGast: Châtelaine V\n
LOCATION:
CATEGORIES:Saison 2025/26
END:VEVENT
BEGIN:VEVENT
DTSTAMP:20260424T025711Z
DTSTART;TZID=Europe/Berlin:20251027T194500
DTEND;TZID=Europe/Berlin:20251027T224500
SUMMARY:Ligue 2 Gr.1\, Ph.A UGS-Chênois V vs Châtelaine V (18)
UID:e6d78c30-8f7f-4910-914f-b11f44804f9e
STATUS:CONFIRMED
LAST-MODIFIED:20251028T093157Z
DESCRIPTION:2ème ligue Homme Gr.1 Phase A\nBegegnungs-Nr: 18\nHeim: UGS-Chênois V\nGast: Châtelaine V\n
LOCATION:
CATEGORIES:Saison 2025/26
END:VEVENT
BEGIN:VEVENT
DTSTAMP:20260424T025711Z
DTSTART;TZID=Europe/Berlin:20250923T194500
DTEND;TZID=Europe/Berlin:20250923T224500
SUMMARY:Ligue 2 Gr.1\, Ph.A Carouge IV vs Châtelaine V (9)
UID:88197b4f-5b3d-4d0e-8d68-a7c57eb84b20
STATUS:CONFIRMED
LAST-MODIFIED:20250924T124951Z
DESCRIPTION:2ème ligue Homme Gr.1 Phase A\nBegegnungs-Nr: 9\nHeim: Carouge IV\nGast: Châtelaine V\n
LOCATION:
CATEGORIES:Saison 2025/26
END:VEVENT
BEGIN:VEVENT
DTSTAMP:20260424T025711Z
DTSTART;TZID=Europe/Berlin:20250916T200000
DTEND;TZID=Europe/Berlin:20250916T230000
SUMMARY:Ligue 2 Gr.1\, Ph.A ZZ-Lancy VI vs Châtelaine V (6)
UID:c96c94b1-7579-43ab-a61b-d4df6ddcdb76
STATUS:CONFIRMED
LAST-MODIFIED:20250917T154826Z
DESCRIPTION:2ème ligue Homme Gr.1 Phase A\nBegegnungs-Nr: 6\nHeim: ZZ-Lancy VI\nGast: Châtelaine V\n
LOCATION:
CATEGORIES:Saison 2025/26
END:VEVENT
BEGIN:VEVENT
DTSTAMP:20260424T025711Z
DTSTART;TZID=Europe/Berlin:20260114T200000
DTEND;TZID=Europe/Berlin:20260114T230000
SUMMARY:Ligue 3 Gr.2 Ph.B ZZ-Lancy VIII vs Châtelaine V (1)
UID:b4d13b57-4024-43f3-a649-6e2b54f72550
STATUS:CONFIRMED
LAST-MODIFIED:20260115T134705Z
DESCRIPTION:3ème ligue Homme Gr.2 Phase B\nBegegnungs-Nr: 1\nHeim: ZZ-Lancy VIII\nGast: Châtelaine V\n
LOCATION:
CATEGORIES:Saison 2025/26
END:VEVENT
BEGIN:VEVENT
DTSTAMP:20260424T025711Z
DTSTART;TZID=Europe/Berlin:20260218T200000
DTEND;TZID=Europe/Berlin:20260218T230000
SUMMARY:Ligue 3 Gr.2 Ph.B Carouge V vs Châtelaine V (14)
UID:2d4b2e52-6b0d-45a0-b6c6-2d6566d42241
STATUS:CONFIRMED
LAST-MODIFIED:20260219T120324Z
DESCRIPTION:3ème ligue Homme Gr.2 Phase B\nBegegnungs-Nr: 14\nHeim: Carouge V\nGast: Châtelaine V\n
LOCATION:
CATEGORIES:Saison 2025/26
END:VEVENT
BEGIN:VEVENT
DTSTAMP:20260424T025711Z
DTSTART;TZID=Europe/Berlin:20260128T194500
DTEND;TZID=Europe/Berlin:20260128T224500
SUMMARY:Ligue 3 Gr.2 Ph.B Onex III vs Châtelaine V (9)
UID:6a1f2616-e924-42f2-b36f-bf39c9133402
STATUS:CONFIRMED
LAST-MODIFIED:20260129T095129Z
DESCRIPTION:3ème ligue Homme Gr.2 Phase B\nBegegnungs-Nr: 9\nHeim: Onex III\nGast: Châtelaine V\n
LOCATION:
CATEGORIES:Saison 2025/26
END:VEVENT
BEGIN:VEVENT
DTSTAMP:20260424T025711Z
DTSTART;TZID=Europe/Berlin:20260401T194500
DTEND;TZID=Europe/Berlin:20260401T224500
SUMMARY:Ligue 3 Gr.2 Ph.B Veyrier II vs Châtelaine V (26)
UID:48decf99-a7b0-4a04-a7aa-ea29601c0418
STATUS:CONFIRMED
LAST-MODIFIED:20260402T064425Z
DESCRIPTION:3ème ligue Homme Gr.2 Phase B\nBegegnungs-Nr: 26\nHeim: Veyrier II\nGast: Châtelaine V\n\nAdresse: -\, 1255 Veyrier\n
LOCATION:-\, 1255 Veyrier
CATEGORIES:Saison 2025/26
END:VEVENT
BEGIN:VEVENT
DTSTAMP:20260424T025711Z
DTSTART;TZID=Europe/Berlin:20260318T194500
DTEND;TZID=Europe/Berlin:20260318T224500
SUMMARY:Ligue 3 Gr.2 Ph.B UGS-Chênois VII vs Châtelaine V (20)
UID:4e7cfcea-bbce-4bb0-b7bf-aafe47b02b50
STATUS:CONFIRMED
LAST-MODIFIED:20260319T171107Z
DESCRIPTION:3ème ligue Homme Gr.2 Phase B\nBegegnungs-Nr: 20\nHeim: UGS-Chênois VII\nGast: Châtelaine V\n
LOCATION:
CATEGORIES:Saison 2025/26
END:VEVENT
END:VCALENDAR
