BEGIN:VCALENDAR
PRODID:-//nuDatenautomaten//framework iCal4j //DE
VERSION:2.0
CALSCALE:GREGORIAN
BEGIN:VTIMEZONE
TZID:Europe/Berlin
LAST-MODIFIED:20260306T231828Z
TZURL:https://www.tzurl.org/zoneinfo/Europe/Berlin
X-LIC-LOCATION:Europe/Berlin
X-PROLEPTIC-TZNAME:LMT
BEGIN:STANDARD
TZNAME:CET
TZOFFSETFROM:+005328
TZOFFSETTO:+0100
DTSTART:18930401T000000
END:STANDARD
BEGIN:DAYLIGHT
TZNAME:CEST
TZOFFSETFROM:+0100
TZOFFSETTO:+0200
DTSTART:19160430T230000
RDATE:19400401T020000
RDATE:19430329T020000
RDATE:19460414T020000
RDATE:19470406T030000
RDATE:19480418T020000
RDATE:19490410T020000
RDATE:19800406T020000
END:DAYLIGHT
BEGIN:STANDARD
TZNAME:CET
TZOFFSETFROM:+0200
TZOFFSETTO:+0100
DTSTART:19161001T010000
RDATE:19421102T030000
RDATE:19431004T030000
RDATE:19441002T030000
RDATE:19451118T030000
RDATE:19461007T030000
END:STANDARD
BEGIN:DAYLIGHT
TZNAME:CEST
TZOFFSETFROM:+0100
TZOFFSETTO:+0200
DTSTART:19170416T020000
RRULE:FREQ=YEARLY;UNTIL=19180415T010000Z;BYMONTH=4;BYDAY=3MO
END:DAYLIGHT
BEGIN:STANDARD
TZNAME:CET
TZOFFSETFROM:+0200
TZOFFSETTO:+0100
DTSTART:19170917T030000
RRULE:FREQ=YEARLY;UNTIL=19180916T010000Z;BYMONTH=9;BYDAY=3MO
END:STANDARD
BEGIN:DAYLIGHT
TZNAME:CEST
TZOFFSETFROM:+0100
TZOFFSETTO:+0200
DTSTART:19440403T020000
RRULE:FREQ=YEARLY;UNTIL=19450402T010000Z;BYMONTH=4;BYDAY=1MO
END:DAYLIGHT
BEGIN:DAYLIGHT
TZNAME:CEMT
TZOFFSETFROM:+0200
TZOFFSETTO:+0300
DTSTART:19450524T020000
RDATE:19470511T030000
END:DAYLIGHT
BEGIN:DAYLIGHT
TZNAME:CEST
TZOFFSETFROM:+0300
TZOFFSETTO:+0200
DTSTART:19450924T030000
RDATE:19470629T030000
END:DAYLIGHT
BEGIN:STANDARD
TZNAME:CET
TZOFFSETFROM:+0100
TZOFFSETTO:+0100
DTSTART:19460101T000000
RDATE:19800101T000000
END:STANDARD
BEGIN:STANDARD
TZNAME:CET
TZOFFSETFROM:+0200
TZOFFSETTO:+0100
DTSTART:19471005T030000
RRULE:FREQ=YEARLY;UNTIL=19491002T010000Z;BYMONTH=10;BYDAY=1SU
END:STANDARD
BEGIN:STANDARD
TZNAME:CET
TZOFFSETFROM:+0200
TZOFFSETTO:+0100
DTSTART:19800928T030000
RRULE:FREQ=YEARLY;UNTIL=19950924T010000Z;BYMONTH=9;BYDAY=-1SU
END:STANDARD
BEGIN:DAYLIGHT
TZNAME:CEST
TZOFFSETFROM:+0100
TZOFFSETTO:+0200
DTSTART:19810329T020000
RRULE:FREQ=YEARLY;BYMONTH=3;BYDAY=-1SU
END:DAYLIGHT
BEGIN:STANDARD
TZNAME:CET
TZOFFSETFROM:+0200
TZOFFSETTO:+0100
DTSTART:19961027T030000
RRULE:FREQ=YEARLY;BYMONTH=10;BYDAY=-1SU
END:STANDARD
END:VTIMEZONE
BEGIN:VEVENT
DTSTAMP:20260424T063719Z
DTSTART;TZID=Europe/Berlin:20260317T200000
DTEND;TZID=Europe/Berlin:20260317T230000
SUMMARY:O40 1. Liga Gr. 1 Gaiserwald vs Affoltern A/A (0)
UID:6e02d318-399e-4392-9c22-703add6c632c
STATUS:CONFIRMED
LAST-MODIFIED:20260318T111330Z
DESCRIPTION: 1. Liga O40 Gruppe 1\nBegegnungs-Nr: 0\nHeim: Gaiserwald\nGast: Affoltern A/A\n\nAdresse: Sonnenbergstrasse 15\, 9030 Abtwil\n
LOCATION:Sonnenbergstrasse 15\, 9030 Abtwil
CATEGORIES:Saison 2025/26
END:VEVENT
BEGIN:VEVENT
DTSTAMP:20260424T063719Z
DTSTART;TZID=Europe/Berlin:20260428T200000
DTEND;TZID=Europe/Berlin:20260428T230000
SUMMARY:O40 1. Liga Gr. 1 Gaiserwald vs Zürich-Affoltern (0)
UID:63ef93e8-20b1-4947-8a2d-7b4645d5b346
STATUS:CONFIRMED
LAST-MODIFIED:20250722T085015Z
DESCRIPTION: 1. Liga O40 Gruppe 1\nBegegnungs-Nr: 0\nHeim: Gaiserwald\nGast: Zürich-Affoltern\n\nAdresse: Sonnenbergstrasse 15\, 9030 Abtwil\n
LOCATION:Sonnenbergstrasse 15\, 9030 Abtwil
CATEGORIES:Saison 2025/26
END:VEVENT
BEGIN:VEVENT
DTSTAMP:20260424T063719Z
DTSTART;TZID=Europe/Berlin:20260421T200000
DTEND;TZID=Europe/Berlin:20260421T230000
SUMMARY:O40 1. Liga Gr. 1 Gaiserwald vs Wädenswil (0)
UID:9263f425-5f89-4bfb-8cfd-660a88de3bf4
STATUS:CONFIRMED
LAST-MODIFIED:20260423T082659Z
DESCRIPTION: 1. Liga O40 Gruppe 1\nBegegnungs-Nr: 0\nHeim: Gaiserwald\nGast: Wädenswil\n\nAdresse: Sonnenbergstrasse 15\, 9030 Abtwil\n
LOCATION:Sonnenbergstrasse 15\, 9030 Abtwil
CATEGORIES:Saison 2025/26
END:VEVENT
BEGIN:VEVENT
DTSTAMP:20260424T063719Z
DTSTART;TZID=Europe/Berlin:20250812T200000
DTEND;TZID=Europe/Berlin:20250812T230000
SUMMARY:O40 1. Liga Gr. 1 Gaiserwald vs Chur (0)
UID:cadbfe5a-f2ae-443e-9f43-4b3ca0e533b5
STATUS:CONFIRMED
LAST-MODIFIED:20250819T061621Z
DESCRIPTION: 1. Liga O40 Gruppe 1\nBegegnungs-Nr: 0\nHeim: Gaiserwald\nGast: Chur\n\nAdresse: Sonnenbergstrasse 15\, 9030 Abtwil\n
LOCATION:Sonnenbergstrasse 15\, 9030 Abtwil
CATEGORIES:Saison 2025/26
END:VEVENT
BEGIN:VEVENT
DTSTAMP:20260424T063719Z
DTSTART;TZID=Europe/Berlin:20250909T200000
DTEND;TZID=Europe/Berlin:20250909T230000
SUMMARY:O40 1. Liga Gr. 1 Gaiserwald vs Romanshorn (0)
UID:382eb279-809b-48a0-9c1c-6fc1e63d532d
STATUS:CONFIRMED
LAST-MODIFIED:20250911T100153Z
DESCRIPTION: 1. Liga O40 Gruppe 1\nBegegnungs-Nr: 0\nHeim: Gaiserwald\nGast: Romanshorn\n\nAdresse: Sonnenbergstrasse 15\, 9030 Abtwil\n
LOCATION:Sonnenbergstrasse 15\, 9030 Abtwil
CATEGORIES:Saison 2025/26
END:VEVENT
BEGIN:VEVENT
DTSTAMP:20260424T063719Z
DTSTART;TZID=Europe/Berlin:20251118T200000
DTEND;TZID=Europe/Berlin:20251118T230000
SUMMARY:O40 1. Liga Gr. 1 Gaiserwald vs Wetzikon (0)
UID:b4e5c2a0-6245-47ae-82ee-7fbc86d67917
STATUS:CONFIRMED
LAST-MODIFIED:20251124T143126Z
DESCRIPTION: 1. Liga O40 Gruppe 1\nBegegnungs-Nr: 0\nHeim: Gaiserwald\nGast: Wetzikon\n\nAdresse: Sonnenbergstrasse 15\, 9030 Abtwil\n
LOCATION:Sonnenbergstrasse 15\, 9030 Abtwil
CATEGORIES:Saison 2025/26
END:VEVENT
BEGIN:VEVENT
DTSTAMP:20260424T063719Z
DTSTART;TZID=Europe/Berlin:20260227T201500
DTEND;TZID=Europe/Berlin:20260227T231500
SUMMARY:O40 1. Liga Gr. 1 Romanshorn vs Gaiserwald (0)
UID:f276fbb3-6584-4403-b49c-edc1696fd028
STATUS:CONFIRMED
LAST-MODIFIED:20260303T132939Z
DESCRIPTION: 1. Liga O40 Gruppe 1\nBegegnungs-Nr: 0\nHeim: Romanshorn\nGast: Gaiserwald\n\nAdresse: Florastrasse\, 8590 Romanshorn\n
LOCATION:Florastrasse\, 8590 Romanshorn
CATEGORIES:Saison 2025/26
END:VEVENT
BEGIN:VEVENT
DTSTAMP:20260424T063719Z
DTSTART;TZID=Europe/Berlin:20260330T194500
DTEND;TZID=Europe/Berlin:20260330T224500
SUMMARY:O40 1. Liga Gr. 1 Wetzikon vs Gaiserwald (0)
UID:66f1e76d-4963-40c8-9fb4-a959bababa7a
STATUS:CONFIRMED
LAST-MODIFIED:20260401T132842Z
DESCRIPTION: 1. Liga O40 Gruppe 1\nBegegnungs-Nr: 0\nHeim: Wetzikon\nGast: Gaiserwald\n\nAdresse: Usterstrasse 37\, 8620 Wetzikon\n
LOCATION:Usterstrasse 37\, 8620 Wetzikon
CATEGORIES:Saison 2025/26
END:VEVENT
BEGIN:VEVENT
DTSTAMP:20260424T063719Z
DTSTART;TZID=Europe/Berlin:20260112T200000
DTEND;TZID=Europe/Berlin:20260112T230000
SUMMARY:O40 1. Liga Gr. 1 Chur vs Gaiserwald (0)
UID:a418909c-5cf7-43a1-95e7-5222f2f2d485
STATUS:CONFIRMED
LAST-MODIFIED:20260116T065057Z
DESCRIPTION: 1. Liga O40 Gruppe 1\nBegegnungs-Nr: 0\nHeim: Chur\nGast: Gaiserwald\n\nAdresse: Sandstr. 35\, 7000 Chur\n
LOCATION:Sandstr. 35\, 7000 Chur
CATEGORIES:Saison 2025/26
END:VEVENT
BEGIN:VEVENT
DTSTAMP:20260424T063719Z
DTSTART;TZID=Europe/Berlin:20260129T201500
DTEND;TZID=Europe/Berlin:20260129T231500
SUMMARY:O40 1. Liga Gr. 1 Wädenswil vs Gaiserwald (0)
UID:93be1bef-b25e-4eee-8319-337caeac7873
STATUS:CONFIRMED
LAST-MODIFIED:20260130T131937Z
DESCRIPTION: 1. Liga O40 Gruppe 1\nBegegnungs-Nr: 0\nHeim: Wädenswil\nGast: Gaiserwald\n\nAdresse: Speerstrasse 95\, 8820 Wädenswil\n
LOCATION:Speerstrasse 95\, 8820 Wädenswil
CATEGORIES:Saison 2025/26
END:VEVENT
BEGIN:VEVENT
DTSTAMP:20260424T063719Z
DTSTART;TZID=Europe/Berlin:20251023T193000
DTEND;TZID=Europe/Berlin:20251023T223000
SUMMARY:O40 1. Liga Gr. 1 Affoltern A/A vs Gaiserwald (0)
UID:7a8fcd9f-41b7-4bf2-bafb-b320def4a29c
STATUS:CONFIRMED
LAST-MODIFIED:20251031T144748Z
DESCRIPTION: 1. Liga O40 Gruppe 1\nBegegnungs-Nr: 0\nHeim: Affoltern A/A\nGast: Gaiserwald\n\nAdresse: Butzenstrasse 8\, 8910 Affoltern am Albis\n
LOCATION:Butzenstrasse 8\, 8910 Affoltern am Albis
CATEGORIES:Saison 2025/26
END:VEVENT
BEGIN:VEVENT
DTSTAMP:20260424T063719Z
DTSTART;TZID=Europe/Berlin:20251128T201500
DTEND;TZID=Europe/Berlin:20251128T231500
SUMMARY:O40 1. Liga Gr. 1 Zürich-Affoltern vs Gaiserwald (0)
UID:ffb07b32-208b-4103-99e7-1d4dbe608b64
STATUS:CONFIRMED
LAST-MODIFIED:20251205T132017Z
DESCRIPTION: 1. Liga O40 Gruppe 1\nBegegnungs-Nr: 0\nHeim: Zürich-Affoltern\nGast: Gaiserwald\n\nAdresse: Rümlangstr. 89\, 8052 Zürich\n
LOCATION:Rümlangstr. 89\, 8052 Zürich
CATEGORIES:Saison 2025/26
END:VEVENT
END:VCALENDAR
