BEGIN:VCALENDAR
PRODID:-//nuDatenautomaten//framework iCal4j //DE
VERSION:2.0
CALSCALE:GREGORIAN
BEGIN:VTIMEZONE
TZID:Europe/Berlin
LAST-MODIFIED:20260306T231828Z
TZURL:https://www.tzurl.org/zoneinfo/Europe/Berlin
X-LIC-LOCATION:Europe/Berlin
X-PROLEPTIC-TZNAME:LMT
BEGIN:STANDARD
TZNAME:CET
TZOFFSETFROM:+005328
TZOFFSETTO:+0100
DTSTART:18930401T000000
END:STANDARD
BEGIN:DAYLIGHT
TZNAME:CEST
TZOFFSETFROM:+0100
TZOFFSETTO:+0200
DTSTART:19160430T230000
RDATE:19400401T020000
RDATE:19430329T020000
RDATE:19460414T020000
RDATE:19470406T030000
RDATE:19480418T020000
RDATE:19490410T020000
RDATE:19800406T020000
END:DAYLIGHT
BEGIN:STANDARD
TZNAME:CET
TZOFFSETFROM:+0200
TZOFFSETTO:+0100
DTSTART:19161001T010000
RDATE:19421102T030000
RDATE:19431004T030000
RDATE:19441002T030000
RDATE:19451118T030000
RDATE:19461007T030000
END:STANDARD
BEGIN:DAYLIGHT
TZNAME:CEST
TZOFFSETFROM:+0100
TZOFFSETTO:+0200
DTSTART:19170416T020000
RRULE:FREQ=YEARLY;UNTIL=19180415T010000Z;BYMONTH=4;BYDAY=3MO
END:DAYLIGHT
BEGIN:STANDARD
TZNAME:CET
TZOFFSETFROM:+0200
TZOFFSETTO:+0100
DTSTART:19170917T030000
RRULE:FREQ=YEARLY;UNTIL=19180916T010000Z;BYMONTH=9;BYDAY=3MO
END:STANDARD
BEGIN:DAYLIGHT
TZNAME:CEST
TZOFFSETFROM:+0100
TZOFFSETTO:+0200
DTSTART:19440403T020000
RRULE:FREQ=YEARLY;UNTIL=19450402T010000Z;BYMONTH=4;BYDAY=1MO
END:DAYLIGHT
BEGIN:DAYLIGHT
TZNAME:CEMT
TZOFFSETFROM:+0200
TZOFFSETTO:+0300
DTSTART:19450524T020000
RDATE:19470511T030000
END:DAYLIGHT
BEGIN:DAYLIGHT
TZNAME:CEST
TZOFFSETFROM:+0300
TZOFFSETTO:+0200
DTSTART:19450924T030000
RDATE:19470629T030000
END:DAYLIGHT
BEGIN:STANDARD
TZNAME:CET
TZOFFSETFROM:+0100
TZOFFSETTO:+0100
DTSTART:19460101T000000
RDATE:19800101T000000
END:STANDARD
BEGIN:STANDARD
TZNAME:CET
TZOFFSETFROM:+0200
TZOFFSETTO:+0100
DTSTART:19471005T030000
RRULE:FREQ=YEARLY;UNTIL=19491002T010000Z;BYMONTH=10;BYDAY=1SU
END:STANDARD
BEGIN:STANDARD
TZNAME:CET
TZOFFSETFROM:+0200
TZOFFSETTO:+0100
DTSTART:19800928T030000
RRULE:FREQ=YEARLY;UNTIL=19950924T010000Z;BYMONTH=9;BYDAY=-1SU
END:STANDARD
BEGIN:DAYLIGHT
TZNAME:CEST
TZOFFSETFROM:+0100
TZOFFSETTO:+0200
DTSTART:19810329T020000
RRULE:FREQ=YEARLY;BYMONTH=3;BYDAY=-1SU
END:DAYLIGHT
BEGIN:STANDARD
TZNAME:CET
TZOFFSETFROM:+0200
TZOFFSETTO:+0100
DTSTART:19961027T030000
RRULE:FREQ=YEARLY;BYMONTH=10;BYDAY=-1SU
END:STANDARD
END:VTIMEZONE
BEGIN:VEVENT
DTSTAMP:20260424T194214Z
DTSTART;TZID=Europe/Berlin:20260119T201500
DTEND;TZID=Europe/Berlin:20260119T231500
SUMMARY:HE 6. Liga Gr. 7 Gossau Zuerich III vs Eschenbach II (0)
UID:a44c69a4-ac7c-4722-8dbc-861608b7797b
STATUS:CONFIRMED
LAST-MODIFIED:20260120T154055Z
DESCRIPTION:6. Liga Herren Gruppe 7\nBegegnungs-Nr: 0\nHeim: Gossau Zuerich III\nGast: Eschenbach II\n\nAdresse: Schulstrasse\, 8624 Grüt-Gossau\n
LOCATION:Schulstrasse\, 8624 Grüt-Gossau
CATEGORIES:Saison 2025/26
END:VEVENT
BEGIN:VEVENT
DTSTAMP:20260424T194214Z
DTSTART;TZID=Europe/Berlin:20260302T201500
DTEND;TZID=Europe/Berlin:20260302T231500
SUMMARY:HE 6. Liga Gr. 7 Gossau Zuerich III vs Toggenburg III (0)
UID:abfe1718-dc93-44e9-97e9-6cb79b5e4f64
STATUS:CONFIRMED
LAST-MODIFIED:20260303T132828Z
DESCRIPTION:6. Liga Herren Gruppe 7\nBegegnungs-Nr: 0\nHeim: Gossau Zuerich III\nGast: Toggenburg III\n\nAdresse: Schulstrasse\, 8624 Grüt-Gossau\n
LOCATION:Schulstrasse\, 8624 Grüt-Gossau
CATEGORIES:Saison 2025/26
END:VEVENT
BEGIN:VEVENT
DTSTAMP:20260424T194214Z
DTSTART;TZID=Europe/Berlin:20260309T201500
DTEND;TZID=Europe/Berlin:20260309T231500
SUMMARY:HE 6. Liga Gr. 7 Gossau Zuerich III vs Wädenswil VIII (0)
UID:126ca918-a3be-4cd1-8a77-0eed974a564c
STATUS:CONFIRMED
LAST-MODIFIED:20260313T132748Z
DESCRIPTION:6. Liga Herren Gruppe 7\nBegegnungs-Nr: 0\nHeim: Gossau Zuerich III\nGast: Wädenswil VIII\n\nAdresse: Schulstrasse\, 8624 Grüt-Gossau\n
LOCATION:Schulstrasse\, 8624 Grüt-Gossau
CATEGORIES:Saison 2025/26
END:VEVENT
BEGIN:VEVENT
DTSTAMP:20260424T194214Z
DTSTART;TZID=Europe/Berlin:20250825T201500
DTEND;TZID=Europe/Berlin:20250825T231500
SUMMARY:HE 6. Liga Gr. 7 Gossau Zuerich III vs Wolfhausen IV (0)
UID:e2e144b4-29e8-406b-b021-79bd5ec82d64
STATUS:CONFIRMED
LAST-MODIFIED:20250826T114059Z
DESCRIPTION:6. Liga Herren Gruppe 7\nBegegnungs-Nr: 0\nHeim: Gossau Zuerich III\nGast: Wolfhausen IV\n\nAdresse: Schulstrasse\, 8624 Grüt-Gossau\n
LOCATION:Schulstrasse\, 8624 Grüt-Gossau
CATEGORIES:Saison 2025/26
END:VEVENT
BEGIN:VEVENT
DTSTAMP:20260424T194214Z
DTSTART;TZID=Europe/Berlin:20251103T201500
DTEND;TZID=Europe/Berlin:20251103T231500
SUMMARY:HE 6. Liga Gr. 7 Gossau Zuerich III vs Dübendorf-Volketswil VI (0)
UID:3a14b809-e684-4610-a359-86875696d7f2
STATUS:CONFIRMED
LAST-MODIFIED:20251107T145507Z
DESCRIPTION:6. Liga Herren Gruppe 7\nBegegnungs-Nr: 0\nHeim: Gossau Zuerich III\nGast: Dübendorf-Volketswil VI\n\nAdresse: Schulstrasse\, 8624 Grüt-Gossau\n
LOCATION:Schulstrasse\, 8624 Grüt-Gossau
CATEGORIES:Saison 2025/26
END:VEVENT
BEGIN:VEVENT
DTSTAMP:20260424T194214Z
DTSTART;TZID=Europe/Berlin:20251201T201500
DTEND;TZID=Europe/Berlin:20251201T231500
SUMMARY:HE 6. Liga Gr. 7 Gossau Zuerich III vs Rapperswil-Jona IX (0)
UID:d26dcf7b-1c73-4716-ac19-87e75328e260
STATUS:CONFIRMED
LAST-MODIFIED:20251205T131205Z
DESCRIPTION:6. Liga Herren Gruppe 7\nBegegnungs-Nr: 0\nHeim: Gossau Zuerich III\nGast: Rapperswil-Jona IX\n\nAdresse: Schulstrasse\, 8624 Grüt-Gossau\n
LOCATION:Schulstrasse\, 8624 Grüt-Gossau
CATEGORIES:Saison 2025/26
END:VEVENT
BEGIN:VEVENT
DTSTAMP:20260424T194214Z
DTSTART;TZID=Europe/Berlin:20260105T200000
DTEND;TZID=Europe/Berlin:20260105T230000
SUMMARY:HE 6. Liga Gr. 7 Wolfhausen IV vs Gossau Zuerich III (0)
UID:d6f4eefa-5052-42d5-8b6b-c5b163709144
STATUS:CONFIRMED
LAST-MODIFIED:20260112T100603Z
DESCRIPTION:6. Liga Herren Gruppe 7\nBegegnungs-Nr: 0\nHeim: Wolfhausen IV\nGast: Gossau Zuerich III\n\nAdresse: Schulstrasse 9\, 8633 Wolfhausen\n
LOCATION:Schulstrasse 9\, 8633 Wolfhausen
CATEGORIES:Saison 2025/26
END:VEVENT
BEGIN:VEVENT
DTSTAMP:20260424T194214Z
DTSTART;TZID=Europe/Berlin:20260326T194500
DTEND;TZID=Europe/Berlin:20260326T224500
SUMMARY:HE 6. Liga Gr. 7 Dübendorf-Volketswil VI vs Gossau Zuerich III (0)
UID:4063c587-240a-4668-be11-cc32b880c97b
STATUS:CONFIRMED
LAST-MODIFIED:20260401T130907Z
DESCRIPTION:6. Liga Herren Gruppe 7\nBegegnungs-Nr: 0\nHeim: Dübendorf-Volketswil VI\nGast: Gossau Zuerich III\n\nAdresse: Wasserfurrenstrasse 7\, 8600 Dübendorf\n
LOCATION:Wasserfurrenstrasse 7\, 8600 Dübendorf
CATEGORIES:Saison 2025/26
END:VEVENT
BEGIN:VEVENT
DTSTAMP:20260424T194214Z
DTSTART;TZID=Europe/Berlin:20260416T200000
DTEND;TZID=Europe/Berlin:20260416T230000
SUMMARY:HE 6. Liga Gr. 7 Rapperswil-Jona IX vs Gossau Zuerich III (0)
UID:280eabc2-105f-491e-ad02-97d0280514d3
STATUS:CONFIRMED
LAST-MODIFIED:20260420T123905Z
DESCRIPTION:6. Liga Herren Gruppe 7\nBegegnungs-Nr: 0\nHeim: Rapperswil-Jona IX\nGast: Gossau Zuerich III\n\nAdresse: Holzwiesstrasse 39\, 8645 Jona\n
LOCATION:Holzwiesstrasse 39\, 8645 Jona
CATEGORIES:Saison 2025/26
END:VEVENT
BEGIN:VEVENT
DTSTAMP:20260424T194214Z
DTSTART;TZID=Europe/Berlin:20250905T200000
DTEND;TZID=Europe/Berlin:20250905T230000
SUMMARY:HE 6. Liga Gr. 7 Eschenbach II vs Gossau Zuerich III (0)
UID:1511ded0-d435-4c00-8578-2504023a9257
STATUS:CONFIRMED
LAST-MODIFIED:20250908T141604Z
DESCRIPTION:6. Liga Herren Gruppe 7\nBegegnungs-Nr: 0\nHeim: Eschenbach II\nGast: Gossau Zuerich III\n\nAdresse: Bildstöcklistrasse 2\, 8733 Eschenbach\n
LOCATION:Bildstöcklistrasse 2\, 8733 Eschenbach
CATEGORIES:Saison 2025/26
END:VEVENT
BEGIN:VEVENT
DTSTAMP:20260424T194214Z
DTSTART;TZID=Europe/Berlin:20250926T200000
DTEND;TZID=Europe/Berlin:20250926T230000
SUMMARY:HE 6. Liga Gr. 7 Toggenburg III vs Gossau Zuerich III (0)
UID:fa8171cf-fff7-4030-89cf-d273ee1e8210
STATUS:CONFIRMED
LAST-MODIFIED:20250930T124649Z
DESCRIPTION:6. Liga Herren Gruppe 7\nBegegnungs-Nr: 0\nHeim: Toggenburg III\nGast: Gossau Zuerich III\n\nAdresse: Frohmaderweg\, 9630 Wattwil\n
LOCATION:Frohmaderweg\, 9630 Wattwil
CATEGORIES:Saison 2025/26
END:VEVENT
BEGIN:VEVENT
DTSTAMP:20260424T194214Z
DTSTART;TZID=Europe/Berlin:20251113T201500
DTEND;TZID=Europe/Berlin:20251113T231500
SUMMARY:HE 6. Liga Gr. 7 Wädenswil VIII vs Gossau Zuerich III (0)
UID:1fc7a635-b205-4c2e-b6a2-d26897a3bb96
STATUS:CONFIRMED
LAST-MODIFIED:20251118T113725Z
DESCRIPTION:6. Liga Herren Gruppe 7\nBegegnungs-Nr: 0\nHeim: Wädenswil VIII\nGast: Gossau Zuerich III\n\nAdresse: Speerstrasse 95\, 8820 Wädenswil\n
LOCATION:Speerstrasse 95\, 8820 Wädenswil
CATEGORIES:Saison 2025/26
END:VEVENT
END:VCALENDAR
