BEGIN:VCALENDAR
PRODID:-//nuDatenautomaten//framework iCal4j //DE
VERSION:2.0
CALSCALE:GREGORIAN
BEGIN:VTIMEZONE
TZID:Europe/Berlin
LAST-MODIFIED:20260306T231828Z
TZURL:https://www.tzurl.org/zoneinfo/Europe/Berlin
X-LIC-LOCATION:Europe/Berlin
X-PROLEPTIC-TZNAME:LMT
BEGIN:STANDARD
TZNAME:CET
TZOFFSETFROM:+005328
TZOFFSETTO:+0100
DTSTART:18930401T000000
END:STANDARD
BEGIN:DAYLIGHT
TZNAME:CEST
TZOFFSETFROM:+0100
TZOFFSETTO:+0200
DTSTART:19160430T230000
RDATE:19400401T020000
RDATE:19430329T020000
RDATE:19460414T020000
RDATE:19470406T030000
RDATE:19480418T020000
RDATE:19490410T020000
RDATE:19800406T020000
END:DAYLIGHT
BEGIN:STANDARD
TZNAME:CET
TZOFFSETFROM:+0200
TZOFFSETTO:+0100
DTSTART:19161001T010000
RDATE:19421102T030000
RDATE:19431004T030000
RDATE:19441002T030000
RDATE:19451118T030000
RDATE:19461007T030000
END:STANDARD
BEGIN:DAYLIGHT
TZNAME:CEST
TZOFFSETFROM:+0100
TZOFFSETTO:+0200
DTSTART:19170416T020000
RRULE:FREQ=YEARLY;UNTIL=19180415T010000Z;BYMONTH=4;BYDAY=3MO
END:DAYLIGHT
BEGIN:STANDARD
TZNAME:CET
TZOFFSETFROM:+0200
TZOFFSETTO:+0100
DTSTART:19170917T030000
RRULE:FREQ=YEARLY;UNTIL=19180916T010000Z;BYMONTH=9;BYDAY=3MO
END:STANDARD
BEGIN:DAYLIGHT
TZNAME:CEST
TZOFFSETFROM:+0100
TZOFFSETTO:+0200
DTSTART:19440403T020000
RRULE:FREQ=YEARLY;UNTIL=19450402T010000Z;BYMONTH=4;BYDAY=1MO
END:DAYLIGHT
BEGIN:DAYLIGHT
TZNAME:CEMT
TZOFFSETFROM:+0200
TZOFFSETTO:+0300
DTSTART:19450524T020000
RDATE:19470511T030000
END:DAYLIGHT
BEGIN:DAYLIGHT
TZNAME:CEST
TZOFFSETFROM:+0300
TZOFFSETTO:+0200
DTSTART:19450924T030000
RDATE:19470629T030000
END:DAYLIGHT
BEGIN:STANDARD
TZNAME:CET
TZOFFSETFROM:+0100
TZOFFSETTO:+0100
DTSTART:19460101T000000
RDATE:19800101T000000
END:STANDARD
BEGIN:STANDARD
TZNAME:CET
TZOFFSETFROM:+0200
TZOFFSETTO:+0100
DTSTART:19471005T030000
RRULE:FREQ=YEARLY;UNTIL=19491002T010000Z;BYMONTH=10;BYDAY=1SU
END:STANDARD
BEGIN:STANDARD
TZNAME:CET
TZOFFSETFROM:+0200
TZOFFSETTO:+0100
DTSTART:19800928T030000
RRULE:FREQ=YEARLY;UNTIL=19950924T010000Z;BYMONTH=9;BYDAY=-1SU
END:STANDARD
BEGIN:DAYLIGHT
TZNAME:CEST
TZOFFSETFROM:+0100
TZOFFSETTO:+0200
DTSTART:19810329T020000
RRULE:FREQ=YEARLY;BYMONTH=3;BYDAY=-1SU
END:DAYLIGHT
BEGIN:STANDARD
TZNAME:CET
TZOFFSETFROM:+0200
TZOFFSETTO:+0100
DTSTART:19961027T030000
RRULE:FREQ=YEARLY;BYMONTH=10;BYDAY=-1SU
END:STANDARD
END:VTIMEZONE
BEGIN:VEVENT
DTSTAMP:20260424T135815Z
DTSTART;TZID=Europe/Berlin:20250915T194500
DTEND;TZID=Europe/Berlin:20250915T224500
SUMMARY:HE 4. Liga Gr. 3 Ostermundigen VI vs Wohlensee II (2)
UID:6c91ac2c-8c40-4022-8a04-c713e7224ba8
STATUS:CONFIRMED
LAST-MODIFIED:20250918T140822Z
DESCRIPTION:4. Liga Herren Gruppe 3\nBegegnungs-Nr: 2\nHeim: Ostermundigen VI\nGast: Wohlensee II\n\nAdresse: Dennigkofenweg 169\, 3072 Ostermundigen\n
LOCATION:Dennigkofenweg 169\, 3072 Ostermundigen
CATEGORIES:Saison 2025/26
END:VEVENT
BEGIN:VEVENT
DTSTAMP:20260424T135815Z
DTSTART;TZID=Europe/Berlin:20260331T193000
DTEND;TZID=Europe/Berlin:20260331T223000
SUMMARY:HE 4. Liga Gr. 3 Ostermundigen VI vs Schmitten (25)
UID:f6438191-fe0f-4160-aac4-c6797477f489
STATUS:CONFIRMED
LAST-MODIFIED:20260409T122505Z
DESCRIPTION:4. Liga Herren Gruppe 3\nBegegnungs-Nr: 25\nHeim: Ostermundigen VI\nGast: Schmitten\n\nAdresse: Dennigkofenweg 169\, 3072 Ostermundigen\n
LOCATION:Dennigkofenweg 169\, 3072 Ostermundigen
CATEGORIES:Saison 2025/26
END:VEVENT
BEGIN:VEVENT
DTSTAMP:20260424T135815Z
DTSTART;TZID=Europe/Berlin:20260311T194500
DTEND;TZID=Europe/Berlin:20260311T224500
SUMMARY:HE 4. Liga Gr. 3 Ostermundigen VI vs Bern VI (22)
UID:c70b25d9-9c56-4ef9-ad8e-7580b5e09f03
STATUS:CONFIRMED
LAST-MODIFIED:20260315T230142Z
DESCRIPTION:4. Liga Herren Gruppe 3\nBegegnungs-Nr: 22\nHeim: Ostermundigen VI\nGast: Bern VI\n\nAdresse: Dennigkofenweg 169\, 3072 Ostermundigen\n
LOCATION:Dennigkofenweg 169\, 3072 Ostermundigen
CATEGORIES:Saison 2025/26
END:VEVENT
BEGIN:VEVENT
DTSTAMP:20260424T135815Z
DTSTART;TZID=Europe/Berlin:20260217T193000
DTEND;TZID=Europe/Berlin:20260217T223000
SUMMARY:HE 4. Liga Gr. 3 Ostermundigen VI vs Köniz III (14)
UID:99348eea-3f83-484a-866b-300c66bc5c8b
STATUS:CONFIRMED
LAST-MODIFIED:20260220T123335Z
DESCRIPTION:4. Liga Herren Gruppe 3\nBegegnungs-Nr: 14\nHeim: Ostermundigen VI\nGast: Köniz III\n\nAdresse: Dennigkofenweg 169\, 3072 Ostermundigen\n
LOCATION:Dennigkofenweg 169\, 3072 Ostermundigen
CATEGORIES:Saison 2025/26
END:VEVENT
BEGIN:VEVENT
DTSTAMP:20260424T135815Z
DTSTART;TZID=Europe/Berlin:20260127T193000
DTEND;TZID=Europe/Berlin:20260127T223000
SUMMARY:HE 4. Liga Gr. 3 Ostermundigen VI vs Ittigen II (6)
UID:c427a7ce-b158-46f4-88f2-dd8ae6dffce8
STATUS:CONFIRMED
LAST-MODIFIED:20260217T214018Z
DESCRIPTION:4. Liga Herren Gruppe 3\nBegegnungs-Nr: 6\nHeim: Ostermundigen VI\nGast: Ittigen II\n\nAdresse: Dennigkofenweg 169\, 3072 Ostermundigen\n
LOCATION:Dennigkofenweg 169\, 3072 Ostermundigen
CATEGORIES:Saison 2025/26
END:VEVENT
BEGIN:VEVENT
DTSTAMP:20260424T135815Z
DTSTART;TZID=Europe/Berlin:20251119T194500
DTEND;TZID=Europe/Berlin:20251119T224500
SUMMARY:HE 4. Liga Gr. 3 Ostermundigen VI vs Schwarzenburg (18)
UID:7c014e16-2701-41a3-beec-12bb782fdd72
STATUS:CONFIRMED
LAST-MODIFIED:20251122T091039Z
DESCRIPTION:4. Liga Herren Gruppe 3\nBegegnungs-Nr: 18\nHeim: Ostermundigen VI\nGast: Schwarzenburg\n\nAdresse: Dennigkofenweg 169\, 3072 Ostermundigen\n
LOCATION:Dennigkofenweg 169\, 3072 Ostermundigen
CATEGORIES:Saison 2025/26
END:VEVENT
BEGIN:VEVENT
DTSTAMP:20260424T135815Z
DTSTART;TZID=Europe/Berlin:20251029T194500
DTEND;TZID=Europe/Berlin:20251029T224500
SUMMARY:HE 4. Liga Gr. 3 Ostermundigen VI vs Düdingen II (10)
UID:ed39d7fa-713a-42d2-858a-f0bb1db88fc4
STATUS:CONFIRMED
LAST-MODIFIED:20251111T072753Z
DESCRIPTION:4. Liga Herren Gruppe 3\nBegegnungs-Nr: 10\nHeim: Ostermundigen VI\nGast: Düdingen II\n\nAdresse: Dennigkofenweg 169\, 3072 Ostermundigen\n
LOCATION:Dennigkofenweg 169\, 3072 Ostermundigen
CATEGORIES:Saison 2025/26
END:VEVENT
BEGIN:VEVENT
DTSTAMP:20260424T135815Z
DTSTART;TZID=Europe/Berlin:20251020T194500
DTEND;TZID=Europe/Berlin:20251020T224500
SUMMARY:HE 4. Liga Gr. 3 Ittigen II vs Ostermundigen VI (6)
UID:e401c8e8-f6a2-46bf-9abd-f9b728fb1e0b
STATUS:CONFIRMED
LAST-MODIFIED:20251029T221017Z
DESCRIPTION:4. Liga Herren Gruppe 3\nBegegnungs-Nr: 6\nHeim: Ittigen II\nGast: Ostermundigen VI\n\nAdresse: Fischrainweg 17\, 3048 Worblaufen\n
LOCATION:Fischrainweg 17\, 3048 Worblaufen
CATEGORIES:Saison 2025/26
END:VEVENT
BEGIN:VEVENT
DTSTAMP:20260424T135815Z
DTSTART;TZID=Europe/Berlin:20260302T201500
DTEND;TZID=Europe/Berlin:20260302T231500
SUMMARY:HE 4. Liga Gr. 3 Schwarzenburg vs Ostermundigen VI (18)
UID:f82a8120-dc29-45ca-a459-06cc544c1530
STATUS:CONFIRMED
LAST-MODIFIED:20260308T175120Z
DESCRIPTION:4. Liga Herren Gruppe 3\nBegegnungs-Nr: 18\nHeim: Schwarzenburg\nGast: Ostermundigen VI\n\nAdresse: Einschlag 21\, 3150 Schwarzenburg\n
LOCATION:Einschlag 21\, 3150 Schwarzenburg
CATEGORIES:Saison 2025/26
END:VEVENT
BEGIN:VEVENT
DTSTAMP:20260424T135815Z
DTSTART;TZID=Europe/Berlin:20260205T194500
DTEND;TZID=Europe/Berlin:20260205T224500
SUMMARY:HE 4. Liga Gr. 3 Düdingen II vs Ostermundigen VI (10)
UID:bcf19b94-0eb2-4ef0-b0c0-dd8260a662bb
STATUS:CONFIRMED
LAST-MODIFIED:20260217T214336Z
DESCRIPTION:4. Liga Herren Gruppe 3\nBegegnungs-Nr: 10\nHeim: Düdingen II\nGast: Ostermundigen VI\n\nAdresse: Alfons-Aeby-Strasse\, 3186 Düdingen\n
LOCATION:Alfons-Aeby-Strasse\, 3186 Düdingen
CATEGORIES:Saison 2025/26
END:VEVENT
BEGIN:VEVENT
DTSTAMP:20260424T135815Z
DTSTART;TZID=Europe/Berlin:20260114T194500
DTEND;TZID=Europe/Berlin:20260114T224500
SUMMARY:HE 4. Liga Gr. 3 Wohlensee II vs Ostermundigen VI (2)
UID:392e5513-1813-48e3-8c9c-23d8e6bee567
STATUS:CONFIRMED
LAST-MODIFIED:20260125T001737Z
DESCRIPTION:4. Liga Herren Gruppe 3\nBegegnungs-Nr: 2\nHeim: Wohlensee II\nGast: Ostermundigen VI\n\nAdresse: Kappelenring 36 a\, 3032 Hinterkappelen\n
LOCATION:Kappelenring 36 a\, 3032 Hinterkappelen
CATEGORIES:Saison 2025/26
END:VEVENT
BEGIN:VEVENT
DTSTAMP:20260424T135815Z
DTSTART;TZID=Europe/Berlin:20251211T201500
DTEND;TZID=Europe/Berlin:20251211T231500
SUMMARY:HE 4. Liga Gr. 3 Schmitten vs Ostermundigen VI (25)
UID:eccc6eb3-ca4a-405a-bb93-273ed72f13ca
STATUS:CONFIRMED
LAST-MODIFIED:20251216T120617Z
DESCRIPTION:4. Liga Herren Gruppe 3\nBegegnungs-Nr: 25\nHeim: Schmitten\nGast: Ostermundigen VI\n\nAdresse: -\, 3185 Schmitten\n
LOCATION:-\, 3185 Schmitten
CATEGORIES:Saison 2025/26
END:VEVENT
BEGIN:VEVENT
DTSTAMP:20260424T135815Z
DTSTART;TZID=Europe/Berlin:20251127T200000
DTEND;TZID=Europe/Berlin:20251127T230000
SUMMARY:HE 4. Liga Gr. 3 Bern VI vs Ostermundigen VI (22)
UID:39ef5761-82d5-4133-926d-eda868ed59eb
STATUS:CONFIRMED
LAST-MODIFIED:20251207T172953Z
DESCRIPTION:4. Liga Herren Gruppe 3\nBegegnungs-Nr: 22\nHeim: Bern VI\nGast: Ostermundigen VI\n\nAdresse: Mädergutstrasse 58\, 3018 Bern\n
LOCATION:Mädergutstrasse 58\, 3018 Bern
CATEGORIES:Saison 2025/26
END:VEVENT
BEGIN:VEVENT
DTSTAMP:20260424T135815Z
DTSTART;TZID=Europe/Berlin:20251031T200000
DTEND;TZID=Europe/Berlin:20251031T230000
SUMMARY:HE 4. Liga Gr. 3 Köniz III vs Ostermundigen VI (14)
UID:47b1fbb4-359a-4e01-b659-4cbc303fd7d3
STATUS:CONFIRMED
LAST-MODIFIED:20251111T072807Z
DESCRIPTION:4. Liga Herren Gruppe 3\nBegegnungs-Nr: 14\nHeim: Köniz III\nGast: Ostermundigen VI\n\nAdresse: Kirchstrasse 72-76\, 3084 Wabern\n
LOCATION:Kirchstrasse 72-76\, 3084 Wabern
CATEGORIES:Saison 2025/26
END:VEVENT
END:VCALENDAR
