BEGIN:VCALENDAR
PRODID:-//nuDatenautomaten//framework iCal4j //DE
VERSION:2.0
CALSCALE:GREGORIAN
BEGIN:VTIMEZONE
TZID:Europe/Berlin
LAST-MODIFIED:20260306T231828Z
TZURL:https://www.tzurl.org/zoneinfo/Europe/Berlin
X-LIC-LOCATION:Europe/Berlin
X-PROLEPTIC-TZNAME:LMT
BEGIN:STANDARD
TZNAME:CET
TZOFFSETFROM:+005328
TZOFFSETTO:+0100
DTSTART:18930401T000000
END:STANDARD
BEGIN:DAYLIGHT
TZNAME:CEST
TZOFFSETFROM:+0100
TZOFFSETTO:+0200
DTSTART:19160430T230000
RDATE:19400401T020000
RDATE:19430329T020000
RDATE:19460414T020000
RDATE:19470406T030000
RDATE:19480418T020000
RDATE:19490410T020000
RDATE:19800406T020000
END:DAYLIGHT
BEGIN:STANDARD
TZNAME:CET
TZOFFSETFROM:+0200
TZOFFSETTO:+0100
DTSTART:19161001T010000
RDATE:19421102T030000
RDATE:19431004T030000
RDATE:19441002T030000
RDATE:19451118T030000
RDATE:19461007T030000
END:STANDARD
BEGIN:DAYLIGHT
TZNAME:CEST
TZOFFSETFROM:+0100
TZOFFSETTO:+0200
DTSTART:19170416T020000
RRULE:FREQ=YEARLY;UNTIL=19180415T010000Z;BYMONTH=4;BYDAY=3MO
END:DAYLIGHT
BEGIN:STANDARD
TZNAME:CET
TZOFFSETFROM:+0200
TZOFFSETTO:+0100
DTSTART:19170917T030000
RRULE:FREQ=YEARLY;UNTIL=19180916T010000Z;BYMONTH=9;BYDAY=3MO
END:STANDARD
BEGIN:DAYLIGHT
TZNAME:CEST
TZOFFSETFROM:+0100
TZOFFSETTO:+0200
DTSTART:19440403T020000
RRULE:FREQ=YEARLY;UNTIL=19450402T010000Z;BYMONTH=4;BYDAY=1MO
END:DAYLIGHT
BEGIN:DAYLIGHT
TZNAME:CEMT
TZOFFSETFROM:+0200
TZOFFSETTO:+0300
DTSTART:19450524T020000
RDATE:19470511T030000
END:DAYLIGHT
BEGIN:DAYLIGHT
TZNAME:CEST
TZOFFSETFROM:+0300
TZOFFSETTO:+0200
DTSTART:19450924T030000
RDATE:19470629T030000
END:DAYLIGHT
BEGIN:STANDARD
TZNAME:CET
TZOFFSETFROM:+0100
TZOFFSETTO:+0100
DTSTART:19460101T000000
RDATE:19800101T000000
END:STANDARD
BEGIN:STANDARD
TZNAME:CET
TZOFFSETFROM:+0200
TZOFFSETTO:+0100
DTSTART:19471005T030000
RRULE:FREQ=YEARLY;UNTIL=19491002T010000Z;BYMONTH=10;BYDAY=1SU
END:STANDARD
BEGIN:STANDARD
TZNAME:CET
TZOFFSETFROM:+0200
TZOFFSETTO:+0100
DTSTART:19800928T030000
RRULE:FREQ=YEARLY;UNTIL=19950924T010000Z;BYMONTH=9;BYDAY=-1SU
END:STANDARD
BEGIN:DAYLIGHT
TZNAME:CEST
TZOFFSETFROM:+0100
TZOFFSETTO:+0200
DTSTART:19810329T020000
RRULE:FREQ=YEARLY;BYMONTH=3;BYDAY=-1SU
END:DAYLIGHT
BEGIN:STANDARD
TZNAME:CET
TZOFFSETFROM:+0200
TZOFFSETTO:+0100
DTSTART:19961027T030000
RRULE:FREQ=YEARLY;BYMONTH=10;BYDAY=-1SU
END:STANDARD
END:VTIMEZONE
BEGIN:VEVENT
DTSTAMP:20260424T135851Z
DTSTART;TZID=Europe/Berlin:20260108T194500
DTEND;TZID=Europe/Berlin:20260108T224500
SUMMARY:HE 6. Liga Gr. 4 Kloten IV vs Bülach VI (0)
UID:17b4ce7f-5071-4f5b-bf5a-1bed127012aa
STATUS:CONFIRMED
LAST-MODIFIED:20260109T080347Z
DESCRIPTION:6. Liga Herren Gruppe 4\nBegegnungs-Nr: 0\nHeim: Kloten IV\nGast: Bülach VI\n\nAdresse: Schluefweg 10\, 8302 Kloten\n
LOCATION:Schluefweg 10\, 8302 Kloten
CATEGORIES:Saison 2025/26
END:VEVENT
BEGIN:VEVENT
DTSTAMP:20260424T135851Z
DTSTART;TZID=Europe/Berlin:20260205T194500
DTEND;TZID=Europe/Berlin:20260205T224500
SUMMARY:HE 6. Liga Gr. 4 Kloten IV vs Ettenhausen IV (0)
UID:3cb9384a-bf80-4ac0-a84d-aa2cc0e5aabe
STATUS:CONFIRMED
LAST-MODIFIED:20260206T140258Z
DESCRIPTION:6. Liga Herren Gruppe 4\nBegegnungs-Nr: 0\nHeim: Kloten IV\nGast: Ettenhausen IV\n\nAdresse: Schluefweg 10\, 8302 Kloten\n
LOCATION:Schluefweg 10\, 8302 Kloten
CATEGORIES:Saison 2025/26
END:VEVENT
BEGIN:VEVENT
DTSTAMP:20260424T135851Z
DTSTART;TZID=Europe/Berlin:20260326T194500
DTEND;TZID=Europe/Berlin:20260326T224500
SUMMARY:HE 6. Liga Gr. 4 Kloten IV vs Frauenfeld III (0)
UID:93236742-a360-4397-9e69-cb58918ae26e
STATUS:CONFIRMED
LAST-MODIFIED:20260401T130710Z
DESCRIPTION:6. Liga Herren Gruppe 4\nBegegnungs-Nr: 0\nHeim: Kloten IV\nGast: Frauenfeld III\n\nAdresse: Schluefweg 10\, 8302 Kloten\n
LOCATION:Schluefweg 10\, 8302 Kloten
CATEGORIES:Saison 2025/26
END:VEVENT
BEGIN:VEVENT
DTSTAMP:20260424T135851Z
DTSTART;TZID=Europe/Berlin:20260416T194500
DTEND;TZID=Europe/Berlin:20260416T224500
SUMMARY:HE 6. Liga Gr. 4 Kloten IV vs Imperial Winterthur IV (0)
UID:49735a64-f18d-4ea7-9e93-25c467458c47
STATUS:CONFIRMED
LAST-MODIFIED:20260420T123638Z
DESCRIPTION:6. Liga Herren Gruppe 4\nBegegnungs-Nr: 0\nHeim: Kloten IV\nGast: Imperial Winterthur IV\n\nAdresse: Schluefweg 10\, 8302 Kloten\n
LOCATION:Schluefweg 10\, 8302 Kloten
CATEGORIES:Saison 2025/26
END:VEVENT
BEGIN:VEVENT
DTSTAMP:20260424T135851Z
DTSTART;TZID=Europe/Berlin:20251002T194500
DTEND;TZID=Europe/Berlin:20251002T224500
SUMMARY:HE 6. Liga Gr. 4 Kloten IV vs Winterthur VI (0)
UID:e67683d6-89ba-47c3-86c8-f1e0a8dd2b02
STATUS:CONFIRMED
LAST-MODIFIED:20251003T065752Z
DESCRIPTION:6. Liga Herren Gruppe 4\nBegegnungs-Nr: 0\nHeim: Kloten IV\nGast: Winterthur VI\n\nAdresse: Schluefweg 10\, 8302 Kloten\n
LOCATION:Schluefweg 10\, 8302 Kloten
CATEGORIES:Saison 2025/26
END:VEVENT
BEGIN:VEVENT
DTSTAMP:20260424T135851Z
DTSTART;TZID=Europe/Berlin:20250925T194500
DTEND;TZID=Europe/Berlin:20250925T224500
SUMMARY:HE 6. Liga Gr. 4 Kloten IV vs Schlatt II (0)
UID:a758c4a1-98c0-4faf-a8ae-b1ac4e2ebf47
STATUS:CONFIRMED
LAST-MODIFIED:20250926T133852Z
DESCRIPTION:6. Liga Herren Gruppe 4\nBegegnungs-Nr: 0\nHeim: Kloten IV\nGast: Schlatt II\n\nAdresse: Schluefweg 10\, 8302 Kloten\n
LOCATION:Schluefweg 10\, 8302 Kloten
CATEGORIES:Saison 2025/26
END:VEVENT
BEGIN:VEVENT
DTSTAMP:20260424T135851Z
DTSTART;TZID=Europe/Berlin:20251127T194500
DTEND;TZID=Europe/Berlin:20251127T224500
SUMMARY:HE 6. Liga Gr. 4 Kloten IV vs Neuhausen VIII (0)
UID:b98abe1e-fe17-4db7-bdae-58a6cf88ce1d
STATUS:CONFIRMED
LAST-MODIFIED:20251128T134323Z
DESCRIPTION:6. Liga Herren Gruppe 4\nBegegnungs-Nr: 0\nHeim: Kloten IV\nGast: Neuhausen VIII\n\nAdresse: Schluefweg 10\, 8302 Kloten\n
LOCATION:Schluefweg 10\, 8302 Kloten
CATEGORIES:Saison 2025/26
END:VEVENT
BEGIN:VEVENT
DTSTAMP:20260424T135851Z
DTSTART;TZID=Europe/Berlin:20260123T201500
DTEND;TZID=Europe/Berlin:20260123T231500
SUMMARY:HE 6. Liga Gr. 4 Winterthur VI vs Kloten IV (0)
UID:5c4233b5-d4a7-44ff-9047-faf77f69d865
STATUS:CONFIRMED
LAST-MODIFIED:20260130T102905Z
DESCRIPTION:6. Liga Herren Gruppe 4\nBegegnungs-Nr: 0\nHeim: Winterthur VI\nGast: Kloten IV\n\nAdresse: Buchackerstrasse 54\, 8400 Winterthur\n
LOCATION:Buchackerstrasse 54\, 8400 Winterthur
CATEGORIES:Saison 2025/26
END:VEVENT
BEGIN:VEVENT
DTSTAMP:20260424T135851Z
DTSTART;TZID=Europe/Berlin:20260330T193000
DTEND;TZID=Europe/Berlin:20260330T223000
SUMMARY:HE 6. Liga Gr. 4 Schlatt II vs Kloten IV (0)
UID:60d040ad-9de4-49b4-8a17-f797661ec916
STATUS:CONFIRMED
LAST-MODIFIED:20260401T130727Z
DESCRIPTION:6. Liga Herren Gruppe 4\nBegegnungs-Nr: 0\nHeim: Schlatt II\nGast: Kloten IV\n\nAdresse: Waltersteinerstrasse 79\, 8418 Schlatt ZH\n
LOCATION:Waltersteinerstrasse 79\, 8418 Schlatt ZH
CATEGORIES:Saison 2025/26
END:VEVENT
BEGIN:VEVENT
DTSTAMP:20260424T135851Z
DTSTART;TZID=Europe/Berlin:20260311T200000
DTEND;TZID=Europe/Berlin:20260311T230000
SUMMARY:HE 6. Liga Gr. 4 Neuhausen VIII vs Kloten IV (0)
UID:95ae49bf-6235-4f94-b6f2-87f4cbdea11e
STATUS:CONFIRMED
LAST-MODIFIED:20260317T145453Z
DESCRIPTION:6. Liga Herren Gruppe 4\nBegegnungs-Nr: 0\nHeim: Neuhausen VIII\nGast: Kloten IV\n\nAdresse: Ebnatstrasse 35\, 8200 Schaffhausen\n
LOCATION:Ebnatstrasse 35\, 8200 Schaffhausen
CATEGORIES:Saison 2025/26
END:VEVENT
BEGIN:VEVENT
DTSTAMP:20260424T135851Z
DTSTART;TZID=Europe/Berlin:20251004T113000
DTEND;TZID=Europe/Berlin:20251004T143000
SUMMARY:HE 6. Liga Gr. 4 Ettenhausen IV vs Kloten IV (0)
UID:daf3e9e1-8881-4b8a-95ef-c25275a58761
STATUS:CONFIRMED
LAST-MODIFIED:20251007T054533Z
DESCRIPTION:6. Liga Herren Gruppe 4\nBegegnungs-Nr: 0\nHeim: Ettenhausen IV\nGast: Kloten IV\n\nAdresse: Weidlistrasse 12\, 8356 Ettenhausen\n
LOCATION:Weidlistrasse 12\, 8356 Ettenhausen
CATEGORIES:Saison 2025/26
END:VEVENT
BEGIN:VEVENT
DTSTAMP:20260424T135851Z
DTSTART;TZID=Europe/Berlin:20250829T193000
DTEND;TZID=Europe/Berlin:20250829T223000
SUMMARY:HE 6. Liga Gr. 4 Bülach VI vs Kloten IV (0)
UID:6d7a6f1e-193a-45a1-b94b-c57344178d5f
STATUS:CONFIRMED
LAST-MODIFIED:20251103T103030Z
DESCRIPTION:6. Liga Herren Gruppe 4\nBegegnungs-Nr: 0\nHeim: Bülach VI\nGast: Kloten IV\n\nAdresse: Schwerzgruebstrasse 28\, 8180 Bülach\n
LOCATION:Schwerzgruebstrasse 28\, 8180 Bülach
CATEGORIES:Saison 2025/26
END:VEVENT
BEGIN:VEVENT
DTSTAMP:20260424T135851Z
DTSTART;TZID=Europe/Berlin:20251103T200000
DTEND;TZID=Europe/Berlin:20251103T230000
SUMMARY:HE 6. Liga Gr. 4 Frauenfeld III vs Kloten IV (0)
UID:3f093d7d-2764-44aa-896d-3a7086d85f00
STATUS:CONFIRMED
LAST-MODIFIED:20251107T133048Z
DESCRIPTION:6. Liga Herren Gruppe 4\nBegegnungs-Nr: 0\nHeim: Frauenfeld III\nGast: Kloten IV\n\nAdresse: Scheuchenstrasse\, 8500 Frauenfeld\n
LOCATION:Scheuchenstrasse\, 8500 Frauenfeld
CATEGORIES:Saison 2025/26
END:VEVENT
BEGIN:VEVENT
DTSTAMP:20260424T135851Z
DTSTART;TZID=Europe/Berlin:20251201T200000
DTEND;TZID=Europe/Berlin:20251201T230000
SUMMARY:HE 6. Liga Gr. 4 Imperial Winterthur IV vs Kloten IV (0)
UID:7e21fa8e-3076-4ba9-bdc3-37181af17078
STATUS:CONFIRMED
LAST-MODIFIED:20251205T131115Z
DESCRIPTION:6. Liga Herren Gruppe 4\nBegegnungs-Nr: 0\nHeim: Imperial Winterthur IV\nGast: Kloten IV\n\nAdresse: Büelhofstrasse 25a\, 8405 Winterthur\n
LOCATION:Büelhofstrasse 25a\, 8405 Winterthur
CATEGORIES:Saison 2025/26
END:VEVENT
END:VCALENDAR
