BEGIN:VCALENDAR
PRODID:-//nuDatenautomaten//framework iCal4j //DE
VERSION:2.0
CALSCALE:GREGORIAN
BEGIN:VTIMEZONE
TZID:Europe/Berlin
LAST-MODIFIED:20260306T231828Z
TZURL:https://www.tzurl.org/zoneinfo/Europe/Berlin
X-LIC-LOCATION:Europe/Berlin
X-PROLEPTIC-TZNAME:LMT
BEGIN:STANDARD
TZNAME:CET
TZOFFSETFROM:+005328
TZOFFSETTO:+0100
DTSTART:18930401T000000
END:STANDARD
BEGIN:DAYLIGHT
TZNAME:CEST
TZOFFSETFROM:+0100
TZOFFSETTO:+0200
DTSTART:19160430T230000
RDATE:19400401T020000
RDATE:19430329T020000
RDATE:19460414T020000
RDATE:19470406T030000
RDATE:19480418T020000
RDATE:19490410T020000
RDATE:19800406T020000
END:DAYLIGHT
BEGIN:STANDARD
TZNAME:CET
TZOFFSETFROM:+0200
TZOFFSETTO:+0100
DTSTART:19161001T010000
RDATE:19421102T030000
RDATE:19431004T030000
RDATE:19441002T030000
RDATE:19451118T030000
RDATE:19461007T030000
END:STANDARD
BEGIN:DAYLIGHT
TZNAME:CEST
TZOFFSETFROM:+0100
TZOFFSETTO:+0200
DTSTART:19170416T020000
RRULE:FREQ=YEARLY;UNTIL=19180415T010000Z;BYMONTH=4;BYDAY=3MO
END:DAYLIGHT
BEGIN:STANDARD
TZNAME:CET
TZOFFSETFROM:+0200
TZOFFSETTO:+0100
DTSTART:19170917T030000
RRULE:FREQ=YEARLY;UNTIL=19180916T010000Z;BYMONTH=9;BYDAY=3MO
END:STANDARD
BEGIN:DAYLIGHT
TZNAME:CEST
TZOFFSETFROM:+0100
TZOFFSETTO:+0200
DTSTART:19440403T020000
RRULE:FREQ=YEARLY;UNTIL=19450402T010000Z;BYMONTH=4;BYDAY=1MO
END:DAYLIGHT
BEGIN:DAYLIGHT
TZNAME:CEMT
TZOFFSETFROM:+0200
TZOFFSETTO:+0300
DTSTART:19450524T020000
RDATE:19470511T030000
END:DAYLIGHT
BEGIN:DAYLIGHT
TZNAME:CEST
TZOFFSETFROM:+0300
TZOFFSETTO:+0200
DTSTART:19450924T030000
RDATE:19470629T030000
END:DAYLIGHT
BEGIN:STANDARD
TZNAME:CET
TZOFFSETFROM:+0100
TZOFFSETTO:+0100
DTSTART:19460101T000000
RDATE:19800101T000000
END:STANDARD
BEGIN:STANDARD
TZNAME:CET
TZOFFSETFROM:+0200
TZOFFSETTO:+0100
DTSTART:19471005T030000
RRULE:FREQ=YEARLY;UNTIL=19491002T010000Z;BYMONTH=10;BYDAY=1SU
END:STANDARD
BEGIN:STANDARD
TZNAME:CET
TZOFFSETFROM:+0200
TZOFFSETTO:+0100
DTSTART:19800928T030000
RRULE:FREQ=YEARLY;UNTIL=19950924T010000Z;BYMONTH=9;BYDAY=-1SU
END:STANDARD
BEGIN:DAYLIGHT
TZNAME:CEST
TZOFFSETFROM:+0100
TZOFFSETTO:+0200
DTSTART:19810329T020000
RRULE:FREQ=YEARLY;BYMONTH=3;BYDAY=-1SU
END:DAYLIGHT
BEGIN:STANDARD
TZNAME:CET
TZOFFSETFROM:+0200
TZOFFSETTO:+0100
DTSTART:19961027T030000
RRULE:FREQ=YEARLY;BYMONTH=10;BYDAY=-1SU
END:STANDARD
END:VTIMEZONE
BEGIN:VEVENT
DTSTAMP:20260424T115048Z
DTSTART;TZID=Europe/Berlin:20250909T194500
DTEND;TZID=Europe/Berlin:20250909T224500
SUMMARY:Ligue 2 Gr.2 Onex II vs Mandement II (3)
UID:2a9ea5d3-ab08-4a89-9996-fdc89d94b0ad
STATUS:CONFIRMED
LAST-MODIFIED:20250911T133844Z
DESCRIPTION:2ème ligue O40 2ème groupe\nBegegnungs-Nr: 3\nHeim: Onex II\nGast: Mandement II\n
LOCATION:
CATEGORIES:Saison 2025/26
END:VEVENT
BEGIN:VEVENT
DTSTAMP:20260424T115048Z
DTSTART;TZID=Europe/Berlin:20260303T194500
DTEND;TZID=Europe/Berlin:20260303T224500
SUMMARY:Ligue 2 Gr.2 Onex II vs Meyrin (23)
UID:04f5e8f8-f3b1-4413-9bcb-9948d210f819
STATUS:CONFIRMED
LAST-MODIFIED:20260304T074409Z
DESCRIPTION:2ème ligue O40 2ème groupe\nBegegnungs-Nr: 23\nHeim: Onex II\nGast: Meyrin\n
LOCATION:
CATEGORIES:Saison 2025/26
END:VEVENT
BEGIN:VEVENT
DTSTAMP:20260424T115048Z
DTSTART;TZID=Europe/Berlin:20260203T194500
DTEND;TZID=Europe/Berlin:20260203T224500
SUMMARY:Ligue 2 Gr.2 Onex II vs UGS-Chênois II (19)
UID:4e3ce8b7-953c-4c98-a5c5-ecc9c95eb111
STATUS:CONFIRMED
LAST-MODIFIED:20260205T100059Z
DESCRIPTION:2ème ligue O40 2ème groupe\nBegegnungs-Nr: 19\nHeim: Onex II\nGast: UGS-Chênois II\n
LOCATION:
CATEGORIES:Saison 2025/26
END:VEVENT
BEGIN:VEVENT
DTSTAMP:20260424T115048Z
DTSTART;TZID=Europe/Berlin:20251216T194500
DTEND;TZID=Europe/Berlin:20251216T224500
SUMMARY:Ligue 2 Gr.2 Onex II vs Carouge II (14)
UID:254dbbac-9766-4f62-8e4a-9fa298107c2e
STATUS:CONFIRMED
LAST-MODIFIED:20251217T101107Z
DESCRIPTION:2ème ligue O40 2ème groupe\nBegegnungs-Nr: 14\nHeim: Onex II\nGast: Carouge II\n
LOCATION:
CATEGORIES:Saison 2025/26
END:VEVENT
BEGIN:VEVENT
DTSTAMP:20260424T115048Z
DTSTART;TZID=Europe/Berlin:20251209T194500
DTEND;TZID=Europe/Berlin:20251209T224500
SUMMARY:Ligue 2 Gr.2 Onex II vs ZZ-Lancy II (10)
UID:e098accb-d748-4955-baed-3042a49c3a18
STATUS:CONFIRMED
LAST-MODIFIED:20251210T140942Z
DESCRIPTION:2ème ligue O40 2ème groupe\nBegegnungs-Nr: 10\nHeim: Onex II\nGast: ZZ-Lancy II\n
LOCATION:
CATEGORIES:Saison 2025/26
END:VEVENT
BEGIN:VEVENT
DTSTAMP:20260424T115048Z
DTSTART;TZID=Europe/Berlin:20251104T194500
DTEND;TZID=Europe/Berlin:20251104T224500
SUMMARY:Ligue 2 Gr.2 Meyrin vs Onex II (8)
UID:068bae68-0d46-4ebe-8a68-0456406f434c
STATUS:CONFIRMED
LAST-MODIFIED:20251105T231513Z
DESCRIPTION:2ème ligue O40 2ème groupe\nBegegnungs-Nr: 8\nHeim: Meyrin\nGast: Onex II\n
LOCATION:
CATEGORIES:Saison 2025/26
END:VEVENT
BEGIN:VEVENT
DTSTAMP:20260424T115048Z
DTSTART;TZID=Europe/Berlin:20250929T194500
DTEND;TZID=Europe/Berlin:20250929T224500
SUMMARY:Ligue 2 Gr.2 UGS-Chênois II vs Onex II (4)
UID:0b60d7a0-47f3-4ceb-8021-f148b5ff6587
STATUS:CONFIRMED
LAST-MODIFIED:20250930T185924Z
DESCRIPTION:2ème ligue O40 2ème groupe\nBegegnungs-Nr: 4\nHeim: UGS-Chênois II\nGast: Onex II\n
LOCATION:
CATEGORIES:Saison 2025/26
END:VEVENT
BEGIN:VEVENT
DTSTAMP:20260424T115048Z
DTSTART;TZID=Europe/Berlin:20260505T194500
DTEND;TZID=Europe/Berlin:20260505T224500
SUMMARY:Ligue 2 Gr.2 Carouge II vs Onex II (29)
UID:872940e6-2355-4dfc-8994-cc5a42dc2822
STATUS:CONFIRMED
DESCRIPTION:2ème ligue O40 2ème groupe\nBegegnungs-Nr: 29\nHeim: Carouge II\nGast: Onex II\n
LOCATION:
CATEGORIES:Saison 2025/26
END:VEVENT
BEGIN:VEVENT
DTSTAMP:20260424T115048Z
DTSTART;TZID=Europe/Berlin:20260421T200000
DTEND;TZID=Europe/Berlin:20260421T230000
SUMMARY:Ligue 2 Gr.2 ZZ-Lancy II vs Onex II (25)
UID:15d4ea94-2f6b-4808-91c4-f108978dc627
STATUS:CONFIRMED
LAST-MODIFIED:20260422T141900Z
DESCRIPTION:2ème ligue O40 2ème groupe\nBegegnungs-Nr: 25\nHeim: ZZ-Lancy II\nGast: Onex II\n
LOCATION:
CATEGORIES:Saison 2025/26
END:VEVENT
BEGIN:VEVENT
DTSTAMP:20260424T115048Z
DTSTART;TZID=Europe/Berlin:20260106T194500
DTEND;TZID=Europe/Berlin:20260106T224500
SUMMARY:Ligue 2 Gr.2 Mandement II vs Onex II (18)
UID:5a063e0c-3069-4037-9a0a-18d276b8da47
STATUS:CONFIRMED
LAST-MODIFIED:20260107T131034Z
DESCRIPTION:2ème ligue O40 2ème groupe\nBegegnungs-Nr: 18\nHeim: Mandement II\nGast: Onex II\n
LOCATION:
CATEGORIES:Saison 2025/26
END:VEVENT
END:VCALENDAR
