BEGIN:VCALENDAR
PRODID:-//nuDatenautomaten//framework iCal4j //DE
VERSION:2.0
CALSCALE:GREGORIAN
BEGIN:VTIMEZONE
TZID:Europe/Berlin
LAST-MODIFIED:20260306T231828Z
TZURL:https://www.tzurl.org/zoneinfo/Europe/Berlin
X-LIC-LOCATION:Europe/Berlin
X-PROLEPTIC-TZNAME:LMT
BEGIN:STANDARD
TZNAME:CET
TZOFFSETFROM:+005328
TZOFFSETTO:+0100
DTSTART:18930401T000000
END:STANDARD
BEGIN:DAYLIGHT
TZNAME:CEST
TZOFFSETFROM:+0100
TZOFFSETTO:+0200
DTSTART:19160430T230000
RDATE:19400401T020000
RDATE:19430329T020000
RDATE:19460414T020000
RDATE:19470406T030000
RDATE:19480418T020000
RDATE:19490410T020000
RDATE:19800406T020000
END:DAYLIGHT
BEGIN:STANDARD
TZNAME:CET
TZOFFSETFROM:+0200
TZOFFSETTO:+0100
DTSTART:19161001T010000
RDATE:19421102T030000
RDATE:19431004T030000
RDATE:19441002T030000
RDATE:19451118T030000
RDATE:19461007T030000
END:STANDARD
BEGIN:DAYLIGHT
TZNAME:CEST
TZOFFSETFROM:+0100
TZOFFSETTO:+0200
DTSTART:19170416T020000
RRULE:FREQ=YEARLY;UNTIL=19180415T010000Z;BYMONTH=4;BYDAY=3MO
END:DAYLIGHT
BEGIN:STANDARD
TZNAME:CET
TZOFFSETFROM:+0200
TZOFFSETTO:+0100
DTSTART:19170917T030000
RRULE:FREQ=YEARLY;UNTIL=19180916T010000Z;BYMONTH=9;BYDAY=3MO
END:STANDARD
BEGIN:DAYLIGHT
TZNAME:CEST
TZOFFSETFROM:+0100
TZOFFSETTO:+0200
DTSTART:19440403T020000
RRULE:FREQ=YEARLY;UNTIL=19450402T010000Z;BYMONTH=4;BYDAY=1MO
END:DAYLIGHT
BEGIN:DAYLIGHT
TZNAME:CEMT
TZOFFSETFROM:+0200
TZOFFSETTO:+0300
DTSTART:19450524T020000
RDATE:19470511T030000
END:DAYLIGHT
BEGIN:DAYLIGHT
TZNAME:CEST
TZOFFSETFROM:+0300
TZOFFSETTO:+0200
DTSTART:19450924T030000
RDATE:19470629T030000
END:DAYLIGHT
BEGIN:STANDARD
TZNAME:CET
TZOFFSETFROM:+0100
TZOFFSETTO:+0100
DTSTART:19460101T000000
RDATE:19800101T000000
END:STANDARD
BEGIN:STANDARD
TZNAME:CET
TZOFFSETFROM:+0200
TZOFFSETTO:+0100
DTSTART:19471005T030000
RRULE:FREQ=YEARLY;UNTIL=19491002T010000Z;BYMONTH=10;BYDAY=1SU
END:STANDARD
BEGIN:STANDARD
TZNAME:CET
TZOFFSETFROM:+0200
TZOFFSETTO:+0100
DTSTART:19800928T030000
RRULE:FREQ=YEARLY;UNTIL=19950924T010000Z;BYMONTH=9;BYDAY=-1SU
END:STANDARD
BEGIN:DAYLIGHT
TZNAME:CEST
TZOFFSETFROM:+0100
TZOFFSETTO:+0200
DTSTART:19810329T020000
RRULE:FREQ=YEARLY;BYMONTH=3;BYDAY=-1SU
END:DAYLIGHT
BEGIN:STANDARD
TZNAME:CET
TZOFFSETFROM:+0200
TZOFFSETTO:+0100
DTSTART:19961027T030000
RRULE:FREQ=YEARLY;BYMONTH=10;BYDAY=-1SU
END:STANDARD
END:VTIMEZONE
BEGIN:VEVENT
DTSTAMP:20260424T134201Z
DTSTART;TZID=Europe/Berlin:20260304T194500
DTEND;TZID=Europe/Berlin:20260304T224500
SUMMARY:Ligue 3 Gr.2 Châtelaine III vs Carouge III (16)
UID:207b8d3a-1785-4022-99e4-32ad223908f9
STATUS:CONFIRMED
LAST-MODIFIED:20260305T123109Z
DESCRIPTION:3ème ligue O40 2ème Groupe\nBegegnungs-Nr: 16\nHeim: Châtelaine III\nGast: Carouge III\n
LOCATION:
CATEGORIES:Saison 2025/26
END:VEVENT
BEGIN:VEVENT
DTSTAMP:20260424T134201Z
DTSTART;TZID=Europe/Berlin:20260204T194500
DTEND;TZID=Europe/Berlin:20260204T224500
SUMMARY:Ligue 3 Gr.2 Châtelaine III vs Collex-Bossy (13)
UID:f2e50d74-b741-44c6-8bca-e3e2e0f280e5
STATUS:CONFIRMED
LAST-MODIFIED:20260205T100330Z
DESCRIPTION:3ème ligue O40 2ème Groupe\nBegegnungs-Nr: 13\nHeim: Châtelaine III\nGast: Collex-Bossy\n
LOCATION:
CATEGORIES:Saison 2025/26
END:VEVENT
BEGIN:VEVENT
DTSTAMP:20260424T134201Z
DTSTART;TZID=Europe/Berlin:20251217T194500
DTEND;TZID=Europe/Berlin:20251217T224500
SUMMARY:Ligue 3 Gr.2 Châtelaine III vs Grand-Saconnex II (10)
UID:3a7deba6-fbce-4973-abd5-0eb493bcc674
STATUS:CONFIRMED
LAST-MODIFIED:20251219T095920Z
DESCRIPTION:3ème ligue O40 2ème Groupe\nBegegnungs-Nr: 10\nHeim: Châtelaine III\nGast: Grand-Saconnex II\n
LOCATION:
CATEGORIES:Saison 2025/26
END:VEVENT
BEGIN:VEVENT
DTSTAMP:20260424T134201Z
DTSTART;TZID=Europe/Berlin:20251210T194500
DTEND;TZID=Europe/Berlin:20251210T224500
SUMMARY:Ligue 3 Gr.2 Châtelaine III vs Veyrier (7)
UID:09019d2b-9297-44d1-b898-0113a13d3664
STATUS:CONFIRMED
LAST-MODIFIED:20251211T074844Z
DESCRIPTION:3ème ligue O40 2ème Groupe\nBegegnungs-Nr: 7\nHeim: Châtelaine III\nGast: Veyrier\n
LOCATION:
CATEGORIES:Saison 2025/26
END:VEVENT
BEGIN:VEVENT
DTSTAMP:20260424T134201Z
DTSTART;TZID=Europe/Berlin:20250929T194500
DTEND;TZID=Europe/Berlin:20250929T224500
SUMMARY:Ligue 3 Gr.2 Collex-Bossy vs Châtelaine III (3)
UID:5243617b-ef62-4659-8301-0d21017230ac
STATUS:CONFIRMED
LAST-MODIFIED:20250930T190107Z
DESCRIPTION:3ème ligue O40 2ème Groupe\nBegegnungs-Nr: 3\nHeim: Collex-Bossy\nGast: Châtelaine III\n
LOCATION:
CATEGORIES:Saison 2025/26
END:VEVENT
BEGIN:VEVENT
DTSTAMP:20260424T134201Z
DTSTART;TZID=Europe/Berlin:20260506T194500
DTEND;TZID=Europe/Berlin:20260506T224500
SUMMARY:Ligue 3 Gr.2 Grand-Saconnex II vs Châtelaine III (20)
UID:823e89cd-b834-43eb-a34c-243f550fb444
STATUS:CONFIRMED
LAST-MODIFIED:20260108T110350Z
DESCRIPTION:3ème ligue O40 2ème Groupe\nBegegnungs-Nr: 20\nHeim: Grand-Saconnex II\nGast: Châtelaine III\n
LOCATION:
CATEGORIES:Saison 2025/26
END:VEVENT
BEGIN:VEVENT
DTSTAMP:20260424T134201Z
DTSTART;TZID=Europe/Berlin:20260422T194500
DTEND;TZID=Europe/Berlin:20260422T224500
SUMMARY:Ligue 3 Gr.2 Veyrier vs Châtelaine III (17)
UID:17b5a5c8-5ba8-47a7-8d39-9a7419630826
STATUS:CONFIRMED
LAST-MODIFIED:20260423T084112Z
DESCRIPTION:3ème ligue O40 2ème Groupe\nBegegnungs-Nr: 17\nHeim: Veyrier\nGast: Châtelaine III\n\nAdresse: -\, 1255 Veyrier\n
LOCATION:-\, 1255 Veyrier
CATEGORIES:Saison 2025/26
END:VEVENT
BEGIN:VEVENT
DTSTAMP:20260424T134201Z
DTSTART;TZID=Europe/Berlin:20251105T200000
DTEND;TZID=Europe/Berlin:20251105T230000
SUMMARY:Ligue 3 Gr.2 Carouge III vs Châtelaine III (6)
UID:aba798ad-ea09-4c6b-bb07-4c5919be75c0
STATUS:CONFIRMED
LAST-MODIFIED:20251106T164123Z
DESCRIPTION:3ème ligue O40 2ème Groupe\nBegegnungs-Nr: 6\nHeim: Carouge III\nGast: Châtelaine III\n
LOCATION:
CATEGORIES:Saison 2025/26
END:VEVENT
END:VCALENDAR
