BEGIN:VCALENDAR
PRODID:-//nuDatenautomaten//framework iCal4j //DE
VERSION:2.0
CALSCALE:GREGORIAN
BEGIN:VTIMEZONE
TZID:Europe/Berlin
LAST-MODIFIED:20260306T231828Z
TZURL:https://www.tzurl.org/zoneinfo/Europe/Berlin
X-LIC-LOCATION:Europe/Berlin
X-PROLEPTIC-TZNAME:LMT
BEGIN:STANDARD
TZNAME:CET
TZOFFSETFROM:+005328
TZOFFSETTO:+0100
DTSTART:18930401T000000
END:STANDARD
BEGIN:DAYLIGHT
TZNAME:CEST
TZOFFSETFROM:+0100
TZOFFSETTO:+0200
DTSTART:19160430T230000
RDATE:19400401T020000
RDATE:19430329T020000
RDATE:19460414T020000
RDATE:19470406T030000
RDATE:19480418T020000
RDATE:19490410T020000
RDATE:19800406T020000
END:DAYLIGHT
BEGIN:STANDARD
TZNAME:CET
TZOFFSETFROM:+0200
TZOFFSETTO:+0100
DTSTART:19161001T010000
RDATE:19421102T030000
RDATE:19431004T030000
RDATE:19441002T030000
RDATE:19451118T030000
RDATE:19461007T030000
END:STANDARD
BEGIN:DAYLIGHT
TZNAME:CEST
TZOFFSETFROM:+0100
TZOFFSETTO:+0200
DTSTART:19170416T020000
RRULE:FREQ=YEARLY;UNTIL=19180415T010000Z;BYMONTH=4;BYDAY=3MO
END:DAYLIGHT
BEGIN:STANDARD
TZNAME:CET
TZOFFSETFROM:+0200
TZOFFSETTO:+0100
DTSTART:19170917T030000
RRULE:FREQ=YEARLY;UNTIL=19180916T010000Z;BYMONTH=9;BYDAY=3MO
END:STANDARD
BEGIN:DAYLIGHT
TZNAME:CEST
TZOFFSETFROM:+0100
TZOFFSETTO:+0200
DTSTART:19440403T020000
RRULE:FREQ=YEARLY;UNTIL=19450402T010000Z;BYMONTH=4;BYDAY=1MO
END:DAYLIGHT
BEGIN:DAYLIGHT
TZNAME:CEMT
TZOFFSETFROM:+0200
TZOFFSETTO:+0300
DTSTART:19450524T020000
RDATE:19470511T030000
END:DAYLIGHT
BEGIN:DAYLIGHT
TZNAME:CEST
TZOFFSETFROM:+0300
TZOFFSETTO:+0200
DTSTART:19450924T030000
RDATE:19470629T030000
END:DAYLIGHT
BEGIN:STANDARD
TZNAME:CET
TZOFFSETFROM:+0100
TZOFFSETTO:+0100
DTSTART:19460101T000000
RDATE:19800101T000000
END:STANDARD
BEGIN:STANDARD
TZNAME:CET
TZOFFSETFROM:+0200
TZOFFSETTO:+0100
DTSTART:19471005T030000
RRULE:FREQ=YEARLY;UNTIL=19491002T010000Z;BYMONTH=10;BYDAY=1SU
END:STANDARD
BEGIN:STANDARD
TZNAME:CET
TZOFFSETFROM:+0200
TZOFFSETTO:+0100
DTSTART:19800928T030000
RRULE:FREQ=YEARLY;UNTIL=19950924T010000Z;BYMONTH=9;BYDAY=-1SU
END:STANDARD
BEGIN:DAYLIGHT
TZNAME:CEST
TZOFFSETFROM:+0100
TZOFFSETTO:+0200
DTSTART:19810329T020000
RRULE:FREQ=YEARLY;BYMONTH=3;BYDAY=-1SU
END:DAYLIGHT
BEGIN:STANDARD
TZNAME:CET
TZOFFSETFROM:+0200
TZOFFSETTO:+0100
DTSTART:19961027T030000
RRULE:FREQ=YEARLY;BYMONTH=10;BYDAY=-1SU
END:STANDARD
END:VTIMEZONE
BEGIN:VEVENT
DTSTAMP:20260424T135916Z
DTSTART;TZID=Europe/Berlin:20260123T200000
DTEND;TZID=Europe/Berlin:20260123T230000
SUMMARY:HE 3. Liga Gr. 1 St. Gallen V vs Oberriet (0)
UID:acaec24e-0cf2-46fa-a215-34837212bc48
STATUS:CONFIRMED
LAST-MODIFIED:20260127T134502Z
DESCRIPTION:3. Liga Herren Gruppe 1\nBegegnungs-Nr: 0\nHeim: St. Gallen V\nGast: Oberriet\n\nAdresse: Zilstrasse 61\, 9016 St.Gallen\n
LOCATION:Zilstrasse 61\, 9016 St.Gallen
CATEGORIES:Saison 2025/26
END:VEVENT
BEGIN:VEVENT
DTSTAMP:20260424T135916Z
DTSTART;TZID=Europe/Berlin:20250829T200000
DTEND;TZID=Europe/Berlin:20250829T230000
SUMMARY:HE 3. Liga Gr. 1 St. Gallen V vs Triesen II (0)
UID:23664bf6-adcb-424f-aeb8-68776f21ba8c
STATUS:CONFIRMED
LAST-MODIFIED:20250902T091819Z
DESCRIPTION:3. Liga Herren Gruppe 1\nBegegnungs-Nr: 0\nHeim: St. Gallen V\nGast: Triesen II\n\nAdresse: Zilstrasse 61\, 9016 St.Gallen\n
LOCATION:Zilstrasse 61\, 9016 St.Gallen
CATEGORIES:Saison 2025/26
END:VEVENT
BEGIN:VEVENT
DTSTAMP:20260424T135916Z
DTSTART;TZID=Europe/Berlin:20250919T200000
DTEND;TZID=Europe/Berlin:20250919T230000
SUMMARY:HE 3. Liga Gr. 1 St. Gallen V vs Horn (0)
UID:9ecd3492-b981-4990-b92b-2eb2acf90bab
STATUS:CONFIRMED
LAST-MODIFIED:20251007T054621Z
DESCRIPTION:3. Liga Herren Gruppe 1\nBegegnungs-Nr: 0\nHeim: St. Gallen V\nGast: Horn\n\nAdresse: Zilstrasse 61\, 9016 St.Gallen\n
LOCATION:Zilstrasse 61\, 9016 St.Gallen
CATEGORIES:Saison 2025/26
END:VEVENT
BEGIN:VEVENT
DTSTAMP:20260424T135916Z
DTSTART;TZID=Europe/Berlin:20260306T200000
DTEND;TZID=Europe/Berlin:20260306T230000
SUMMARY:HE 3. Liga Gr. 1 St. Gallen V vs Muolen III (0)
UID:d5defc9f-ab04-485c-94b7-255d3b3a599b
STATUS:CONFIRMED
LAST-MODIFIED:20260310T155044Z
DESCRIPTION:3. Liga Herren Gruppe 1\nBegegnungs-Nr: 0\nHeim: St. Gallen V\nGast: Muolen III\n\nAdresse: Zilstrasse 61\, 9016 St.Gallen\n
LOCATION:Zilstrasse 61\, 9016 St.Gallen
CATEGORIES:Saison 2025/26
END:VEVENT
BEGIN:VEVENT
DTSTAMP:20260424T135916Z
DTSTART;TZID=Europe/Berlin:20260313T200000
DTEND;TZID=Europe/Berlin:20260313T230000
SUMMARY:HE 3. Liga Gr. 1 St. Gallen V vs Schaan-Eschen/Mauren (0)
UID:7fb94104-2386-4768-acd4-cb3140728343
STATUS:CONFIRMED
LAST-MODIFIED:20260316T143921Z
DESCRIPTION:3. Liga Herren Gruppe 1\nBegegnungs-Nr: 0\nHeim: St. Gallen V\nGast: Schaan-Eschen/Mauren\n\nAdresse: Zilstrasse 61\, 9016 St.Gallen\n
LOCATION:Zilstrasse 61\, 9016 St.Gallen
CATEGORIES:Saison 2025/26
END:VEVENT
BEGIN:VEVENT
DTSTAMP:20260424T135916Z
DTSTART;TZID=Europe/Berlin:20251107T200000
DTEND;TZID=Europe/Berlin:20251107T230000
SUMMARY:HE 3. Liga Gr. 1 St. Gallen V vs Flums (0)
UID:9fee3c85-f607-4e1c-8355-5c0722a74217
STATUS:CONFIRMED
LAST-MODIFIED:20251114T165254Z
DESCRIPTION:3. Liga Herren Gruppe 1\nBegegnungs-Nr: 0\nHeim: St. Gallen V\nGast: Flums\n\nAdresse: Zilstrasse 61\, 9016 St.Gallen\n
LOCATION:Zilstrasse 61\, 9016 St.Gallen
CATEGORIES:Saison 2025/26
END:VEVENT
BEGIN:VEVENT
DTSTAMP:20260424T135916Z
DTSTART;TZID=Europe/Berlin:20251212T200000
DTEND;TZID=Europe/Berlin:20251212T230000
SUMMARY:HE 3. Liga Gr. 1 St. Gallen V vs Romanshorn II (0)
UID:3b0324e3-da09-4449-a300-81451be059cd
STATUS:CONFIRMED
LAST-MODIFIED:20251215T132942Z
DESCRIPTION:3. Liga Herren Gruppe 1\nBegegnungs-Nr: 0\nHeim: St. Gallen V\nGast: Romanshorn II\n\nAdresse: Zilstrasse 61\, 9016 St.Gallen\n
LOCATION:Zilstrasse 61\, 9016 St.Gallen
CATEGORIES:Saison 2025/26
END:VEVENT
BEGIN:VEVENT
DTSTAMP:20260424T135916Z
DTSTART;TZID=Europe/Berlin:20260203T194500
DTEND;TZID=Europe/Berlin:20260203T224500
SUMMARY:HE 3. Liga Gr. 1 Triesen II vs St. Gallen V (0)
UID:88d7178d-1406-4979-80cd-5e9c9dafcb96
STATUS:CONFIRMED
LAST-MODIFIED:20260204T084910Z
DESCRIPTION:3. Liga Herren Gruppe 1\nBegegnungs-Nr: 0\nHeim: Triesen II\nGast: St. Gallen V\n\nAdresse: Gässle 12\, 9495 Triesen\n
LOCATION:Gässle 12\, 9495 Triesen
CATEGORIES:Saison 2025/26
END:VEVENT
BEGIN:VEVENT
DTSTAMP:20260424T135916Z
DTSTART;TZID=Europe/Berlin:20250903T201500
DTEND;TZID=Europe/Berlin:20250903T231500
SUMMARY:HE 3. Liga Gr. 1 Oberriet vs St. Gallen V (0)
UID:7d6c2253-20d5-4e24-a68b-68b4040abce3
STATUS:CONFIRMED
LAST-MODIFIED:20250905T081630Z
DESCRIPTION:3. Liga Herren Gruppe 1\nBegegnungs-Nr: 0\nHeim: Oberriet\nGast: St. Gallen V\n\nAdresse: Neugutstrasse 2\, 9463 Oberriet SG\n
LOCATION:Neugutstrasse 2\, 9463 Oberriet SG
CATEGORIES:Saison 2025/26
END:VEVENT
BEGIN:VEVENT
DTSTAMP:20260424T135916Z
DTSTART;TZID=Europe/Berlin:20260210T200000
DTEND;TZID=Europe/Berlin:20260210T230000
SUMMARY:HE 3. Liga Gr. 1 Horn vs St. Gallen V (0)
UID:b9d2ac0b-999e-4cbc-8319-52fde7bae9d3
STATUS:CONFIRMED
LAST-MODIFIED:20260213T093017Z
DESCRIPTION:3. Liga Herren Gruppe 1\nBegegnungs-Nr: 0\nHeim: Horn\nGast: St. Gallen V\n\nAdresse: Feldstrasse 16\, 9326 Horn\n
LOCATION:Feldstrasse 16\, 9326 Horn
CATEGORIES:Saison 2025/26
END:VEVENT
BEGIN:VEVENT
DTSTAMP:20260424T135916Z
DTSTART;TZID=Europe/Berlin:20250924T200000
DTEND;TZID=Europe/Berlin:20250924T230000
SUMMARY:HE 3. Liga Gr. 1 Muolen III vs St. Gallen V (0)
UID:05a939e2-80ed-4734-8b7f-6e7314e99a3a
STATUS:CONFIRMED
LAST-MODIFIED:20251007T054632Z
DESCRIPTION:3. Liga Herren Gruppe 1\nBegegnungs-Nr: 0\nHeim: Muolen III\nGast: St. Gallen V\n\nAdresse: Dorfstrasse 31\, 9313 Muolen\n
LOCATION:Dorfstrasse 31\, 9313 Muolen
CATEGORIES:Saison 2025/26
END:VEVENT
BEGIN:VEVENT
DTSTAMP:20260424T135916Z
DTSTART;TZID=Europe/Berlin:20251028T194500
DTEND;TZID=Europe/Berlin:20251028T224500
SUMMARY:HE 3. Liga Gr. 1 Schaan-Eschen/Mauren vs St. Gallen V (0)
UID:b7efe440-6206-4085-9fb0-e915216e7d4e
STATUS:CONFIRMED
LAST-MODIFIED:20251031T143109Z
DESCRIPTION:3. Liga Herren Gruppe 1\nBegegnungs-Nr: 0\nHeim: Schaan-Eschen/Mauren\nGast: St. Gallen V\n\nAdresse: Simsgasse 10\, 9492 Eschen\n
LOCATION:Simsgasse 10\, 9492 Eschen
CATEGORIES:Saison 2025/26
END:VEVENT
BEGIN:VEVENT
DTSTAMP:20260424T135916Z
DTSTART;TZID=Europe/Berlin:20260323T201500
DTEND;TZID=Europe/Berlin:20260323T231500
SUMMARY:HE 3. Liga Gr. 1 Flums vs St. Gallen V (0)
UID:c001eefd-08d3-4276-aed7-40bb08188e4c
STATUS:CONFIRMED
LAST-MODIFIED:20260326T134102Z
DESCRIPTION:3. Liga Herren Gruppe 1\nBegegnungs-Nr: 0\nHeim: Flums\nGast: St. Gallen V\n\nAdresse: Bergstrasse\, 8890 Flums\n
LOCATION:Bergstrasse\, 8890 Flums
CATEGORIES:Saison 2025/26
END:VEVENT
BEGIN:VEVENT
DTSTAMP:20260424T135916Z
DTSTART;TZID=Europe/Berlin:20260316T201500
DTEND;TZID=Europe/Berlin:20260316T231500
SUMMARY:HE 3. Liga Gr. 1 Romanshorn II vs St. Gallen V (0)
UID:26494a91-6980-46ac-a1f2-82eb00ea36d1
STATUS:CONFIRMED
LAST-MODIFIED:20260317T133404Z
DESCRIPTION:3. Liga Herren Gruppe 1\nBegegnungs-Nr: 0\nHeim: Romanshorn II\nGast: St. Gallen V\n\nAdresse: Florastrasse\, 8590 Romanshorn\n
LOCATION:Florastrasse\, 8590 Romanshorn
CATEGORIES:Saison 2025/26
END:VEVENT
END:VCALENDAR
