BEGIN:VCALENDAR
PRODID:-//nuDatenautomaten//framework iCal4j //DE
VERSION:2.0
CALSCALE:GREGORIAN
BEGIN:VTIMEZONE
TZID:Europe/Berlin
LAST-MODIFIED:20260306T231828Z
TZURL:https://www.tzurl.org/zoneinfo/Europe/Berlin
X-LIC-LOCATION:Europe/Berlin
X-PROLEPTIC-TZNAME:LMT
BEGIN:STANDARD
TZNAME:CET
TZOFFSETFROM:+005328
TZOFFSETTO:+0100
DTSTART:18930401T000000
END:STANDARD
BEGIN:DAYLIGHT
TZNAME:CEST
TZOFFSETFROM:+0100
TZOFFSETTO:+0200
DTSTART:19160430T230000
RDATE:19400401T020000
RDATE:19430329T020000
RDATE:19460414T020000
RDATE:19470406T030000
RDATE:19480418T020000
RDATE:19490410T020000
RDATE:19800406T020000
END:DAYLIGHT
BEGIN:STANDARD
TZNAME:CET
TZOFFSETFROM:+0200
TZOFFSETTO:+0100
DTSTART:19161001T010000
RDATE:19421102T030000
RDATE:19431004T030000
RDATE:19441002T030000
RDATE:19451118T030000
RDATE:19461007T030000
END:STANDARD
BEGIN:DAYLIGHT
TZNAME:CEST
TZOFFSETFROM:+0100
TZOFFSETTO:+0200
DTSTART:19170416T020000
RRULE:FREQ=YEARLY;UNTIL=19180415T010000Z;BYMONTH=4;BYDAY=3MO
END:DAYLIGHT
BEGIN:STANDARD
TZNAME:CET
TZOFFSETFROM:+0200
TZOFFSETTO:+0100
DTSTART:19170917T030000
RRULE:FREQ=YEARLY;UNTIL=19180916T010000Z;BYMONTH=9;BYDAY=3MO
END:STANDARD
BEGIN:DAYLIGHT
TZNAME:CEST
TZOFFSETFROM:+0100
TZOFFSETTO:+0200
DTSTART:19440403T020000
RRULE:FREQ=YEARLY;UNTIL=19450402T010000Z;BYMONTH=4;BYDAY=1MO
END:DAYLIGHT
BEGIN:DAYLIGHT
TZNAME:CEMT
TZOFFSETFROM:+0200
TZOFFSETTO:+0300
DTSTART:19450524T020000
RDATE:19470511T030000
END:DAYLIGHT
BEGIN:DAYLIGHT
TZNAME:CEST
TZOFFSETFROM:+0300
TZOFFSETTO:+0200
DTSTART:19450924T030000
RDATE:19470629T030000
END:DAYLIGHT
BEGIN:STANDARD
TZNAME:CET
TZOFFSETFROM:+0100
TZOFFSETTO:+0100
DTSTART:19460101T000000
RDATE:19800101T000000
END:STANDARD
BEGIN:STANDARD
TZNAME:CET
TZOFFSETFROM:+0200
TZOFFSETTO:+0100
DTSTART:19471005T030000
RRULE:FREQ=YEARLY;UNTIL=19491002T010000Z;BYMONTH=10;BYDAY=1SU
END:STANDARD
BEGIN:STANDARD
TZNAME:CET
TZOFFSETFROM:+0200
TZOFFSETTO:+0100
DTSTART:19800928T030000
RRULE:FREQ=YEARLY;UNTIL=19950924T010000Z;BYMONTH=9;BYDAY=-1SU
END:STANDARD
BEGIN:DAYLIGHT
TZNAME:CEST
TZOFFSETFROM:+0100
TZOFFSETTO:+0200
DTSTART:19810329T020000
RRULE:FREQ=YEARLY;BYMONTH=3;BYDAY=-1SU
END:DAYLIGHT
BEGIN:STANDARD
TZNAME:CET
TZOFFSETFROM:+0200
TZOFFSETTO:+0100
DTSTART:19961027T030000
RRULE:FREQ=YEARLY;BYMONTH=10;BYDAY=-1SU
END:STANDARD
END:VTIMEZONE
BEGIN:VEVENT
DTSTAMP:20260424T134204Z
DTSTART;TZID=Europe/Berlin:20260109T201500
DTEND;TZID=Europe/Berlin:20260109T231500
SUMMARY:HE 5. Liga Gr. 1 Oberriet III vs Romanshorn IV (0)
UID:d4eec78f-6433-4993-ad1d-fdeb968e752e
STATUS:CONFIRMED
LAST-MODIFIED:20260112T095406Z
DESCRIPTION:5. Liga Herren Gruppe 1\nBegegnungs-Nr: 0\nHeim: Oberriet III\nGast: Romanshorn IV\n\nAdresse: Neugutstrasse 2\, 9463 Oberriet SG\n
LOCATION:Neugutstrasse 2\, 9463 Oberriet SG
CATEGORIES:Saison 2025/26
END:VEVENT
BEGIN:VEVENT
DTSTAMP:20260424T134204Z
DTSTART;TZID=Europe/Berlin:20260130T201500
DTEND;TZID=Europe/Berlin:20260130T231500
SUMMARY:HE 5. Liga Gr. 1 Oberriet III vs Rorschach II (0)
UID:d0472a57-ec4a-4ec7-baa7-655fccb6c499
STATUS:CONFIRMED
LAST-MODIFIED:20260203T142545Z
DESCRIPTION:5. Liga Herren Gruppe 1\nBegegnungs-Nr: 0\nHeim: Oberriet III\nGast: Rorschach II\n\nAdresse: Neugutstrasse 2\, 9463 Oberriet SG\n
LOCATION:Neugutstrasse 2\, 9463 Oberriet SG
CATEGORIES:Saison 2025/26
END:VEVENT
BEGIN:VEVENT
DTSTAMP:20260424T134204Z
DTSTART;TZID=Europe/Berlin:20260327T201500
DTEND;TZID=Europe/Berlin:20260327T231500
SUMMARY:HE 5. Liga Gr. 1 Oberriet III vs Arbon (0)
UID:d3b9f13b-2967-4031-80d9-1e5595bfb048
STATUS:CONFIRMED
LAST-MODIFIED:20260401T124054Z
DESCRIPTION:5. Liga Herren Gruppe 1\nBegegnungs-Nr: 0\nHeim: Oberriet III\nGast: Arbon\n\nAdresse: Neugutstrasse 2\, 9463 Oberriet SG\n
LOCATION:Neugutstrasse 2\, 9463 Oberriet SG
CATEGORIES:Saison 2025/26
END:VEVENT
BEGIN:VEVENT
DTSTAMP:20260424T134204Z
DTSTART;TZID=Europe/Berlin:20260410T201500
DTEND;TZID=Europe/Berlin:20260410T231500
SUMMARY:HE 5. Liga Gr. 1 Oberriet III vs Muolen IV (0)
UID:57b032ee-14b3-438c-a11f-c348b308c714
STATUS:CONFIRMED
LAST-MODIFIED:20260416T103716Z
DESCRIPTION:5. Liga Herren Gruppe 1\nBegegnungs-Nr: 0\nHeim: Oberriet III\nGast: Muolen IV\n\nAdresse: Neugutstrasse 2\, 9463 Oberriet SG\n
LOCATION:Neugutstrasse 2\, 9463 Oberriet SG
CATEGORIES:Saison 2025/26
END:VEVENT
BEGIN:VEVENT
DTSTAMP:20260424T134204Z
DTSTART;TZID=Europe/Berlin:20250905T201500
DTEND;TZID=Europe/Berlin:20250905T231500
SUMMARY:HE 5. Liga Gr. 1 Oberriet III vs Wil SG V (0)
UID:3cbbef89-b06d-448f-b5c2-99609d8d1cf8
STATUS:CONFIRMED
LAST-MODIFIED:20250908T140605Z
DESCRIPTION:5. Liga Herren Gruppe 1\nBegegnungs-Nr: 0\nHeim: Oberriet III\nGast: Wil SG V\n\nAdresse: Neugutstrasse 2\, 9463 Oberriet SG\n
LOCATION:Neugutstrasse 2\, 9463 Oberriet SG
CATEGORIES:Saison 2025/26
END:VEVENT
BEGIN:VEVENT
DTSTAMP:20260424T134204Z
DTSTART;TZID=Europe/Berlin:20250926T201500
DTEND;TZID=Europe/Berlin:20250926T231500
SUMMARY:HE 5. Liga Gr. 1 Oberriet III vs Gossau St.Gallen III (0)
UID:c09a4727-257a-479e-8b04-5c2322d1137c
STATUS:CONFIRMED
LAST-MODIFIED:20250930T124103Z
DESCRIPTION:5. Liga Herren Gruppe 1\nBegegnungs-Nr: 0\nHeim: Oberriet III\nGast: Gossau St.Gallen III\n\nAdresse: Neugutstrasse 2\, 9463 Oberriet SG\n
LOCATION:Neugutstrasse 2\, 9463 Oberriet SG
CATEGORIES:Saison 2025/26
END:VEVENT
BEGIN:VEVENT
DTSTAMP:20260424T134204Z
DTSTART;TZID=Europe/Berlin:20260203T201500
DTEND;TZID=Europe/Berlin:20260203T231500
SUMMARY:HE 5. Liga Gr. 1 Wil SG V vs Oberriet III (0)
UID:f0142cfb-c3b5-4395-b235-16aa041b4f0c
STATUS:CONFIRMED
LAST-MODIFIED:20260204T085208Z
DESCRIPTION:5. Liga Herren Gruppe 1\nBegegnungs-Nr: 0\nHeim: Wil SG V\nGast: Oberriet III\n\nAdresse: Lindenhofstr. 23\, 9500 Wil\n
LOCATION:Lindenhofstr. 23\, 9500 Wil
CATEGORIES:Saison 2025/26
END:VEVENT
BEGIN:VEVENT
DTSTAMP:20260424T134204Z
DTSTART;TZID=Europe/Berlin:20260302T200000
DTEND;TZID=Europe/Berlin:20260302T230000
SUMMARY:HE 5. Liga Gr. 1 Gossau St.Gallen III vs Oberriet III (0)
UID:3a2e5cb7-9c39-43fa-947e-e56be563a250
STATUS:CONFIRMED
LAST-MODIFIED:20260303T132602Z
DESCRIPTION:5. Liga Herren Gruppe 1\nBegegnungs-Nr: 0\nHeim: Gossau St.Gallen III\nGast: Oberriet III\n\nAdresse: Falkenstrasse 21\, 9200 Gossau\n
LOCATION:Falkenstrasse 21\, 9200 Gossau
CATEGORIES:Saison 2025/26
END:VEVENT
BEGIN:VEVENT
DTSTAMP:20260424T134204Z
DTSTART;TZID=Europe/Berlin:20250919T200000
DTEND;TZID=Europe/Berlin:20250919T230000
SUMMARY:HE 5. Liga Gr. 1 Rorschach II vs Oberriet III (0)
UID:75be760b-7615-4853-a597-f6349b6d782b
STATUS:CONFIRMED
LAST-MODIFIED:20250926T131945Z
DESCRIPTION:5. Liga Herren Gruppe 1\nBegegnungs-Nr: 0\nHeim: Rorschach II\nGast: Oberriet III\n\nAdresse: Mariabergstrasse 33\, 9400 Rorschach\n
LOCATION:Mariabergstrasse 33\, 9400 Rorschach
CATEGORIES:Saison 2025/26
END:VEVENT
BEGIN:VEVENT
DTSTAMP:20260424T134204Z
DTSTART;TZID=Europe/Berlin:20250828T201500
DTEND;TZID=Europe/Berlin:20250828T231500
SUMMARY:HE 5. Liga Gr. 1 Romanshorn IV vs Oberriet III (0)
UID:b7f29bef-68df-45c3-bb46-fc9e1f7be334
STATUS:CONFIRMED
LAST-MODIFIED:20250902T092918Z
DESCRIPTION:5. Liga Herren Gruppe 1\nBegegnungs-Nr: 0\nHeim: Romanshorn IV\nGast: Oberriet III\n\nAdresse: Florastrasse\, 8590 Romanshorn\n
LOCATION:Florastrasse\, 8590 Romanshorn
CATEGORIES:Saison 2025/26
END:VEVENT
BEGIN:VEVENT
DTSTAMP:20260424T134204Z
DTSTART;TZID=Europe/Berlin:20251104T200000
DTEND;TZID=Europe/Berlin:20251104T230000
SUMMARY:HE 5. Liga Gr. 1 Arbon vs Oberriet III (0)
UID:783cb884-f3ab-43c4-b2cf-0ad14710710d
STATUS:CONFIRMED
LAST-MODIFIED:20251107T144954Z
DESCRIPTION:5. Liga Herren Gruppe 1\nBegegnungs-Nr: 0\nHeim: Arbon\nGast: Oberriet III\n\nAdresse: Promenadenstrasse 17\, 9320 Arbon\n
LOCATION:Promenadenstrasse 17\, 9320 Arbon
CATEGORIES:Saison 2025/26
END:VEVENT
BEGIN:VEVENT
DTSTAMP:20260424T134204Z
DTSTART;TZID=Europe/Berlin:20251201T200000
DTEND;TZID=Europe/Berlin:20251201T230000
SUMMARY:HE 5. Liga Gr. 1 Muolen IV vs Oberriet III (0)
UID:da777451-c254-4daf-a790-c2e85d20d303
STATUS:CONFIRMED
LAST-MODIFIED:20251205T130603Z
DESCRIPTION:5. Liga Herren Gruppe 1\nBegegnungs-Nr: 0\nHeim: Muolen IV\nGast: Oberriet III\n\nAdresse: Olmishauserstrasse 3\, 9314 Steinebrunn\n
LOCATION:Olmishauserstrasse 3\, 9314 Steinebrunn
CATEGORIES:Saison 2025/26
END:VEVENT
END:VCALENDAR
