BEGIN:VCALENDAR
PRODID:-//nuDatenautomaten//framework iCal4j //DE
VERSION:2.0
CALSCALE:GREGORIAN
BEGIN:VTIMEZONE
TZID:Europe/Berlin
LAST-MODIFIED:20260306T231828Z
TZURL:https://www.tzurl.org/zoneinfo/Europe/Berlin
X-LIC-LOCATION:Europe/Berlin
X-PROLEPTIC-TZNAME:LMT
BEGIN:STANDARD
TZNAME:CET
TZOFFSETFROM:+005328
TZOFFSETTO:+0100
DTSTART:18930401T000000
END:STANDARD
BEGIN:DAYLIGHT
TZNAME:CEST
TZOFFSETFROM:+0100
TZOFFSETTO:+0200
DTSTART:19160430T230000
RDATE:19400401T020000
RDATE:19430329T020000
RDATE:19460414T020000
RDATE:19470406T030000
RDATE:19480418T020000
RDATE:19490410T020000
RDATE:19800406T020000
END:DAYLIGHT
BEGIN:STANDARD
TZNAME:CET
TZOFFSETFROM:+0200
TZOFFSETTO:+0100
DTSTART:19161001T010000
RDATE:19421102T030000
RDATE:19431004T030000
RDATE:19441002T030000
RDATE:19451118T030000
RDATE:19461007T030000
END:STANDARD
BEGIN:DAYLIGHT
TZNAME:CEST
TZOFFSETFROM:+0100
TZOFFSETTO:+0200
DTSTART:19170416T020000
RRULE:FREQ=YEARLY;UNTIL=19180415T010000Z;BYMONTH=4;BYDAY=3MO
END:DAYLIGHT
BEGIN:STANDARD
TZNAME:CET
TZOFFSETFROM:+0200
TZOFFSETTO:+0100
DTSTART:19170917T030000
RRULE:FREQ=YEARLY;UNTIL=19180916T010000Z;BYMONTH=9;BYDAY=3MO
END:STANDARD
BEGIN:DAYLIGHT
TZNAME:CEST
TZOFFSETFROM:+0100
TZOFFSETTO:+0200
DTSTART:19440403T020000
RRULE:FREQ=YEARLY;UNTIL=19450402T010000Z;BYMONTH=4;BYDAY=1MO
END:DAYLIGHT
BEGIN:DAYLIGHT
TZNAME:CEMT
TZOFFSETFROM:+0200
TZOFFSETTO:+0300
DTSTART:19450524T020000
RDATE:19470511T030000
END:DAYLIGHT
BEGIN:DAYLIGHT
TZNAME:CEST
TZOFFSETFROM:+0300
TZOFFSETTO:+0200
DTSTART:19450924T030000
RDATE:19470629T030000
END:DAYLIGHT
BEGIN:STANDARD
TZNAME:CET
TZOFFSETFROM:+0100
TZOFFSETTO:+0100
DTSTART:19460101T000000
RDATE:19800101T000000
END:STANDARD
BEGIN:STANDARD
TZNAME:CET
TZOFFSETFROM:+0200
TZOFFSETTO:+0100
DTSTART:19471005T030000
RRULE:FREQ=YEARLY;UNTIL=19491002T010000Z;BYMONTH=10;BYDAY=1SU
END:STANDARD
BEGIN:STANDARD
TZNAME:CET
TZOFFSETFROM:+0200
TZOFFSETTO:+0100
DTSTART:19800928T030000
RRULE:FREQ=YEARLY;UNTIL=19950924T010000Z;BYMONTH=9;BYDAY=-1SU
END:STANDARD
BEGIN:DAYLIGHT
TZNAME:CEST
TZOFFSETFROM:+0100
TZOFFSETTO:+0200
DTSTART:19810329T020000
RRULE:FREQ=YEARLY;BYMONTH=3;BYDAY=-1SU
END:DAYLIGHT
BEGIN:STANDARD
TZNAME:CET
TZOFFSETFROM:+0200
TZOFFSETTO:+0100
DTSTART:19961027T030000
RRULE:FREQ=YEARLY;BYMONTH=10;BYDAY=-1SU
END:STANDARD
END:VTIMEZONE
BEGIN:VEVENT
DTSTAMP:20260424T135907Z
DTSTART;TZID=Europe/Berlin:20260128T200000
DTEND;TZID=Europe/Berlin:20260128T230000
SUMMARY:DA 1. Liga Gr. 1 Horgen vs Wetzikon II (0)
UID:cfcf2c2d-5b5c-45fc-8603-6cb0f624a5c1
STATUS:CONFIRMED
LAST-MODIFIED:20260130T131821Z
DESCRIPTION:1. Liga Damen Gruppe 1\nBegegnungs-Nr: 0\nHeim: Horgen\nGast: Wetzikon II\n\nAdresse: Seestrasse 110\, 8810 Horgen\n
LOCATION:Seestrasse 110\, 8810 Horgen
CATEGORIES:Saison 2025/26
END:VEVENT
BEGIN:VEVENT
DTSTAMP:20260424T135907Z
DTSTART;TZID=Europe/Berlin:20260311T200000
DTEND;TZID=Europe/Berlin:20260311T230000
SUMMARY:DA 1. Liga Gr. 1 Horgen vs Wädenswil II (0)
UID:e066ab29-aaad-4eea-bc78-ebfcbec1c4d4
STATUS:CONFIRMED
LAST-MODIFIED:20260313T133007Z
DESCRIPTION:1. Liga Damen Gruppe 1\nBegegnungs-Nr: 0\nHeim: Horgen\nGast: Wädenswil II\n\nAdresse: Seestrasse 110\, 8810 Horgen\n
LOCATION:Seestrasse 110\, 8810 Horgen
CATEGORIES:Saison 2025/26
END:VEVENT
BEGIN:VEVENT
DTSTAMP:20260424T135907Z
DTSTART;TZID=Europe/Berlin:20251029T193000
DTEND;TZID=Europe/Berlin:20251029T223000
SUMMARY:DA 1. Liga Gr. 1 Horgen vs Uster III (0)
UID:880375df-f33d-444d-9386-6031c1883422
STATUS:CONFIRMED
LAST-MODIFIED:20251031T144724Z
DESCRIPTION:1. Liga Damen Gruppe 1\nBegegnungs-Nr: 0\nHeim: Horgen\nGast: Uster III\n\nAdresse: Seestrasse 110\, 8810 Horgen\n
LOCATION:Seestrasse 110\, 8810 Horgen
CATEGORIES:Saison 2025/26
END:VEVENT
BEGIN:VEVENT
DTSTAMP:20260424T135907Z
DTSTART;TZID=Europe/Berlin:20251203T200000
DTEND;TZID=Europe/Berlin:20251203T230000
SUMMARY:DA 1. Liga Gr. 1 Horgen vs Zürich-Affoltern II (0)
UID:036276d2-1012-4fe8-a9eb-ee0997352d1c
STATUS:CONFIRMED
LAST-MODIFIED:20251205T131345Z
DESCRIPTION:1. Liga Damen Gruppe 1\nBegegnungs-Nr: 0\nHeim: Horgen\nGast: Zürich-Affoltern II\n\nAdresse: Seestrasse 110\, 8810 Horgen\n
LOCATION:Seestrasse 110\, 8810 Horgen
CATEGORIES:Saison 2025/26
END:VEVENT
BEGIN:VEVENT
DTSTAMP:20260424T135907Z
DTSTART;TZID=Europe/Berlin:20250903T200000
DTEND;TZID=Europe/Berlin:20250903T230000
SUMMARY:DA 1. Liga Gr. 1 Horgen vs Romanshorn (0)
UID:6089d9a8-88bc-49f1-8fe0-63999bbd1ed4
STATUS:CONFIRMED
LAST-MODIFIED:20250905T124738Z
DESCRIPTION:1. Liga Damen Gruppe 1\nBegegnungs-Nr: 0\nHeim: Horgen\nGast: Romanshorn\n\nAdresse: Seestrasse 110\, 8810 Horgen\n
LOCATION:Seestrasse 110\, 8810 Horgen
CATEGORIES:Saison 2025/26
END:VEVENT
BEGIN:VEVENT
DTSTAMP:20260424T135907Z
DTSTART;TZID=Europe/Berlin:20260119T201500
DTEND;TZID=Europe/Berlin:20260119T231500
SUMMARY:DA 1. Liga Gr. 1 Romanshorn vs Horgen (0)
UID:f589f756-82d9-4480-a332-c3f7123b8b39
STATUS:CONFIRMED
LAST-MODIFIED:20260120T154418Z
DESCRIPTION:1. Liga Damen Gruppe 1\nBegegnungs-Nr: 0\nHeim: Romanshorn\nGast: Horgen\n\nAdresse: Florastrasse\, 8590 Romanshorn\n
LOCATION:Florastrasse\, 8590 Romanshorn
CATEGORIES:Saison 2025/26
END:VEVENT
BEGIN:VEVENT
DTSTAMP:20260424T135907Z
DTSTART;TZID=Europe/Berlin:20260306T201500
DTEND;TZID=Europe/Berlin:20260306T231500
SUMMARY:DA 1. Liga Gr. 1 Uster III vs Horgen (0)
UID:00e7a17e-1a8d-40af-a847-e2a6e2d30c70
STATUS:CONFIRMED
LAST-MODIFIED:20260317T145942Z
DESCRIPTION:1. Liga Damen Gruppe 1\nBegegnungs-Nr: 0\nHeim: Uster III\nGast: Horgen\n\nAdresse: Wilstrasse 30 / Zürcherstrasse\, 8610 Uster\n
LOCATION:Wilstrasse 30 / Zürcherstrasse\, 8610 Uster
CATEGORIES:Saison 2025/26
END:VEVENT
BEGIN:VEVENT
DTSTAMP:20260424T135907Z
DTSTART;TZID=Europe/Berlin:20260326T201500
DTEND;TZID=Europe/Berlin:20260326T231500
SUMMARY:DA 1. Liga Gr. 1 Zürich-Affoltern II vs Horgen (0)
UID:b9331c5e-e860-4ce8-a78d-0f7fea6942be
STATUS:CONFIRMED
LAST-MODIFIED:20260401T132819Z
DESCRIPTION:1. Liga Damen Gruppe 1\nBegegnungs-Nr: 0\nHeim: Zürich-Affoltern II\nGast: Horgen\n\nAdresse: Rümlangstr. 89\, 8052 Zürich\n
LOCATION:Rümlangstr. 89\, 8052 Zürich
CATEGORIES:Saison 2025/26
END:VEVENT
BEGIN:VEVENT
DTSTAMP:20260424T135907Z
DTSTART;TZID=Europe/Berlin:20251106T201500
DTEND;TZID=Europe/Berlin:20251106T231500
SUMMARY:DA 1. Liga Gr. 1 Wädenswil II vs Horgen (0)
UID:6707809d-91e1-4625-aae3-2b4d9d88d0e4
STATUS:CONFIRMED
LAST-MODIFIED:20251118T124528Z
DESCRIPTION:1. Liga Damen Gruppe 1\nBegegnungs-Nr: 0\nHeim: Wädenswil II\nGast: Horgen\n\nAdresse: Speerstrasse 95\, 8820 Wädenswil\n
LOCATION:Speerstrasse 95\, 8820 Wädenswil
CATEGORIES:Saison 2025/26
END:VEVENT
BEGIN:VEVENT
DTSTAMP:20260424T135907Z
DTSTART;TZID=Europe/Berlin:20250915T194500
DTEND;TZID=Europe/Berlin:20250915T224500
SUMMARY:DA 1. Liga Gr. 1 Wetzikon II vs Horgen (0)
UID:c3f7bdf5-d03f-4b8b-91ff-9ea95d9542b8
STATUS:CONFIRMED
LAST-MODIFIED:20250916T092715Z
DESCRIPTION:1. Liga Damen Gruppe 1\nBegegnungs-Nr: 0\nHeim: Wetzikon II\nGast: Horgen\n\nAdresse: Usterstrasse 37\, 8620 Wetzikon\n
LOCATION:Usterstrasse 37\, 8620 Wetzikon
CATEGORIES:Saison 2025/26
END:VEVENT
END:VCALENDAR
