BEGIN:VCALENDAR
PRODID:-//nuDatenautomaten//framework iCal4j //DE
VERSION:2.0
CALSCALE:GREGORIAN
BEGIN:VTIMEZONE
TZID:Europe/Berlin
LAST-MODIFIED:20260306T231828Z
TZURL:https://www.tzurl.org/zoneinfo/Europe/Berlin
X-LIC-LOCATION:Europe/Berlin
X-PROLEPTIC-TZNAME:LMT
BEGIN:STANDARD
TZNAME:CET
TZOFFSETFROM:+005328
TZOFFSETTO:+0100
DTSTART:18930401T000000
END:STANDARD
BEGIN:DAYLIGHT
TZNAME:CEST
TZOFFSETFROM:+0100
TZOFFSETTO:+0200
DTSTART:19160430T230000
RDATE:19400401T020000
RDATE:19430329T020000
RDATE:19460414T020000
RDATE:19470406T030000
RDATE:19480418T020000
RDATE:19490410T020000
RDATE:19800406T020000
END:DAYLIGHT
BEGIN:STANDARD
TZNAME:CET
TZOFFSETFROM:+0200
TZOFFSETTO:+0100
DTSTART:19161001T010000
RDATE:19421102T030000
RDATE:19431004T030000
RDATE:19441002T030000
RDATE:19451118T030000
RDATE:19461007T030000
END:STANDARD
BEGIN:DAYLIGHT
TZNAME:CEST
TZOFFSETFROM:+0100
TZOFFSETTO:+0200
DTSTART:19170416T020000
RRULE:FREQ=YEARLY;UNTIL=19180415T010000Z;BYMONTH=4;BYDAY=3MO
END:DAYLIGHT
BEGIN:STANDARD
TZNAME:CET
TZOFFSETFROM:+0200
TZOFFSETTO:+0100
DTSTART:19170917T030000
RRULE:FREQ=YEARLY;UNTIL=19180916T010000Z;BYMONTH=9;BYDAY=3MO
END:STANDARD
BEGIN:DAYLIGHT
TZNAME:CEST
TZOFFSETFROM:+0100
TZOFFSETTO:+0200
DTSTART:19440403T020000
RRULE:FREQ=YEARLY;UNTIL=19450402T010000Z;BYMONTH=4;BYDAY=1MO
END:DAYLIGHT
BEGIN:DAYLIGHT
TZNAME:CEMT
TZOFFSETFROM:+0200
TZOFFSETTO:+0300
DTSTART:19450524T020000
RDATE:19470511T030000
END:DAYLIGHT
BEGIN:DAYLIGHT
TZNAME:CEST
TZOFFSETFROM:+0300
TZOFFSETTO:+0200
DTSTART:19450924T030000
RDATE:19470629T030000
END:DAYLIGHT
BEGIN:STANDARD
TZNAME:CET
TZOFFSETFROM:+0100
TZOFFSETTO:+0100
DTSTART:19460101T000000
RDATE:19800101T000000
END:STANDARD
BEGIN:STANDARD
TZNAME:CET
TZOFFSETFROM:+0200
TZOFFSETTO:+0100
DTSTART:19471005T030000
RRULE:FREQ=YEARLY;UNTIL=19491002T010000Z;BYMONTH=10;BYDAY=1SU
END:STANDARD
BEGIN:STANDARD
TZNAME:CET
TZOFFSETFROM:+0200
TZOFFSETTO:+0100
DTSTART:19800928T030000
RRULE:FREQ=YEARLY;UNTIL=19950924T010000Z;BYMONTH=9;BYDAY=-1SU
END:STANDARD
BEGIN:DAYLIGHT
TZNAME:CEST
TZOFFSETFROM:+0100
TZOFFSETTO:+0200
DTSTART:19810329T020000
RRULE:FREQ=YEARLY;BYMONTH=3;BYDAY=-1SU
END:DAYLIGHT
BEGIN:STANDARD
TZNAME:CET
TZOFFSETFROM:+0200
TZOFFSETTO:+0100
DTSTART:19961027T030000
RRULE:FREQ=YEARLY;BYMONTH=10;BYDAY=-1SU
END:STANDARD
END:VTIMEZONE
BEGIN:VEVENT
DTSTAMP:20260424T194307Z
DTSTART;TZID=Europe/Berlin:20260113T200000
DTEND;TZID=Europe/Berlin:20260113T230000
SUMMARY:HE 5. Liga Gr. 8 Schaan-Eschen/Mauren II vs Glarus III (0)
UID:7778d2bb-6723-4239-88dc-b3ca52c84409
STATUS:CONFIRMED
LAST-MODIFIED:20260115T093617Z
DESCRIPTION:5. Liga Herren Gruppe 8\nBegegnungs-Nr: 0\nHeim: Schaan-Eschen/Mauren II\nGast: Glarus III\n\nAdresse: Simsgasse 10\, 9492 Eschen\n
LOCATION:Simsgasse 10\, 9492 Eschen
CATEGORIES:Saison 2025/26
END:VEVENT
BEGIN:VEVENT
DTSTAMP:20260424T194307Z
DTSTART;TZID=Europe/Berlin:20260127T200000
DTEND;TZID=Europe/Berlin:20260127T230000
SUMMARY:HE 5. Liga Gr. 8 Schaan-Eschen/Mauren II vs Chur VI (0)
UID:18ee8e48-e4be-4b2c-9722-dac2f41e8b63
STATUS:CONFIRMED
LAST-MODIFIED:20260130T102544Z
DESCRIPTION:5. Liga Herren Gruppe 8\nBegegnungs-Nr: 0\nHeim: Schaan-Eschen/Mauren II\nGast: Chur VI\n\nAdresse: Simsgasse 10\, 9492 Eschen\n
LOCATION:Simsgasse 10\, 9492 Eschen
CATEGORIES:Saison 2025/26
END:VEVENT
BEGIN:VEVENT
DTSTAMP:20260424T194307Z
DTSTART;TZID=Europe/Berlin:20260324T200000
DTEND;TZID=Europe/Berlin:20260324T230000
SUMMARY:HE 5. Liga Gr. 8 Schaan-Eschen/Mauren II vs Balzers II (0)
UID:791d0263-6652-4875-a1d0-cfa067a157d4
STATUS:CONFIRMED
LAST-MODIFIED:20260326T153251Z
DESCRIPTION:5. Liga Herren Gruppe 8\nBegegnungs-Nr: 0\nHeim: Schaan-Eschen/Mauren II\nGast: Balzers II\n\nAdresse: Simsgasse 10\, 9492 Eschen\n
LOCATION:Simsgasse 10\, 9492 Eschen
CATEGORIES:Saison 2025/26
END:VEVENT
BEGIN:VEVENT
DTSTAMP:20260424T194307Z
DTSTART;TZID=Europe/Berlin:20260212T194500
DTEND;TZID=Europe/Berlin:20260212T224500
SUMMARY:HE 5. Liga Gr. 8 Schaan-Eschen/Mauren II vs Oberriet IV (0)
UID:1e333498-3406-4c2b-811e-e90dee1b2acc
STATUS:CONFIRMED
LAST-MODIFIED:20260216T103226Z
DESCRIPTION:5. Liga Herren Gruppe 8\nBegegnungs-Nr: 0\nHeim: Schaan-Eschen/Mauren II\nGast: Oberriet IV\n\nAdresse: Zur Schule\, 9494 Schaan\n
LOCATION:Zur Schule\, 9494 Schaan
CATEGORIES:Saison 2025/26
END:VEVENT
BEGIN:VEVENT
DTSTAMP:20260424T194307Z
DTSTART;TZID=Europe/Berlin:20250909T194500
DTEND;TZID=Europe/Berlin:20250909T224500
SUMMARY:HE 5. Liga Gr. 8 Schaan-Eschen/Mauren II vs Flums VI (0)
UID:977768d9-f09a-48dc-885d-f98328656643
STATUS:CONFIRMED
LAST-MODIFIED:20250911T100118Z
DESCRIPTION:5. Liga Herren Gruppe 8\nBegegnungs-Nr: 0\nHeim: Schaan-Eschen/Mauren II\nGast: Flums VI\n\nAdresse: Zur Schule\, 9494 Schaan\n
LOCATION:Zur Schule\, 9494 Schaan
CATEGORIES:Saison 2025/26
END:VEVENT
BEGIN:VEVENT
DTSTAMP:20260424T194307Z
DTSTART;TZID=Europe/Berlin:20251002T194500
DTEND;TZID=Europe/Berlin:20251002T224500
SUMMARY:HE 5. Liga Gr. 8 Schaan-Eschen/Mauren II vs Balzers (0)
UID:f4d44ccd-d22d-431c-8f88-5472c2550ef1
STATUS:CONFIRMED
LAST-MODIFIED:20251003T065627Z
DESCRIPTION:5. Liga Herren Gruppe 8\nBegegnungs-Nr: 0\nHeim: Schaan-Eschen/Mauren II\nGast: Balzers\n\nAdresse: Zur Schule\, 9494 Schaan\n
LOCATION:Zur Schule\, 9494 Schaan
CATEGORIES:Saison 2025/26
END:VEVENT
BEGIN:VEVENT
DTSTAMP:20260424T194307Z
DTSTART;TZID=Europe/Berlin:20260121T201500
DTEND;TZID=Europe/Berlin:20260121T231500
SUMMARY:HE 5. Liga Gr. 8 Flums VI vs Schaan-Eschen/Mauren II (0)
UID:0bf928f3-f469-4a7d-bf5b-2f96b01dc082
STATUS:CONFIRMED
LAST-MODIFIED:20260123T082709Z
DESCRIPTION:5. Liga Herren Gruppe 8\nBegegnungs-Nr: 0\nHeim: Flums VI\nGast: Schaan-Eschen/Mauren II\n\nAdresse: Bahnhofstrasse 23\, 8890 Flums\n
LOCATION:Bahnhofstrasse 23\, 8890 Flums
CATEGORIES:Saison 2025/26
END:VEVENT
BEGIN:VEVENT
DTSTAMP:20260424T194307Z
DTSTART;TZID=Europe/Berlin:20260302T200000
DTEND;TZID=Europe/Berlin:20260302T230000
SUMMARY:HE 5. Liga Gr. 8 Balzers vs Schaan-Eschen/Mauren II (0)
UID:0dc5c0e1-4547-4472-a443-76070b057a87
STATUS:CONFIRMED
LAST-MODIFIED:20260303T132623Z
DESCRIPTION:5. Liga Herren Gruppe 8\nBegegnungs-Nr: 0\nHeim: Balzers\nGast: Schaan-Eschen/Mauren II\n\nAdresse: Gnetsch 41\, 9496 Balzers\n
LOCATION:Gnetsch 41\, 9496 Balzers
CATEGORIES:Saison 2025/26
END:VEVENT
BEGIN:VEVENT
DTSTAMP:20260424T194307Z
DTSTART;TZID=Europe/Berlin:20250916T200000
DTEND;TZID=Europe/Berlin:20250916T230000
SUMMARY:HE 5. Liga Gr. 8 Glarus III vs Schaan-Eschen/Mauren II (0)
UID:0177dcf4-1c7f-4854-976b-996d899259d4
STATUS:CONFIRMED
LAST-MODIFIED:20250926T132836Z
DESCRIPTION:5. Liga Herren Gruppe 8\nBegegnungs-Nr: 0\nHeim: Glarus III\nGast: Schaan-Eschen/Mauren II\n\nAdresse: Schwertgasse 23\, 8750 Glarus\n
LOCATION:Schwertgasse 23\, 8750 Glarus
CATEGORIES:Saison 2025/26
END:VEVENT
BEGIN:VEVENT
DTSTAMP:20260424T194307Z
DTSTART;TZID=Europe/Berlin:20250918T200000
DTEND;TZID=Europe/Berlin:20250918T230000
SUMMARY:HE 5. Liga Gr. 8 Chur VI vs Schaan-Eschen/Mauren II (0)
UID:16d1d0c8-fc2c-4af7-884e-0b5b59532553
STATUS:CONFIRMED
LAST-MODIFIED:20250926T132854Z
DESCRIPTION:5. Liga Herren Gruppe 8\nBegegnungs-Nr: 0\nHeim: Chur VI\nGast: Schaan-Eschen/Mauren II\n\nAdresse: Sandstr. 35\, 7000 Chur\n
LOCATION:Sandstr. 35\, 7000 Chur
CATEGORIES:Saison 2025/26
END:VEVENT
BEGIN:VEVENT
DTSTAMP:20260424T194307Z
DTSTART;TZID=Europe/Berlin:20251110T200000
DTEND;TZID=Europe/Berlin:20251110T230000
SUMMARY:HE 5. Liga Gr. 8 Balzers II vs Schaan-Eschen/Mauren II (0)
UID:3e485a00-352c-4a5c-9d00-c47d785d0103
STATUS:CONFIRMED
LAST-MODIFIED:20251114T142513Z
DESCRIPTION:5. Liga Herren Gruppe 8\nBegegnungs-Nr: 0\nHeim: Balzers II\nGast: Schaan-Eschen/Mauren II\n\nAdresse: Gnetsch 41\, 9496 Balzers\n
LOCATION:Gnetsch 41\, 9496 Balzers
CATEGORIES:Saison 2025/26
END:VEVENT
BEGIN:VEVENT
DTSTAMP:20260424T194307Z
DTSTART;TZID=Europe/Berlin:20251210T201500
DTEND;TZID=Europe/Berlin:20251210T231500
SUMMARY:HE 5. Liga Gr. 8 Oberriet IV vs Schaan-Eschen/Mauren II (0)
UID:dba49bff-d467-42aa-bf66-30a6b73cdda2
STATUS:CONFIRMED
LAST-MODIFIED:20251211T142341Z
DESCRIPTION:5. Liga Herren Gruppe 8\nBegegnungs-Nr: 0\nHeim: Oberriet IV\nGast: Schaan-Eschen/Mauren II\n\nAdresse: Neugutstrasse 2\, 9463 Oberriet SG\n
LOCATION:Neugutstrasse 2\, 9463 Oberriet SG
CATEGORIES:Saison 2025/26
END:VEVENT
END:VCALENDAR
