BEGIN:VCALENDAR
PRODID:-//nuDatenautomaten//framework iCal4j //DE
VERSION:2.0
CALSCALE:GREGORIAN
BEGIN:VTIMEZONE
TZID:Europe/Berlin
LAST-MODIFIED:20260306T231828Z
TZURL:https://www.tzurl.org/zoneinfo/Europe/Berlin
X-LIC-LOCATION:Europe/Berlin
X-PROLEPTIC-TZNAME:LMT
BEGIN:STANDARD
TZNAME:CET
TZOFFSETFROM:+005328
TZOFFSETTO:+0100
DTSTART:18930401T000000
END:STANDARD
BEGIN:DAYLIGHT
TZNAME:CEST
TZOFFSETFROM:+0100
TZOFFSETTO:+0200
DTSTART:19160430T230000
RDATE:19400401T020000
RDATE:19430329T020000
RDATE:19460414T020000
RDATE:19470406T030000
RDATE:19480418T020000
RDATE:19490410T020000
RDATE:19800406T020000
END:DAYLIGHT
BEGIN:STANDARD
TZNAME:CET
TZOFFSETFROM:+0200
TZOFFSETTO:+0100
DTSTART:19161001T010000
RDATE:19421102T030000
RDATE:19431004T030000
RDATE:19441002T030000
RDATE:19451118T030000
RDATE:19461007T030000
END:STANDARD
BEGIN:DAYLIGHT
TZNAME:CEST
TZOFFSETFROM:+0100
TZOFFSETTO:+0200
DTSTART:19170416T020000
RRULE:FREQ=YEARLY;UNTIL=19180415T010000Z;BYMONTH=4;BYDAY=3MO
END:DAYLIGHT
BEGIN:STANDARD
TZNAME:CET
TZOFFSETFROM:+0200
TZOFFSETTO:+0100
DTSTART:19170917T030000
RRULE:FREQ=YEARLY;UNTIL=19180916T010000Z;BYMONTH=9;BYDAY=3MO
END:STANDARD
BEGIN:DAYLIGHT
TZNAME:CEST
TZOFFSETFROM:+0100
TZOFFSETTO:+0200
DTSTART:19440403T020000
RRULE:FREQ=YEARLY;UNTIL=19450402T010000Z;BYMONTH=4;BYDAY=1MO
END:DAYLIGHT
BEGIN:DAYLIGHT
TZNAME:CEMT
TZOFFSETFROM:+0200
TZOFFSETTO:+0300
DTSTART:19450524T020000
RDATE:19470511T030000
END:DAYLIGHT
BEGIN:DAYLIGHT
TZNAME:CEST
TZOFFSETFROM:+0300
TZOFFSETTO:+0200
DTSTART:19450924T030000
RDATE:19470629T030000
END:DAYLIGHT
BEGIN:STANDARD
TZNAME:CET
TZOFFSETFROM:+0100
TZOFFSETTO:+0100
DTSTART:19460101T000000
RDATE:19800101T000000
END:STANDARD
BEGIN:STANDARD
TZNAME:CET
TZOFFSETFROM:+0200
TZOFFSETTO:+0100
DTSTART:19471005T030000
RRULE:FREQ=YEARLY;UNTIL=19491002T010000Z;BYMONTH=10;BYDAY=1SU
END:STANDARD
BEGIN:STANDARD
TZNAME:CET
TZOFFSETFROM:+0200
TZOFFSETTO:+0100
DTSTART:19800928T030000
RRULE:FREQ=YEARLY;UNTIL=19950924T010000Z;BYMONTH=9;BYDAY=-1SU
END:STANDARD
BEGIN:DAYLIGHT
TZNAME:CEST
TZOFFSETFROM:+0100
TZOFFSETTO:+0200
DTSTART:19810329T020000
RRULE:FREQ=YEARLY;BYMONTH=3;BYDAY=-1SU
END:DAYLIGHT
BEGIN:STANDARD
TZNAME:CET
TZOFFSETFROM:+0200
TZOFFSETTO:+0100
DTSTART:19961027T030000
RRULE:FREQ=YEARLY;BYMONTH=10;BYDAY=-1SU
END:STANDARD
END:VTIMEZONE
BEGIN:VEVENT
DTSTAMP:20260424T150307Z
DTSTART;TZID=Europe/Berlin:20260121T201500
DTEND;TZID=Europe/Berlin:20260121T231500
SUMMARY:HE 4. Liga Gr. 2 Ettenhausen II vs Imperial Winterthur (0)
UID:46810c3a-bdd1-435d-b28d-0a044712d251
STATUS:CONFIRMED
LAST-MODIFIED:20260123T082420Z
DESCRIPTION:4. Liga Herren Gruppe 2\nBegegnungs-Nr: 0\nHeim: Ettenhausen II\nGast: Imperial Winterthur\n\nAdresse: Weidlistrasse 12\, 8356 Ettenhausen\n
LOCATION:Weidlistrasse 12\, 8356 Ettenhausen
CATEGORIES:Saison 2025/26
END:VEVENT
BEGIN:VEVENT
DTSTAMP:20260424T150307Z
DTSTART;TZID=Europe/Berlin:20250827T201500
DTEND;TZID=Europe/Berlin:20250827T231500
SUMMARY:HE 4. Liga Gr. 2 Ettenhausen II vs Frauenfeld (0)
UID:6592fb94-25be-4247-a650-cfa1b1e7406b
STATUS:CONFIRMED
LAST-MODIFIED:20250905T091424Z
DESCRIPTION:4. Liga Herren Gruppe 2\nBegegnungs-Nr: 0\nHeim: Ettenhausen II\nGast: Frauenfeld\n\nAdresse: Weidlistrasse 12\, 8356 Ettenhausen\n
LOCATION:Weidlistrasse 12\, 8356 Ettenhausen
CATEGORIES:Saison 2025/26
END:VEVENT
BEGIN:VEVENT
DTSTAMP:20260424T150307Z
DTSTART;TZID=Europe/Berlin:20260304T201500
DTEND;TZID=Europe/Berlin:20260304T231500
SUMMARY:HE 4. Liga Gr. 2 Ettenhausen II vs Wallenwil II (0)
UID:519272a9-75b5-44c2-867c-aba5187a92c3
STATUS:CONFIRMED
LAST-MODIFIED:20260313T130740Z
DESCRIPTION:4. Liga Herren Gruppe 2\nBegegnungs-Nr: 0\nHeim: Ettenhausen II\nGast: Wallenwil II\n\nAdresse: Weidlistrasse 12\, 8356 Ettenhausen\n
LOCATION:Weidlistrasse 12\, 8356 Ettenhausen
CATEGORIES:Saison 2025/26
END:VEVENT
BEGIN:VEVENT
DTSTAMP:20260424T150307Z
DTSTART;TZID=Europe/Berlin:20260218T201500
DTEND;TZID=Europe/Berlin:20260218T231500
SUMMARY:HE 4. Liga Gr. 2 Ettenhausen II vs Wuppenau II (0)
UID:a8f90999-53c0-428c-8396-a6539a81cdcc
STATUS:CONFIRMED
LAST-MODIFIED:20260225T102743Z
DESCRIPTION:4. Liga Herren Gruppe 2\nBegegnungs-Nr: 0\nHeim: Ettenhausen II\nGast: Wuppenau II\n\nAdresse: Weidlistrasse 12\, 8356 Ettenhausen\n
LOCATION:Weidlistrasse 12\, 8356 Ettenhausen
CATEGORIES:Saison 2025/26
END:VEVENT
BEGIN:VEVENT
DTSTAMP:20260424T150307Z
DTSTART;TZID=Europe/Berlin:20251001T201500
DTEND;TZID=Europe/Berlin:20251001T231500
SUMMARY:HE 4. Liga Gr. 2 Ettenhausen II vs Steckborn-Homburg IV (0)
UID:3f139a80-c850-4bff-a46c-19b27a13be26
STATUS:CONFIRMED
LAST-MODIFIED:20251003T135525Z
DESCRIPTION:4. Liga Herren Gruppe 2\nBegegnungs-Nr: 0\nHeim: Ettenhausen II\nGast: Steckborn-Homburg IV\n\nAdresse: Weidlistrasse 12\, 8356 Ettenhausen\n
LOCATION:Weidlistrasse 12\, 8356 Ettenhausen
CATEGORIES:Saison 2025/26
END:VEVENT
BEGIN:VEVENT
DTSTAMP:20260424T150307Z
DTSTART;TZID=Europe/Berlin:20251105T201500
DTEND;TZID=Europe/Berlin:20251105T231500
SUMMARY:HE 4. Liga Gr. 2 Ettenhausen II vs Winterthur IV (0)
UID:28e7a7bd-efc9-45ce-b25c-4fbd7e5dc4b5
STATUS:CONFIRMED
LAST-MODIFIED:20251107T144653Z
DESCRIPTION:4. Liga Herren Gruppe 2\nBegegnungs-Nr: 0\nHeim: Ettenhausen II\nGast: Winterthur IV\n\nAdresse: Weidlistrasse 12\, 8356 Ettenhausen\n
LOCATION:Weidlistrasse 12\, 8356 Ettenhausen
CATEGORIES:Saison 2025/26
END:VEVENT
BEGIN:VEVENT
DTSTAMP:20260424T150307Z
DTSTART;TZID=Europe/Berlin:20260211T201500
DTEND;TZID=Europe/Berlin:20260211T231500
SUMMARY:HE 4. Liga Gr. 2 Ettenhausen II vs Weinfelden II (0)
UID:7da184ba-c541-481a-b379-4c22ceac1d76
STATUS:CONFIRMED
LAST-MODIFIED:20260212T100511Z
DESCRIPTION:4. Liga Herren Gruppe 2\nBegegnungs-Nr: 0\nHeim: Ettenhausen II\nGast: Weinfelden II\n\nAdresse: Weidlistrasse 12\, 8356 Ettenhausen\n
LOCATION:Weidlistrasse 12\, 8356 Ettenhausen
CATEGORIES:Saison 2025/26
END:VEVENT
BEGIN:VEVENT
DTSTAMP:20260424T150307Z
DTSTART;TZID=Europe/Berlin:20260105T200000
DTEND;TZID=Europe/Berlin:20260105T230000
SUMMARY:HE 4. Liga Gr. 2 Frauenfeld vs Ettenhausen II (0)
UID:e9b069bf-620a-4bac-bb0d-5b8f69bfbd28
STATUS:CONFIRMED
LAST-MODIFIED:20260109T075012Z
DESCRIPTION:4. Liga Herren Gruppe 2\nBegegnungs-Nr: 0\nHeim: Frauenfeld\nGast: Ettenhausen II\n\nAdresse: Scheuchenstrasse\, 8500 Frauenfeld\n
LOCATION:Scheuchenstrasse\, 8500 Frauenfeld
CATEGORIES:Saison 2025/26
END:VEVENT
BEGIN:VEVENT
DTSTAMP:20260424T150307Z
DTSTART;TZID=Europe/Berlin:20250904T200000
DTEND;TZID=Europe/Berlin:20250904T230000
SUMMARY:HE 4. Liga Gr. 2 Imperial Winterthur vs Ettenhausen II (0)
UID:56be6406-0dac-4b27-83bf-248ec89db5db
STATUS:CONFIRMED
LAST-MODIFIED:20250905T123955Z
DESCRIPTION:4. Liga Herren Gruppe 2\nBegegnungs-Nr: 0\nHeim: Imperial Winterthur\nGast: Ettenhausen II\n\nAdresse: Büelhofstrasse 25a\, 8405 Winterthur\n
LOCATION:Büelhofstrasse 25a\, 8405 Winterthur
CATEGORIES:Saison 2025/26
END:VEVENT
BEGIN:VEVENT
DTSTAMP:20260424T150307Z
DTSTART;TZID=Europe/Berlin:20260203T201500
DTEND;TZID=Europe/Berlin:20260203T231500
SUMMARY:HE 4. Liga Gr. 2 Steckborn-Homburg IV vs Ettenhausen II (0)
UID:b0eb75da-7737-406e-a54f-c3c81844f6a8
STATUS:CONFIRMED
LAST-MODIFIED:20260204T085039Z
DESCRIPTION:4. Liga Herren Gruppe 2\nBegegnungs-Nr: 0\nHeim: Steckborn-Homburg IV\nGast: Ettenhausen II\n\nAdresse: Feldbach\, 8266 Steckborn\n
LOCATION:Feldbach\, 8266 Steckborn
CATEGORIES:Saison 2025/26
END:VEVENT
BEGIN:VEVENT
DTSTAMP:20260424T150307Z
DTSTART;TZID=Europe/Berlin:20260326T200000
DTEND;TZID=Europe/Berlin:20260326T230000
SUMMARY:HE 4. Liga Gr. 2 Winterthur IV vs Ettenhausen II (0)
UID:a421a091-f357-4087-8487-b3c74e6e9102
STATUS:CONFIRMED
LAST-MODIFIED:20260401T121815Z
DESCRIPTION:4. Liga Herren Gruppe 2\nBegegnungs-Nr: 0\nHeim: Winterthur IV\nGast: Ettenhausen II\n\nAdresse: Buchackerstrasse 54\, 8400 Winterthur\n
LOCATION:Buchackerstrasse 54\, 8400 Winterthur
CATEGORIES:Saison 2025/26
END:VEVENT
BEGIN:VEVENT
DTSTAMP:20260424T150307Z
DTSTART;TZID=Europe/Berlin:20250925T201500
DTEND;TZID=Europe/Berlin:20250925T231500
SUMMARY:HE 4. Liga Gr. 2 Wallenwil II vs Ettenhausen II (0)
UID:fbef58c9-2812-45c7-80fd-7d2088334c7c
STATUS:CONFIRMED
LAST-MODIFIED:20250926T130654Z
DESCRIPTION:4. Liga Herren Gruppe 2\nBegegnungs-Nr: 0\nHeim: Wallenwil II\nGast: Ettenhausen II\n\nAdresse: Stationsstrasse 29\, 8360 Wallenwil\n
LOCATION:Stationsstrasse 29\, 8360 Wallenwil
CATEGORIES:Saison 2025/26
END:VEVENT
BEGIN:VEVENT
DTSTAMP:20260424T150307Z
DTSTART;TZID=Europe/Berlin:20251027T201500
DTEND;TZID=Europe/Berlin:20251027T231500
SUMMARY:HE 4. Liga Gr. 2 Wuppenau II vs Ettenhausen II (0)
UID:9632e00b-3580-4258-a8dd-b72f70388d8e
STATUS:CONFIRMED
LAST-MODIFIED:20251031T143506Z
DESCRIPTION:4. Liga Herren Gruppe 2\nBegegnungs-Nr: 0\nHeim: Wuppenau II\nGast: Ettenhausen II\n\nAdresse: Nollenstrasse\, 9514 Wuppenau\n
LOCATION:Nollenstrasse\, 9514 Wuppenau
CATEGORIES:Saison 2025/26
END:VEVENT
BEGIN:VEVENT
DTSTAMP:20260424T150307Z
DTSTART;TZID=Europe/Berlin:20251202T200000
DTEND;TZID=Europe/Berlin:20251202T230000
SUMMARY:HE 4. Liga Gr. 2 Weinfelden II vs Ettenhausen II (0)
UID:0e2d06f3-ddc6-4101-a3b2-80b9c2046661
STATUS:CONFIRMED
LAST-MODIFIED:20251205T130349Z
DESCRIPTION:4. Liga Herren Gruppe 2\nBegegnungs-Nr: 0\nHeim: Weinfelden II\nGast: Ettenhausen II\n\nAdresse: Bleichestrasse 3 (neben Hallenbad)\, 8570 Weinfelden\n
LOCATION:Bleichestrasse 3 (neben Hallenbad)\, 8570 Weinfelden
CATEGORIES:Saison 2025/26
END:VEVENT
END:VCALENDAR
