BEGIN:VCALENDAR
PRODID:-//nuDatenautomaten//framework iCal4j //DE
VERSION:2.0
CALSCALE:GREGORIAN
BEGIN:VTIMEZONE
TZID:Europe/Berlin
LAST-MODIFIED:20260306T231828Z
TZURL:https://www.tzurl.org/zoneinfo/Europe/Berlin
X-LIC-LOCATION:Europe/Berlin
X-PROLEPTIC-TZNAME:LMT
BEGIN:STANDARD
TZNAME:CET
TZOFFSETFROM:+005328
TZOFFSETTO:+0100
DTSTART:18930401T000000
END:STANDARD
BEGIN:DAYLIGHT
TZNAME:CEST
TZOFFSETFROM:+0100
TZOFFSETTO:+0200
DTSTART:19160430T230000
RDATE:19400401T020000
RDATE:19430329T020000
RDATE:19460414T020000
RDATE:19470406T030000
RDATE:19480418T020000
RDATE:19490410T020000
RDATE:19800406T020000
END:DAYLIGHT
BEGIN:STANDARD
TZNAME:CET
TZOFFSETFROM:+0200
TZOFFSETTO:+0100
DTSTART:19161001T010000
RDATE:19421102T030000
RDATE:19431004T030000
RDATE:19441002T030000
RDATE:19451118T030000
RDATE:19461007T030000
END:STANDARD
BEGIN:DAYLIGHT
TZNAME:CEST
TZOFFSETFROM:+0100
TZOFFSETTO:+0200
DTSTART:19170416T020000
RRULE:FREQ=YEARLY;UNTIL=19180415T010000Z;BYMONTH=4;BYDAY=3MO
END:DAYLIGHT
BEGIN:STANDARD
TZNAME:CET
TZOFFSETFROM:+0200
TZOFFSETTO:+0100
DTSTART:19170917T030000
RRULE:FREQ=YEARLY;UNTIL=19180916T010000Z;BYMONTH=9;BYDAY=3MO
END:STANDARD
BEGIN:DAYLIGHT
TZNAME:CEST
TZOFFSETFROM:+0100
TZOFFSETTO:+0200
DTSTART:19440403T020000
RRULE:FREQ=YEARLY;UNTIL=19450402T010000Z;BYMONTH=4;BYDAY=1MO
END:DAYLIGHT
BEGIN:DAYLIGHT
TZNAME:CEMT
TZOFFSETFROM:+0200
TZOFFSETTO:+0300
DTSTART:19450524T020000
RDATE:19470511T030000
END:DAYLIGHT
BEGIN:DAYLIGHT
TZNAME:CEST
TZOFFSETFROM:+0300
TZOFFSETTO:+0200
DTSTART:19450924T030000
RDATE:19470629T030000
END:DAYLIGHT
BEGIN:STANDARD
TZNAME:CET
TZOFFSETFROM:+0100
TZOFFSETTO:+0100
DTSTART:19460101T000000
RDATE:19800101T000000
END:STANDARD
BEGIN:STANDARD
TZNAME:CET
TZOFFSETFROM:+0200
TZOFFSETTO:+0100
DTSTART:19471005T030000
RRULE:FREQ=YEARLY;UNTIL=19491002T010000Z;BYMONTH=10;BYDAY=1SU
END:STANDARD
BEGIN:STANDARD
TZNAME:CET
TZOFFSETFROM:+0200
TZOFFSETTO:+0100
DTSTART:19800928T030000
RRULE:FREQ=YEARLY;UNTIL=19950924T010000Z;BYMONTH=9;BYDAY=-1SU
END:STANDARD
BEGIN:DAYLIGHT
TZNAME:CEST
TZOFFSETFROM:+0100
TZOFFSETTO:+0200
DTSTART:19810329T020000
RRULE:FREQ=YEARLY;BYMONTH=3;BYDAY=-1SU
END:DAYLIGHT
BEGIN:STANDARD
TZNAME:CET
TZOFFSETFROM:+0200
TZOFFSETTO:+0100
DTSTART:19961027T030000
RRULE:FREQ=YEARLY;BYMONTH=10;BYDAY=-1SU
END:STANDARD
END:VTIMEZONE
BEGIN:VEVENT
DTSTAMP:20260424T120255Z
DTSTART;TZID=Europe/Berlin:20260302T200000
DTEND;TZID=Europe/Berlin:20260302T230000
SUMMARY:O40 1. Liga Gr. 1 Chur vs Zürich-Affoltern (0)
UID:7567c881-311e-487c-b2d7-847794fa516a
STATUS:CONFIRMED
LAST-MODIFIED:20260303T133504Z
DESCRIPTION: 1. Liga O40 Gruppe 1\nBegegnungs-Nr: 0\nHeim: Chur\nGast: Zürich-Affoltern\n\nAdresse: Sandstr. 35\, 7000 Chur\n
LOCATION:Sandstr. 35\, 7000 Chur
CATEGORIES:Saison 2025/26
END:VEVENT
BEGIN:VEVENT
DTSTAMP:20260424T120255Z
DTSTART;TZID=Europe/Berlin:20260112T200000
DTEND;TZID=Europe/Berlin:20260112T230000
SUMMARY:O40 1. Liga Gr. 1 Chur vs Gaiserwald (0)
UID:a418909c-5cf7-43a1-95e7-5222f2f2d485
STATUS:CONFIRMED
LAST-MODIFIED:20260116T065057Z
DESCRIPTION: 1. Liga O40 Gruppe 1\nBegegnungs-Nr: 0\nHeim: Chur\nGast: Gaiserwald\n\nAdresse: Sandstr. 35\, 7000 Chur\n
LOCATION:Sandstr. 35\, 7000 Chur
CATEGORIES:Saison 2025/26
END:VEVENT
BEGIN:VEVENT
DTSTAMP:20260424T120255Z
DTSTART;TZID=Europe/Berlin:20251117T200000
DTEND;TZID=Europe/Berlin:20251117T230000
SUMMARY:O40 1. Liga Gr. 1 Chur vs Romanshorn (0)
UID:05c5bd50-d1da-4ce4-b380-b0c145dc8b14
STATUS:CONFIRMED
LAST-MODIFIED:20251118T125251Z
DESCRIPTION: 1. Liga O40 Gruppe 1\nBegegnungs-Nr: 0\nHeim: Chur\nGast: Romanshorn\n\nAdresse: Sandstr. 35\, 7000 Chur\n
LOCATION:Sandstr. 35\, 7000 Chur
CATEGORIES:Saison 2025/26
END:VEVENT
BEGIN:VEVENT
DTSTAMP:20260424T120255Z
DTSTART;TZID=Europe/Berlin:20250908T200000
DTEND;TZID=Europe/Berlin:20250908T230000
SUMMARY:O40 1. Liga Gr. 1 Chur vs Wetzikon (0)
UID:1155a699-6cec-4ae6-a9f6-1aeccab3dcd6
STATUS:CONFIRMED
LAST-MODIFIED:20250915T084039Z
DESCRIPTION: 1. Liga O40 Gruppe 1\nBegegnungs-Nr: 0\nHeim: Chur\nGast: Wetzikon\n\nAdresse: Sandstr. 35\, 7000 Chur\n
LOCATION:Sandstr. 35\, 7000 Chur
CATEGORIES:Saison 2025/26
END:VEVENT
BEGIN:VEVENT
DTSTAMP:20260424T120255Z
DTSTART;TZID=Europe/Berlin:20251020T200000
DTEND;TZID=Europe/Berlin:20251020T230000
SUMMARY:O40 1. Liga Gr. 1 Chur vs Wädenswil (0)
UID:9283ea19-8f1a-448e-932d-39fe4a980402
STATUS:CONFIRMED
LAST-MODIFIED:20251022T085602Z
DESCRIPTION: 1. Liga O40 Gruppe 1\nBegegnungs-Nr: 0\nHeim: Chur\nGast: Wädenswil\n\nAdresse: Sandstr. 35\, 7000 Chur\n
LOCATION:Sandstr. 35\, 7000 Chur
CATEGORIES:Saison 2025/26
END:VEVENT
BEGIN:VEVENT
DTSTAMP:20260424T120255Z
DTSTART;TZID=Europe/Berlin:20251215T200000
DTEND;TZID=Europe/Berlin:20251215T230000
SUMMARY:O40 1. Liga Gr. 1 Chur vs Affoltern A/A (0)
UID:687c9634-45b8-4fc7-94c7-b515b560ef61
STATUS:CONFIRMED
LAST-MODIFIED:20251217T142705Z
DESCRIPTION: 1. Liga O40 Gruppe 1\nBegegnungs-Nr: 0\nHeim: Chur\nGast: Affoltern A/A\n\nAdresse: Sandstr. 35\, 7000 Chur\n
LOCATION:Sandstr. 35\, 7000 Chur
CATEGORIES:Saison 2025/26
END:VEVENT
BEGIN:VEVENT
DTSTAMP:20260424T120255Z
DTSTART;TZID=Europe/Berlin:20260410T201500
DTEND;TZID=Europe/Berlin:20260410T231500
SUMMARY:O40 1. Liga Gr. 1 Wädenswil vs Chur (0)
UID:cd85b805-ad31-4bb0-b37f-332e46575467
STATUS:CONFIRMED
LAST-MODIFIED:20260416T104330Z
DESCRIPTION: 1. Liga O40 Gruppe 1\nBegegnungs-Nr: 0\nHeim: Wädenswil\nGast: Chur\n\nAdresse: Fuhrstrasse 16b\, 8820 Wädenswil\n
LOCATION:Fuhrstrasse 16b\, 8820 Wädenswil
CATEGORIES:Saison 2025/26
END:VEVENT
BEGIN:VEVENT
DTSTAMP:20260424T120255Z
DTSTART;TZID=Europe/Berlin:20260220T201500
DTEND;TZID=Europe/Berlin:20260220T231500
SUMMARY:O40 1. Liga Gr. 1 Romanshorn vs Chur (0)
UID:9ad2b571-dcae-43a2-adae-b01bbb8c408c
STATUS:CONFIRMED
LAST-MODIFIED:20260225T102910Z
DESCRIPTION: 1. Liga O40 Gruppe 1\nBegegnungs-Nr: 0\nHeim: Romanshorn\nGast: Chur\n\nAdresse: Florastrasse\, 8590 Romanshorn\n
LOCATION:Florastrasse\, 8590 Romanshorn
CATEGORIES:Saison 2025/26
END:VEVENT
BEGIN:VEVENT
DTSTAMP:20260424T120255Z
DTSTART;TZID=Europe/Berlin:20260507T193000
DTEND;TZID=Europe/Berlin:20260507T223000
SUMMARY:O40 1. Liga Gr. 1 Affoltern A/A vs Chur (0)
UID:7965c099-e530-4907-928e-d31e186162aa
STATUS:CONFIRMED
LAST-MODIFIED:20250802T125510Z
DESCRIPTION: 1. Liga O40 Gruppe 1\nBegegnungs-Nr: 0\nHeim: Affoltern A/A\nGast: Chur\n\nAdresse: Butzenstrasse 8\, 8910 Affoltern am Albis\n
LOCATION:Butzenstrasse 8\, 8910 Affoltern am Albis
CATEGORIES:Saison 2025/26
END:VEVENT
BEGIN:VEVENT
DTSTAMP:20260424T120255Z
DTSTART;TZID=Europe/Berlin:20260223T200000
DTEND;TZID=Europe/Berlin:20260223T230000
SUMMARY:O40 1. Liga Gr. 1 Wetzikon vs Chur (0)
UID:65bea77d-afca-4d35-8216-7fc34623d0cd
STATUS:CONFIRMED
LAST-MODIFIED:20260225T103340Z
DESCRIPTION: 1. Liga O40 Gruppe 1\nBegegnungs-Nr: 0\nHeim: Wetzikon\nGast: Chur\n\nAdresse: Usterstrasse 37\, 8620 Wetzikon\n
LOCATION:Usterstrasse 37\, 8620 Wetzikon
CATEGORIES:Saison 2025/26
END:VEVENT
BEGIN:VEVENT
DTSTAMP:20260424T120255Z
DTSTART;TZID=Europe/Berlin:20250812T200000
DTEND;TZID=Europe/Berlin:20250812T230000
SUMMARY:O40 1. Liga Gr. 1 Gaiserwald vs Chur (0)
UID:cadbfe5a-f2ae-443e-9f43-4b3ca0e533b5
STATUS:CONFIRMED
LAST-MODIFIED:20250819T061621Z
DESCRIPTION: 1. Liga O40 Gruppe 1\nBegegnungs-Nr: 0\nHeim: Gaiserwald\nGast: Chur\n\nAdresse: Sonnenbergstrasse 15\, 9030 Abtwil\n
LOCATION:Sonnenbergstrasse 15\, 9030 Abtwil
CATEGORIES:Saison 2025/26
END:VEVENT
BEGIN:VEVENT
DTSTAMP:20260424T120255Z
DTSTART;TZID=Europe/Berlin:20250912T201500
DTEND;TZID=Europe/Berlin:20250912T231500
SUMMARY:O40 1. Liga Gr. 1 Zürich-Affoltern vs Chur (0)
UID:ad41edea-d19a-4397-a828-983cacf0f909
STATUS:CONFIRMED
LAST-MODIFIED:20250915T084517Z
DESCRIPTION: 1. Liga O40 Gruppe 1\nBegegnungs-Nr: 0\nHeim: Zürich-Affoltern\nGast: Chur\n\nAdresse: Rümlangstr. 89\, 8052 Zürich\n
LOCATION:Rümlangstr. 89\, 8052 Zürich
CATEGORIES:Saison 2025/26
END:VEVENT
END:VCALENDAR
