BEGIN:VCALENDAR
PRODID:-//nuDatenautomaten//framework iCal4j //DE
VERSION:2.0
CALSCALE:GREGORIAN
BEGIN:VTIMEZONE
TZID:Europe/Berlin
LAST-MODIFIED:20260306T231828Z
TZURL:https://www.tzurl.org/zoneinfo/Europe/Berlin
X-LIC-LOCATION:Europe/Berlin
X-PROLEPTIC-TZNAME:LMT
BEGIN:STANDARD
TZNAME:CET
TZOFFSETFROM:+005328
TZOFFSETTO:+0100
DTSTART:18930401T000000
END:STANDARD
BEGIN:DAYLIGHT
TZNAME:CEST
TZOFFSETFROM:+0100
TZOFFSETTO:+0200
DTSTART:19160430T230000
RDATE:19400401T020000
RDATE:19430329T020000
RDATE:19460414T020000
RDATE:19470406T030000
RDATE:19480418T020000
RDATE:19490410T020000
RDATE:19800406T020000
END:DAYLIGHT
BEGIN:STANDARD
TZNAME:CET
TZOFFSETFROM:+0200
TZOFFSETTO:+0100
DTSTART:19161001T010000
RDATE:19421102T030000
RDATE:19431004T030000
RDATE:19441002T030000
RDATE:19451118T030000
RDATE:19461007T030000
END:STANDARD
BEGIN:DAYLIGHT
TZNAME:CEST
TZOFFSETFROM:+0100
TZOFFSETTO:+0200
DTSTART:19170416T020000
RRULE:FREQ=YEARLY;UNTIL=19180415T010000Z;BYMONTH=4;BYDAY=3MO
END:DAYLIGHT
BEGIN:STANDARD
TZNAME:CET
TZOFFSETFROM:+0200
TZOFFSETTO:+0100
DTSTART:19170917T030000
RRULE:FREQ=YEARLY;UNTIL=19180916T010000Z;BYMONTH=9;BYDAY=3MO
END:STANDARD
BEGIN:DAYLIGHT
TZNAME:CEST
TZOFFSETFROM:+0100
TZOFFSETTO:+0200
DTSTART:19440403T020000
RRULE:FREQ=YEARLY;UNTIL=19450402T010000Z;BYMONTH=4;BYDAY=1MO
END:DAYLIGHT
BEGIN:DAYLIGHT
TZNAME:CEMT
TZOFFSETFROM:+0200
TZOFFSETTO:+0300
DTSTART:19450524T020000
RDATE:19470511T030000
END:DAYLIGHT
BEGIN:DAYLIGHT
TZNAME:CEST
TZOFFSETFROM:+0300
TZOFFSETTO:+0200
DTSTART:19450924T030000
RDATE:19470629T030000
END:DAYLIGHT
BEGIN:STANDARD
TZNAME:CET
TZOFFSETFROM:+0100
TZOFFSETTO:+0100
DTSTART:19460101T000000
RDATE:19800101T000000
END:STANDARD
BEGIN:STANDARD
TZNAME:CET
TZOFFSETFROM:+0200
TZOFFSETTO:+0100
DTSTART:19471005T030000
RRULE:FREQ=YEARLY;UNTIL=19491002T010000Z;BYMONTH=10;BYDAY=1SU
END:STANDARD
BEGIN:STANDARD
TZNAME:CET
TZOFFSETFROM:+0200
TZOFFSETTO:+0100
DTSTART:19800928T030000
RRULE:FREQ=YEARLY;UNTIL=19950924T010000Z;BYMONTH=9;BYDAY=-1SU
END:STANDARD
BEGIN:DAYLIGHT
TZNAME:CEST
TZOFFSETFROM:+0100
TZOFFSETTO:+0200
DTSTART:19810329T020000
RRULE:FREQ=YEARLY;BYMONTH=3;BYDAY=-1SU
END:DAYLIGHT
BEGIN:STANDARD
TZNAME:CET
TZOFFSETFROM:+0200
TZOFFSETTO:+0100
DTSTART:19961027T030000
RRULE:FREQ=YEARLY;BYMONTH=10;BYDAY=-1SU
END:STANDARD
END:VTIMEZONE
BEGIN:VEVENT
DTSTAMP:20260424T103950Z
DTSTART;TZID=Europe/Berlin:20251026T140000
DTEND;TZID=Europe/Berlin:20251026T170000
SUMMARY:STTL Men ZZ-Lancy vs Lugano (13)
UID:589a19a4-392f-4b58-a950-292d0cc1cc2e
STATUS:CONFIRMED
LAST-MODIFIED:20251030T090113Z
DESCRIPTION:Swiss Table Tennis League Men\nBegegnungs-Nr: 13\nHeim: ZZ-Lancy\nGast: Lugano\n\nAdresse: Avenue du Curé-Baud 40\, 1212 Grand-Lancy\n
LOCATION:Avenue du Curé-Baud 40\, 1212 Grand-Lancy
CATEGORIES:Saison 2025/26
END:VEVENT
BEGIN:VEVENT
DTSTAMP:20260424T103950Z
DTSTART;TZID=Europe/Berlin:20251115T150000
DTEND;TZID=Europe/Berlin:20251115T180000
SUMMARY:STTL Men ZZ-Lancy vs Rapperswil-Jona (19)
UID:80cb583f-fa9a-4117-9c24-a376c094da68
STATUS:CONFIRMED
LAST-MODIFIED:20251117T125934Z
DESCRIPTION:Swiss Table Tennis League Men\nBegegnungs-Nr: 19\nHeim: ZZ-Lancy\nGast: Rapperswil-Jona\n\nAdresse: Avenue du Curé-Baud 40\, 1212 Grand-Lancy\n
LOCATION:Avenue du Curé-Baud 40\, 1212 Grand-Lancy
CATEGORIES:Saison 2025/26
END:VEVENT
BEGIN:VEVENT
DTSTAMP:20260424T103950Z
DTSTART;TZID=Europe/Berlin:20251116T150000
DTEND;TZID=Europe/Berlin:20251116T180000
SUMMARY:STTL Men ZZ-Lancy vs Young Stars ZH (24)
UID:13434a21-ab27-4a93-a2d7-934a8f6310ae
STATUS:CONFIRMED
LAST-MODIFIED:20251117T130721Z
DESCRIPTION:Swiss Table Tennis League Men\nBegegnungs-Nr: 24\nHeim: ZZ-Lancy\nGast: Young Stars ZH\n\nAdresse: Avenue du Curé-Baud 40\, 1212 Grand-Lancy\n
LOCATION:Avenue du Curé-Baud 40\, 1212 Grand-Lancy
CATEGORIES:Saison 2025/26
END:VEVENT
BEGIN:VEVENT
DTSTAMP:20260424T103950Z
DTSTART;TZID=Europe/Berlin:20251213T150000
DTEND;TZID=Europe/Berlin:20251213T180000
SUMMARY:STTL Men ZZ-Lancy vs Carouge (26)
UID:333f0e95-59f2-4e26-8f02-c7f874164fbf
STATUS:CONFIRMED
LAST-MODIFIED:20251216T113122Z
DESCRIPTION:Swiss Table Tennis League Men\nBegegnungs-Nr: 26\nHeim: ZZ-Lancy\nGast: Carouge\n\nAdresse: Avenue du Curé-Baud 40\, 1212 Grand-Lancy\n
LOCATION:Avenue du Curé-Baud 40\, 1212 Grand-Lancy
CATEGORIES:Saison 2025/26
END:VEVENT
BEGIN:VEVENT
DTSTAMP:20260424T103950Z
DTSTART;TZID=Europe/Berlin:20260301T150000
DTEND;TZID=Europe/Berlin:20260301T180000
SUMMARY:STTL Men ZZ-Lancy vs Rio-Star Muttenz (19)
UID:f958cb8e-3c2f-42f7-a329-a7cff206194a
STATUS:CONFIRMED
LAST-MODIFIED:20260302T215159Z
DESCRIPTION:Swiss Table Tennis League Men\nBegegnungs-Nr: 19\nHeim: ZZ-Lancy\nGast: Rio-Star Muttenz\n\nAdresse: Avenue du Curé-Baud 40\, 1212 Grand-Lancy\n
LOCATION:Avenue du Curé-Baud 40\, 1212 Grand-Lancy
CATEGORIES:Saison 2025/26
END:VEVENT
BEGIN:VEVENT
DTSTAMP:20260424T103950Z
DTSTART;TZID=Europe/Berlin:20260228T150000
DTEND;TZID=Europe/Berlin:20260228T180000
SUMMARY:STTL Men ZZ-Lancy vs Neuhausen (14)
UID:57a0786f-1db4-4817-be60-d8f3bf40dcf9
STATUS:CONFIRMED
LAST-MODIFIED:20260303T101520Z
DESCRIPTION:Swiss Table Tennis League Men\nBegegnungs-Nr: 14\nHeim: ZZ-Lancy\nGast: Neuhausen\n\nAdresse: Avenue du Curé-Baud 40\, 1212 Grand-Lancy\n
LOCATION:Avenue du Curé-Baud 40\, 1212 Grand-Lancy
CATEGORIES:Saison 2025/26
END:VEVENT
BEGIN:VEVENT
DTSTAMP:20260424T103950Z
DTSTART;TZID=Europe/Berlin:20260424T140000
DTEND;TZID=Europe/Berlin:20260424T170000
SUMMARY:STTL Men Play-Off 1/2-Final ZZ-Lancy vs Lugano (2)
UID:26762119-6c17-46be-8179-239ef00db4ae
STATUS:CONFIRMED
DESCRIPTION:Swiss Table Tennis League Men Play-Off 1/2-Final\nBegegnungs-Nr: 2\nHeim: ZZ-Lancy\nGast: Lugano\n\nAdresse: Avenue du Curé-Baud 40\, 1212 Grand-Lancy\n
LOCATION:Avenue du Curé-Baud 40\, 1212 Grand-Lancy
CATEGORIES:Saison 2025/26
END:VEVENT
BEGIN:VEVENT
DTSTAMP:20260424T103950Z
DTSTART;TZID=Europe/Berlin:20251011T140000
DTEND;TZID=Europe/Berlin:20251011T170000
SUMMARY:STTL Men Rio-Star Muttenz vs ZZ-Lancy (3)
UID:e1be0f97-c01b-480c-8f82-625be88704c0
STATUS:CONFIRMED
LAST-MODIFIED:20251016T145000Z
DESCRIPTION:Swiss Table Tennis League Men\nBegegnungs-Nr: 3\nHeim: Rio-Star Muttenz\nGast: ZZ-Lancy\n\nAdresse: Gründenstrasse 32\, 4132 Muttenz\n
LOCATION:Gründenstrasse 32\, 4132 Muttenz
CATEGORIES:Saison 2025/26
END:VEVENT
BEGIN:VEVENT
DTSTAMP:20260424T103950Z
DTSTART;TZID=Europe/Berlin:20251012T140000
DTEND;TZID=Europe/Berlin:20251012T170000
SUMMARY:STTL Men Neuhausen vs ZZ-Lancy (6)
UID:fe68ce49-2c90-488f-961a-e0cf2071667c
STATUS:CONFIRMED
LAST-MODIFIED:20251016T145202Z
DESCRIPTION:Swiss Table Tennis League Men\nBegegnungs-Nr: 6\nHeim: Neuhausen\nGast: ZZ-Lancy\n\nAdresse: Ebnatstrasse 35\, 8200 Schaffhausen\n
LOCATION:Ebnatstrasse 35\, 8200 Schaffhausen
CATEGORIES:Saison 2025/26
END:VEVENT
BEGIN:VEVENT
DTSTAMP:20260424T103950Z
DTSTART;TZID=Europe/Berlin:20260111T150000
DTEND;TZID=Europe/Berlin:20260111T180000
SUMMARY:STTL Men Lugano vs ZZ-Lancy (9)
UID:668a2fb2-bcae-4c26-8d58-c46fde20da97
STATUS:CONFIRMED
LAST-MODIFIED:20260113T064634Z
DESCRIPTION:Swiss Table Tennis League Men\nBegegnungs-Nr: 9\nHeim: Lugano\nGast: ZZ-Lancy\n\nAdresse: Via del Tiglio\, 6908 Cassarate\n
LOCATION:Via del Tiglio\, 6908 Cassarate
CATEGORIES:Saison 2025/26
END:VEVENT
BEGIN:VEVENT
DTSTAMP:20260424T103950Z
DTSTART;TZID=Europe/Berlin:20260328T150000
DTEND;TZID=Europe/Berlin:20260328T180000
SUMMARY:STTL Men Rapperswil-Jona vs ZZ-Lancy (23)
UID:9803081b-822b-4403-9ad7-cfc245e8020a
STATUS:CONFIRMED
LAST-MODIFIED:20260330T074714Z
DESCRIPTION:Swiss Table Tennis League Men\nBegegnungs-Nr: 23\nHeim: Rapperswil-Jona\nGast: ZZ-Lancy\n\nAdresse: Kreuzstrasse 43\, 8640 Rapperswil\n
LOCATION:Kreuzstrasse 43\, 8640 Rapperswil
CATEGORIES:Saison 2025/26
END:VEVENT
BEGIN:VEVENT
DTSTAMP:20260424T103950Z
DTSTART;TZID=Europe/Berlin:20260329T140000
DTEND;TZID=Europe/Berlin:20260329T170000
SUMMARY:STTL Men Young Stars ZH vs ZZ-Lancy (28)
UID:5f841a0c-6e7d-4d68-a29d-11f2c81c497b
STATUS:CONFIRMED
LAST-MODIFIED:20260330T075417Z
DESCRIPTION:Swiss Table Tennis League Men\nBegegnungs-Nr: 28\nHeim: Young Stars ZH\nGast: ZZ-Lancy\n\nAdresse: Seefeldstrasse 93\, 8008 Zürich\n
LOCATION:Seefeldstrasse 93\, 8008 Zürich
CATEGORIES:Saison 2025/26
END:VEVENT
BEGIN:VEVENT
DTSTAMP:20260424T103950Z
DTSTART;TZID=Europe/Berlin:20251214T140000
DTEND;TZID=Europe/Berlin:20251214T170000
SUMMARY:STTL Men Carouge vs ZZ-Lancy (2)
UID:3ee53bf3-eb5b-4a39-abad-73a21a925c36
STATUS:CONFIRMED
LAST-MODIFIED:20251216T113201Z
DESCRIPTION:Swiss Table Tennis League Men\nBegegnungs-Nr: 2\nHeim: Carouge\nGast: ZZ-Lancy\n\nAdresse: Route de Veyrier 44\, 1227 Carouge GE\n
LOCATION:Route de Veyrier 44\, 1227 Carouge GE
CATEGORIES:Saison 2025/26
END:VEVENT
BEGIN:VEVENT
DTSTAMP:20260424T103950Z
DTSTART;TZID=Europe/Berlin:20260426T140000
DTEND;TZID=Europe/Berlin:20260426T170000
SUMMARY:STTL Men Play-Off 1/2-Final Lugano vs ZZ-Lancy (2)
UID:30a0d27c-5d1f-4a0f-960c-a400b6b43529
STATUS:CONFIRMED
DESCRIPTION:Swiss Table Tennis League Men Play-Off 1/2-Final\nBegegnungs-Nr: 2\nHeim: Lugano\nGast: ZZ-Lancy\n\nAdresse: Via al Chioso 7\, 6900 Lugano-Cassarate\n
LOCATION:Via al Chioso 7\, 6900 Lugano-Cassarate
CATEGORIES:Saison 2025/26
END:VEVENT
BEGIN:VEVENT
DTSTAMP:20260424T103950Z
DTSTART;TZID=Europe/Berlin:20260425T160000
DTEND;TZID=Europe/Berlin:20260425T190000
SUMMARY:STTL Men Play-Off 1/2-Final Lugano vs ZZ-Lancy (2)
UID:164f3f3e-ac4b-47f3-9aa0-efcec5ad5610
STATUS:CONFIRMED
DESCRIPTION:Swiss Table Tennis League Men Play-Off 1/2-Final\nBegegnungs-Nr: 2\nHeim: Lugano\nGast: ZZ-Lancy\n\nAdresse: Via al Chioso 7\, 6900 Lugano-Cassarate\n
LOCATION:Via al Chioso 7\, 6900 Lugano-Cassarate
CATEGORIES:Saison 2025/26
END:VEVENT
END:VCALENDAR
