BEGIN:VCALENDAR
PRODID:-//nuDatenautomaten//framework iCal4j //DE
VERSION:2.0
CALSCALE:GREGORIAN
BEGIN:VTIMEZONE
TZID:Europe/Berlin
LAST-MODIFIED:20260306T231828Z
TZURL:https://www.tzurl.org/zoneinfo/Europe/Berlin
X-LIC-LOCATION:Europe/Berlin
X-PROLEPTIC-TZNAME:LMT
BEGIN:STANDARD
TZNAME:CET
TZOFFSETFROM:+005328
TZOFFSETTO:+0100
DTSTART:18930401T000000
END:STANDARD
BEGIN:DAYLIGHT
TZNAME:CEST
TZOFFSETFROM:+0100
TZOFFSETTO:+0200
DTSTART:19160430T230000
RDATE:19400401T020000
RDATE:19430329T020000
RDATE:19460414T020000
RDATE:19470406T030000
RDATE:19480418T020000
RDATE:19490410T020000
RDATE:19800406T020000
END:DAYLIGHT
BEGIN:STANDARD
TZNAME:CET
TZOFFSETFROM:+0200
TZOFFSETTO:+0100
DTSTART:19161001T010000
RDATE:19421102T030000
RDATE:19431004T030000
RDATE:19441002T030000
RDATE:19451118T030000
RDATE:19461007T030000
END:STANDARD
BEGIN:DAYLIGHT
TZNAME:CEST
TZOFFSETFROM:+0100
TZOFFSETTO:+0200
DTSTART:19170416T020000
RRULE:FREQ=YEARLY;UNTIL=19180415T010000Z;BYMONTH=4;BYDAY=3MO
END:DAYLIGHT
BEGIN:STANDARD
TZNAME:CET
TZOFFSETFROM:+0200
TZOFFSETTO:+0100
DTSTART:19170917T030000
RRULE:FREQ=YEARLY;UNTIL=19180916T010000Z;BYMONTH=9;BYDAY=3MO
END:STANDARD
BEGIN:DAYLIGHT
TZNAME:CEST
TZOFFSETFROM:+0100
TZOFFSETTO:+0200
DTSTART:19440403T020000
RRULE:FREQ=YEARLY;UNTIL=19450402T010000Z;BYMONTH=4;BYDAY=1MO
END:DAYLIGHT
BEGIN:DAYLIGHT
TZNAME:CEMT
TZOFFSETFROM:+0200
TZOFFSETTO:+0300
DTSTART:19450524T020000
RDATE:19470511T030000
END:DAYLIGHT
BEGIN:DAYLIGHT
TZNAME:CEST
TZOFFSETFROM:+0300
TZOFFSETTO:+0200
DTSTART:19450924T030000
RDATE:19470629T030000
END:DAYLIGHT
BEGIN:STANDARD
TZNAME:CET
TZOFFSETFROM:+0100
TZOFFSETTO:+0100
DTSTART:19460101T000000
RDATE:19800101T000000
END:STANDARD
BEGIN:STANDARD
TZNAME:CET
TZOFFSETFROM:+0200
TZOFFSETTO:+0100
DTSTART:19471005T030000
RRULE:FREQ=YEARLY;UNTIL=19491002T010000Z;BYMONTH=10;BYDAY=1SU
END:STANDARD
BEGIN:STANDARD
TZNAME:CET
TZOFFSETFROM:+0200
TZOFFSETTO:+0100
DTSTART:19800928T030000
RRULE:FREQ=YEARLY;UNTIL=19950924T010000Z;BYMONTH=9;BYDAY=-1SU
END:STANDARD
BEGIN:DAYLIGHT
TZNAME:CEST
TZOFFSETFROM:+0100
TZOFFSETTO:+0200
DTSTART:19810329T020000
RRULE:FREQ=YEARLY;BYMONTH=3;BYDAY=-1SU
END:DAYLIGHT
BEGIN:STANDARD
TZNAME:CET
TZOFFSETFROM:+0200
TZOFFSETTO:+0100
DTSTART:19961027T030000
RRULE:FREQ=YEARLY;BYMONTH=10;BYDAY=-1SU
END:STANDARD
END:VTIMEZONE
BEGIN:VEVENT
DTSTAMP:20260424T140358Z
DTSTART;TZID=Europe/Berlin:20260122T200000
DTEND;TZID=Europe/Berlin:20260122T230000
SUMMARY:HE 5. Liga Gr. 3 Imperial Winterthur II vs Steckborn-Homburg V (0)
UID:c55d2bd5-b275-462d-a430-9d029e5ce0ed
STATUS:CONFIRMED
LAST-MODIFIED:20260130T095259Z
DESCRIPTION:5. Liga Herren Gruppe 3\nBegegnungs-Nr: 0\nHeim: Imperial Winterthur II\nGast: Steckborn-Homburg V\n\nAdresse: Büelhofstrasse 25a\, 8405 Winterthur\n
LOCATION:Büelhofstrasse 25a\, 8405 Winterthur
CATEGORIES:Saison 2025/26
END:VEVENT
BEGIN:VEVENT
DTSTAMP:20260424T140358Z
DTSTART;TZID=Europe/Berlin:20260305T200000
DTEND;TZID=Europe/Berlin:20260305T230000
SUMMARY:HE 5. Liga Gr. 3 Imperial Winterthur II vs Weinfelden IV (0)
UID:f0e89e44-24d2-4a99-82b6-aaa6cf4f7229
STATUS:CONFIRMED
LAST-MODIFIED:20260313T131651Z
DESCRIPTION:5. Liga Herren Gruppe 3\nBegegnungs-Nr: 0\nHeim: Imperial Winterthur II\nGast: Weinfelden IV\n\nAdresse: Büelhofstrasse 25a\, 8405 Winterthur\n
LOCATION:Büelhofstrasse 25a\, 8405 Winterthur
CATEGORIES:Saison 2025/26
END:VEVENT
BEGIN:VEVENT
DTSTAMP:20260424T140358Z
DTSTART;TZID=Europe/Berlin:20260326T200000
DTEND;TZID=Europe/Berlin:20260326T230000
SUMMARY:HE 5. Liga Gr. 3 Imperial Winterthur II vs Kreuzlingen (0)
UID:fe43a97a-13b4-46fc-93e3-ea28437254d2
STATUS:CONFIRMED
LAST-MODIFIED:20260401T125313Z
DESCRIPTION:5. Liga Herren Gruppe 3\nBegegnungs-Nr: 0\nHeim: Imperial Winterthur II\nGast: Kreuzlingen\n\nAdresse: Büelhofstrasse 25a\, 8405 Winterthur\n
LOCATION:Büelhofstrasse 25a\, 8405 Winterthur
CATEGORIES:Saison 2025/26
END:VEVENT
BEGIN:VEVENT
DTSTAMP:20260424T140358Z
DTSTART;TZID=Europe/Berlin:20260416T200000
DTEND;TZID=Europe/Berlin:20260416T230000
SUMMARY:HE 5. Liga Gr. 3 Imperial Winterthur II vs Schaffhausen (0)
UID:e1997a05-ad03-4f7a-93c7-eda0d6a8066e
STATUS:CONFIRMED
LAST-MODIFIED:20260420T123343Z
DESCRIPTION:5. Liga Herren Gruppe 3\nBegegnungs-Nr: 0\nHeim: Imperial Winterthur II\nGast: Schaffhausen\n\nAdresse: Büelhofstrasse 25a\, 8405 Winterthur\n
LOCATION:Büelhofstrasse 25a\, 8405 Winterthur
CATEGORIES:Saison 2025/26
END:VEVENT
BEGIN:VEVENT
DTSTAMP:20260424T140358Z
DTSTART;TZID=Europe/Berlin:20250828T200000
DTEND;TZID=Europe/Berlin:20250828T230000
SUMMARY:HE 5. Liga Gr. 3 Imperial Winterthur II vs Winterthur V (0)
UID:5ac59ebc-7d22-457c-b1ee-225eaa85811a
STATUS:CONFIRMED
LAST-MODIFIED:20250902T092952Z
DESCRIPTION:5. Liga Herren Gruppe 3\nBegegnungs-Nr: 0\nHeim: Imperial Winterthur II\nGast: Winterthur V\n\nAdresse: Büelhofstrasse 25a\, 8405 Winterthur\n
LOCATION:Büelhofstrasse 25a\, 8405 Winterthur
CATEGORIES:Saison 2025/26
END:VEVENT
BEGIN:VEVENT
DTSTAMP:20260424T140358Z
DTSTART;TZID=Europe/Berlin:20250918T200000
DTEND;TZID=Europe/Berlin:20250918T230000
SUMMARY:HE 5. Liga Gr. 3 Imperial Winterthur II vs Diessenhofen (0)
UID:56a7e7a7-661c-4265-bdef-c43eccf8a5dc
STATUS:CONFIRMED
LAST-MODIFIED:20250926T132132Z
DESCRIPTION:5. Liga Herren Gruppe 3\nBegegnungs-Nr: 0\nHeim: Imperial Winterthur II\nGast: Diessenhofen\n\nAdresse: Büelhofstrasse 25a\, 8405 Winterthur\n
LOCATION:Büelhofstrasse 25a\, 8405 Winterthur
CATEGORIES:Saison 2025/26
END:VEVENT
BEGIN:VEVENT
DTSTAMP:20260424T140358Z
DTSTART;TZID=Europe/Berlin:20251030T200000
DTEND;TZID=Europe/Berlin:20251030T230000
SUMMARY:HE 5. Liga Gr. 3 Imperial Winterthur II vs Neuhausen VI (0)
UID:947f2f38-a1ad-47b0-a148-f62380a61df0
STATUS:CONFIRMED
LAST-MODIFIED:20251107T145031Z
DESCRIPTION:5. Liga Herren Gruppe 3\nBegegnungs-Nr: 0\nHeim: Imperial Winterthur II\nGast: Neuhausen VI\n\nAdresse: Büelhofstrasse 25a\, 8405 Winterthur\n
LOCATION:Büelhofstrasse 25a\, 8405 Winterthur
CATEGORIES:Saison 2025/26
END:VEVENT
BEGIN:VEVENT
DTSTAMP:20260424T140358Z
DTSTART;TZID=Europe/Berlin:20260108T200000
DTEND;TZID=Europe/Berlin:20260108T230000
SUMMARY:HE 5. Liga Gr. 3 Winterthur V vs Imperial Winterthur II (0)
UID:fd7dfe24-d263-4aa2-9043-8674cb0f0d00
STATUS:CONFIRMED
LAST-MODIFIED:20260112T095431Z
DESCRIPTION:5. Liga Herren Gruppe 3\nBegegnungs-Nr: 0\nHeim: Winterthur V\nGast: Imperial Winterthur II\n\nAdresse: Buchackerstrasse 54\, 8400 Winterthur\n
LOCATION:Buchackerstrasse 54\, 8400 Winterthur
CATEGORIES:Saison 2025/26
END:VEVENT
BEGIN:VEVENT
DTSTAMP:20260424T140358Z
DTSTART;TZID=Europe/Berlin:20260127T200000
DTEND;TZID=Europe/Berlin:20260127T230000
SUMMARY:HE 5. Liga Gr. 3 Diessenhofen vs Imperial Winterthur II (0)
UID:3d3264dd-219f-4020-9548-01c19d903a12
STATUS:CONFIRMED
LAST-MODIFIED:20260130T095311Z
DESCRIPTION:5. Liga Herren Gruppe 3\nBegegnungs-Nr: 0\nHeim: Diessenhofen\nGast: Imperial Winterthur II\n\nAdresse: alte Basadingerstrasse 10\, 8253 Diessenhofen\n
LOCATION:alte Basadingerstrasse 10\, 8253 Diessenhofen
CATEGORIES:Saison 2025/26
END:VEVENT
BEGIN:VEVENT
DTSTAMP:20260424T140358Z
DTSTART;TZID=Europe/Berlin:20260310T200000
DTEND;TZID=Europe/Berlin:20260310T230000
SUMMARY:HE 5. Liga Gr. 3 Neuhausen VI vs Imperial Winterthur II (0)
UID:7918901e-9ed0-410d-9ee7-3e645210ce0e
STATUS:CONFIRMED
LAST-MODIFIED:20260317T140616Z
DESCRIPTION:5. Liga Herren Gruppe 3\nBegegnungs-Nr: 0\nHeim: Neuhausen VI\nGast: Imperial Winterthur II\n\nAdresse: Ebnatstrasse 35\, 8200 Schaffhausen\n
LOCATION:Ebnatstrasse 35\, 8200 Schaffhausen
CATEGORIES:Saison 2025/26
END:VEVENT
BEGIN:VEVENT
DTSTAMP:20260424T140358Z
DTSTART;TZID=Europe/Berlin:20250904T201500
DTEND;TZID=Europe/Berlin:20250904T231500
SUMMARY:HE 5. Liga Gr. 3 Steckborn-Homburg V vs Imperial Winterthur II (0)
UID:7ecc0eb2-07e4-4f34-87bf-d030fe5484b5
STATUS:CONFIRMED
LAST-MODIFIED:20250905T124335Z
DESCRIPTION:5. Liga Herren Gruppe 3\nBegegnungs-Nr: 0\nHeim: Steckborn-Homburg V\nGast: Imperial Winterthur II\n\nAdresse: Feldbach\, 8266 Steckborn\n
LOCATION:Feldbach\, 8266 Steckborn
CATEGORIES:Saison 2025/26
END:VEVENT
BEGIN:VEVENT
DTSTAMP:20260424T140358Z
DTSTART;TZID=Europe/Berlin:20251024T200000
DTEND;TZID=Europe/Berlin:20251024T230000
SUMMARY:HE 5. Liga Gr. 3 Weinfelden IV vs Imperial Winterthur II (0)
UID:d48432fc-7b54-40c0-a2c9-5d54c7eb96a4
STATUS:CONFIRMED
LAST-MODIFIED:20251031T143900Z
DESCRIPTION:5. Liga Herren Gruppe 3\nBegegnungs-Nr: 0\nHeim: Weinfelden IV\nGast: Imperial Winterthur II\n\nAdresse: Bleichestrasse 3 (neben Hallenbad)\, 8570 Weinfelden\n
LOCATION:Bleichestrasse 3 (neben Hallenbad)\, 8570 Weinfelden
CATEGORIES:Saison 2025/26
END:VEVENT
BEGIN:VEVENT
DTSTAMP:20260424T140358Z
DTSTART;TZID=Europe/Berlin:20251105T200000
DTEND;TZID=Europe/Berlin:20251105T230000
SUMMARY:HE 5. Liga Gr. 3 Kreuzlingen vs Imperial Winterthur II (0)
UID:b7ca89f8-b5ed-450d-a9d9-c3862d117671
STATUS:CONFIRMED
LAST-MODIFIED:20251107T145055Z
DESCRIPTION:5. Liga Herren Gruppe 3\nBegegnungs-Nr: 0\nHeim: Kreuzlingen\nGast: Imperial Winterthur II\n\nAdresse: Rothausstrasse 14\, 8280 Kreuzlingen\n
LOCATION:Rothausstrasse 14\, 8280 Kreuzlingen
CATEGORIES:Saison 2025/26
END:VEVENT
BEGIN:VEVENT
DTSTAMP:20260424T140358Z
DTSTART;TZID=Europe/Berlin:20251201T193000
DTEND;TZID=Europe/Berlin:20251201T223000
SUMMARY:HE 5. Liga Gr. 3 Schaffhausen vs Imperial Winterthur II (0)
UID:ec9fecb1-6116-49ba-b620-3bdddd875694
STATUS:CONFIRMED
LAST-MODIFIED:20251205T130729Z
DESCRIPTION:5. Liga Herren Gruppe 3\nBegegnungs-Nr: 0\nHeim: Schaffhausen\nGast: Imperial Winterthur II\n\nAdresse: Grünaustieg 30\, 8200 Schaffhausen\n
LOCATION:Grünaustieg 30\, 8200 Schaffhausen
CATEGORIES:Saison 2025/26
END:VEVENT
END:VCALENDAR
