BEGIN:VCALENDAR
PRODID:-//nuDatenautomaten//framework iCal4j //DE
VERSION:2.0
CALSCALE:GREGORIAN
BEGIN:VTIMEZONE
TZID:Europe/Berlin
LAST-MODIFIED:20260306T231828Z
TZURL:https://www.tzurl.org/zoneinfo/Europe/Berlin
X-LIC-LOCATION:Europe/Berlin
X-PROLEPTIC-TZNAME:LMT
BEGIN:STANDARD
TZNAME:CET
TZOFFSETFROM:+005328
TZOFFSETTO:+0100
DTSTART:18930401T000000
END:STANDARD
BEGIN:DAYLIGHT
TZNAME:CEST
TZOFFSETFROM:+0100
TZOFFSETTO:+0200
DTSTART:19160430T230000
RDATE:19400401T020000
RDATE:19430329T020000
RDATE:19460414T020000
RDATE:19470406T030000
RDATE:19480418T020000
RDATE:19490410T020000
RDATE:19800406T020000
END:DAYLIGHT
BEGIN:STANDARD
TZNAME:CET
TZOFFSETFROM:+0200
TZOFFSETTO:+0100
DTSTART:19161001T010000
RDATE:19421102T030000
RDATE:19431004T030000
RDATE:19441002T030000
RDATE:19451118T030000
RDATE:19461007T030000
END:STANDARD
BEGIN:DAYLIGHT
TZNAME:CEST
TZOFFSETFROM:+0100
TZOFFSETTO:+0200
DTSTART:19170416T020000
RRULE:FREQ=YEARLY;UNTIL=19180415T010000Z;BYMONTH=4;BYDAY=3MO
END:DAYLIGHT
BEGIN:STANDARD
TZNAME:CET
TZOFFSETFROM:+0200
TZOFFSETTO:+0100
DTSTART:19170917T030000
RRULE:FREQ=YEARLY;UNTIL=19180916T010000Z;BYMONTH=9;BYDAY=3MO
END:STANDARD
BEGIN:DAYLIGHT
TZNAME:CEST
TZOFFSETFROM:+0100
TZOFFSETTO:+0200
DTSTART:19440403T020000
RRULE:FREQ=YEARLY;UNTIL=19450402T010000Z;BYMONTH=4;BYDAY=1MO
END:DAYLIGHT
BEGIN:DAYLIGHT
TZNAME:CEMT
TZOFFSETFROM:+0200
TZOFFSETTO:+0300
DTSTART:19450524T020000
RDATE:19470511T030000
END:DAYLIGHT
BEGIN:DAYLIGHT
TZNAME:CEST
TZOFFSETFROM:+0300
TZOFFSETTO:+0200
DTSTART:19450924T030000
RDATE:19470629T030000
END:DAYLIGHT
BEGIN:STANDARD
TZNAME:CET
TZOFFSETFROM:+0100
TZOFFSETTO:+0100
DTSTART:19460101T000000
RDATE:19800101T000000
END:STANDARD
BEGIN:STANDARD
TZNAME:CET
TZOFFSETFROM:+0200
TZOFFSETTO:+0100
DTSTART:19471005T030000
RRULE:FREQ=YEARLY;UNTIL=19491002T010000Z;BYMONTH=10;BYDAY=1SU
END:STANDARD
BEGIN:STANDARD
TZNAME:CET
TZOFFSETFROM:+0200
TZOFFSETTO:+0100
DTSTART:19800928T030000
RRULE:FREQ=YEARLY;UNTIL=19950924T010000Z;BYMONTH=9;BYDAY=-1SU
END:STANDARD
BEGIN:DAYLIGHT
TZNAME:CEST
TZOFFSETFROM:+0100
TZOFFSETTO:+0200
DTSTART:19810329T020000
RRULE:FREQ=YEARLY;BYMONTH=3;BYDAY=-1SU
END:DAYLIGHT
BEGIN:STANDARD
TZNAME:CET
TZOFFSETFROM:+0200
TZOFFSETTO:+0100
DTSTART:19961027T030000
RRULE:FREQ=YEARLY;BYMONTH=10;BYDAY=-1SU
END:STANDARD
END:VTIMEZONE
BEGIN:VEVENT
DTSTAMP:20260424T151543Z
DTSTART;TZID=Europe/Berlin:20250916T193000
DTEND;TZID=Europe/Berlin:20250916T223000
SUMMARY:HE 2. Liga Gr. 2 Niederhasli vs Young Stars ZH IV (0)
UID:e64c8f6e-dfe2-42b7-ad3f-93c0b927ff7c
STATUS:CONFIRMED
LAST-MODIFIED:20250918T095630Z
DESCRIPTION:2. Liga Herren Gruppe 2\nBegegnungs-Nr: 0\nHeim: Niederhasli\nGast: Young Stars ZH IV\n\nAdresse: Dorfstrasse 22\, 8155 Niederhasli\n
LOCATION:Dorfstrasse 22\, 8155 Niederhasli
CATEGORIES:Saison 2025/26
END:VEVENT
BEGIN:VEVENT
DTSTAMP:20260424T151543Z
DTSTART;TZID=Europe/Berlin:20251104T193000
DTEND;TZID=Europe/Berlin:20251104T223000
SUMMARY:HE 2. Liga Gr. 2 Niederhasli vs Affoltern A/A III (0)
UID:4d67026c-7ca0-44b5-bcdf-d4ae22540407
STATUS:CONFIRMED
LAST-MODIFIED:20251107T144241Z
DESCRIPTION:2. Liga Herren Gruppe 2\nBegegnungs-Nr: 0\nHeim: Niederhasli\nGast: Affoltern A/A III\n\nAdresse: Dorfstrasse 22\, 8155 Niederhasli\n
LOCATION:Dorfstrasse 22\, 8155 Niederhasli
CATEGORIES:Saison 2025/26
END:VEVENT
BEGIN:VEVENT
DTSTAMP:20260424T151543Z
DTSTART;TZID=Europe/Berlin:20260114T193000
DTEND;TZID=Europe/Berlin:20260114T223000
SUMMARY:HE 2. Liga Gr. 2 Niederhasli vs Bronschhofen II (0)
UID:899986aa-5d57-4396-b373-7c490fc07dbb
STATUS:CONFIRMED
LAST-MODIFIED:20260115T093456Z
DESCRIPTION:2. Liga Herren Gruppe 2\nBegegnungs-Nr: 0\nHeim: Niederhasli\nGast: Bronschhofen II\n\nAdresse: Dorfstrasse 22\, 8155 Niederhasli\n
LOCATION:Dorfstrasse 22\, 8155 Niederhasli
CATEGORIES:Saison 2025/26
END:VEVENT
BEGIN:VEVENT
DTSTAMP:20260424T151543Z
DTSTART;TZID=Europe/Berlin:20260120T193000
DTEND;TZID=Europe/Berlin:20260120T223000
SUMMARY:HE 2. Liga Gr. 2 Niederhasli vs Pinguin Zürich (0)
UID:6e792721-4513-4595-a147-9094c7181030
STATUS:CONFIRMED
LAST-MODIFIED:20260121T092421Z
DESCRIPTION:2. Liga Herren Gruppe 2\nBegegnungs-Nr: 0\nHeim: Niederhasli\nGast: Pinguin Zürich\n\nAdresse: Dorfstrasse 22\, 8155 Niederhasli\n
LOCATION:Dorfstrasse 22\, 8155 Niederhasli
CATEGORIES:Saison 2025/26
END:VEVENT
BEGIN:VEVENT
DTSTAMP:20260424T151543Z
DTSTART;TZID=Europe/Berlin:20260324T193000
DTEND;TZID=Europe/Berlin:20260324T223000
SUMMARY:HE 2. Liga Gr. 2 Niederhasli vs Zürich-Affoltern III (0)
UID:66220d04-cd95-4675-ad4d-6c02c3453ba0
STATUS:CONFIRMED
LAST-MODIFIED:20260326T125631Z
DESCRIPTION:2. Liga Herren Gruppe 2\nBegegnungs-Nr: 0\nHeim: Niederhasli\nGast: Zürich-Affoltern III\n\nAdresse: Dorfstrasse 22\, 8155 Niederhasli\n
LOCATION:Dorfstrasse 22\, 8155 Niederhasli
CATEGORIES:Saison 2025/26
END:VEVENT
BEGIN:VEVENT
DTSTAMP:20260424T151543Z
DTSTART;TZID=Europe/Berlin:20260310T193000
DTEND;TZID=Europe/Berlin:20260310T223000
SUMMARY:HE 2. Liga Gr. 2 Niederhasli vs Rapperswil-Jona IV (0)
UID:0ba1171c-18a5-4a0b-b735-d9b86a861753
STATUS:CONFIRMED
LAST-MODIFIED:20260313T130406Z
DESCRIPTION:2. Liga Herren Gruppe 2\nBegegnungs-Nr: 0\nHeim: Niederhasli\nGast: Rapperswil-Jona IV\n\nAdresse: Dorfstrasse 22\, 8155 Niederhasli\n
LOCATION:Dorfstrasse 22\, 8155 Niederhasli
CATEGORIES:Saison 2025/26
END:VEVENT
BEGIN:VEVENT
DTSTAMP:20260424T151543Z
DTSTART;TZID=Europe/Berlin:20260414T193000
DTEND;TZID=Europe/Berlin:20260414T223000
SUMMARY:HE 2. Liga Gr. 2 Niederhasli vs Wädenswil III (0)
UID:5fd5db72-8ddd-4fd2-9142-d56eace1fa65
STATUS:CONFIRMED
LAST-MODIFIED:20260415T082814Z
DESCRIPTION:2. Liga Herren Gruppe 2\nBegegnungs-Nr: 0\nHeim: Niederhasli\nGast: Wädenswil III\n\nAdresse: Dorfstrasse 22\, 8155 Niederhasli\n
LOCATION:Dorfstrasse 22\, 8155 Niederhasli
CATEGORIES:Saison 2025/26
END:VEVENT
BEGIN:VEVENT
DTSTAMP:20260424T151543Z
DTSTART;TZID=Europe/Berlin:20250910T200000
DTEND;TZID=Europe/Berlin:20250910T230000
SUMMARY:HE 2. Liga Gr. 2 Bronschhofen II vs Niederhasli (0)
UID:7113b523-32cd-433a-8aaf-70160e4680e9
STATUS:CONFIRMED
LAST-MODIFIED:20250912T111706Z
DESCRIPTION:2. Liga Herren Gruppe 2\nBegegnungs-Nr: 0\nHeim: Bronschhofen II\nGast: Niederhasli\n\nAdresse: Industriestrasse 4\, 9552 Bronschhofen\n
LOCATION:Industriestrasse 4\, 9552 Bronschhofen
CATEGORIES:Saison 2025/26
END:VEVENT
BEGIN:VEVENT
DTSTAMP:20260424T151543Z
DTSTART;TZID=Europe/Berlin:20250911T193000
DTEND;TZID=Europe/Berlin:20250911T223000
SUMMARY:HE 2. Liga Gr. 2 Pinguin Zürich vs Niederhasli (0)
UID:912aa5ce-5250-49c9-ae1f-151437b6389f
STATUS:CONFIRMED
LAST-MODIFIED:20250915T082903Z
DESCRIPTION:2. Liga Herren Gruppe 2\nBegegnungs-Nr: 0\nHeim: Pinguin Zürich\nGast: Niederhasli\n\nAdresse: Grindelstrasse 20\, 8303 Bassersdorf\n
LOCATION:Grindelstrasse 20\, 8303 Bassersdorf
CATEGORIES:Saison 2025/26
END:VEVENT
BEGIN:VEVENT
DTSTAMP:20260424T151543Z
DTSTART;TZID=Europe/Berlin:20251022T201500
DTEND;TZID=Europe/Berlin:20251022T231500
SUMMARY:HE 2. Liga Gr. 2 Zürich-Affoltern III vs Niederhasli (0)
UID:0aa0952f-b5c5-4fc7-a27d-2d402fa58f02
STATUS:CONFIRMED
LAST-MODIFIED:20251023T145610Z
DESCRIPTION:2. Liga Herren Gruppe 2\nBegegnungs-Nr: 0\nHeim: Zürich-Affoltern III\nGast: Niederhasli\n\nAdresse: Rümlangstr. 89\, 8052 Zürich\n
LOCATION:Rümlangstr. 89\, 8052 Zürich
CATEGORIES:Saison 2025/26
END:VEVENT
BEGIN:VEVENT
DTSTAMP:20260424T151543Z
DTSTART;TZID=Europe/Berlin:20251122T130000
DTEND;TZID=Europe/Berlin:20251122T160000
SUMMARY:HE 2. Liga Gr. 2 Rapperswil-Jona IV vs Niederhasli (0)
UID:8def4a67-7fa2-485a-8e54-a265bce17629
STATUS:CONFIRMED
LAST-MODIFIED:20251124T141909Z
DESCRIPTION:2. Liga Herren Gruppe 2\nBegegnungs-Nr: 0\nHeim: Rapperswil-Jona IV\nGast: Niederhasli\n\nAdresse: Kreuzstrasse 43\, 8640 Rapperswil\n
LOCATION:Kreuzstrasse 43\, 8640 Rapperswil
CATEGORIES:Saison 2025/26
END:VEVENT
BEGIN:VEVENT
DTSTAMP:20260424T151543Z
DTSTART;TZID=Europe/Berlin:20251211T201500
DTEND;TZID=Europe/Berlin:20251211T231500
SUMMARY:HE 2. Liga Gr. 2 Wädenswil III vs Niederhasli (0)
UID:531c7f0f-36ab-4ce0-b996-94131db94c34
STATUS:CONFIRMED
LAST-MODIFIED:20251212T081214Z
DESCRIPTION:2. Liga Herren Gruppe 2\nBegegnungs-Nr: 0\nHeim: Wädenswil III\nGast: Niederhasli\n\nAdresse: Speerstrasse 95\, 8820 Wädenswil\n
LOCATION:Speerstrasse 95\, 8820 Wädenswil
CATEGORIES:Saison 2025/26
END:VEVENT
BEGIN:VEVENT
DTSTAMP:20260424T151543Z
DTSTART;TZID=Europe/Berlin:20260128T201500
DTEND;TZID=Europe/Berlin:20260128T231500
SUMMARY:HE 2. Liga Gr. 2 Young Stars ZH IV vs Niederhasli (0)
UID:702faa1a-ba01-4465-ae9e-83a8e30bfd19
STATUS:CONFIRMED
LAST-MODIFIED:20260129T162151Z
DESCRIPTION:2. Liga Herren Gruppe 2\nBegegnungs-Nr: 0\nHeim: Young Stars ZH IV\nGast: Niederhasli\n\nAdresse: Seefeldstrasse 93\, 8008 Zürich\n
LOCATION:Seefeldstrasse 93\, 8008 Zürich
CATEGORIES:Saison 2025/26
END:VEVENT
BEGIN:VEVENT
DTSTAMP:20260424T151543Z
DTSTART;TZID=Europe/Berlin:20260326T193000
DTEND;TZID=Europe/Berlin:20260326T223000
SUMMARY:HE 2. Liga Gr. 2 Affoltern A/A III vs Niederhasli (0)
UID:521a3e2b-9a59-401a-86f4-b228cc19e1c6
STATUS:CONFIRMED
LAST-MODIFIED:20260401T121013Z
DESCRIPTION:2. Liga Herren Gruppe 2\nBegegnungs-Nr: 0\nHeim: Affoltern A/A III\nGast: Niederhasli\n\nAdresse: Butzenstrasse 8\, 8910 Affoltern am Albis\n
LOCATION:Butzenstrasse 8\, 8910 Affoltern am Albis
CATEGORIES:Saison 2025/26
END:VEVENT
END:VCALENDAR
