BEGIN:VCALENDAR
PRODID:-//nuDatenautomaten//framework iCal4j //DE
VERSION:2.0
CALSCALE:GREGORIAN
BEGIN:VTIMEZONE
TZID:Europe/Berlin
LAST-MODIFIED:20260306T231828Z
TZURL:https://www.tzurl.org/zoneinfo/Europe/Berlin
X-LIC-LOCATION:Europe/Berlin
X-PROLEPTIC-TZNAME:LMT
BEGIN:STANDARD
TZNAME:CET
TZOFFSETFROM:+005328
TZOFFSETTO:+0100
DTSTART:18930401T000000
END:STANDARD
BEGIN:DAYLIGHT
TZNAME:CEST
TZOFFSETFROM:+0100
TZOFFSETTO:+0200
DTSTART:19160430T230000
RDATE:19400401T020000
RDATE:19430329T020000
RDATE:19460414T020000
RDATE:19470406T030000
RDATE:19480418T020000
RDATE:19490410T020000
RDATE:19800406T020000
END:DAYLIGHT
BEGIN:STANDARD
TZNAME:CET
TZOFFSETFROM:+0200
TZOFFSETTO:+0100
DTSTART:19161001T010000
RDATE:19421102T030000
RDATE:19431004T030000
RDATE:19441002T030000
RDATE:19451118T030000
RDATE:19461007T030000
END:STANDARD
BEGIN:DAYLIGHT
TZNAME:CEST
TZOFFSETFROM:+0100
TZOFFSETTO:+0200
DTSTART:19170416T020000
RRULE:FREQ=YEARLY;UNTIL=19180415T010000Z;BYMONTH=4;BYDAY=3MO
END:DAYLIGHT
BEGIN:STANDARD
TZNAME:CET
TZOFFSETFROM:+0200
TZOFFSETTO:+0100
DTSTART:19170917T030000
RRULE:FREQ=YEARLY;UNTIL=19180916T010000Z;BYMONTH=9;BYDAY=3MO
END:STANDARD
BEGIN:DAYLIGHT
TZNAME:CEST
TZOFFSETFROM:+0100
TZOFFSETTO:+0200
DTSTART:19440403T020000
RRULE:FREQ=YEARLY;UNTIL=19450402T010000Z;BYMONTH=4;BYDAY=1MO
END:DAYLIGHT
BEGIN:DAYLIGHT
TZNAME:CEMT
TZOFFSETFROM:+0200
TZOFFSETTO:+0300
DTSTART:19450524T020000
RDATE:19470511T030000
END:DAYLIGHT
BEGIN:DAYLIGHT
TZNAME:CEST
TZOFFSETFROM:+0300
TZOFFSETTO:+0200
DTSTART:19450924T030000
RDATE:19470629T030000
END:DAYLIGHT
BEGIN:STANDARD
TZNAME:CET
TZOFFSETFROM:+0100
TZOFFSETTO:+0100
DTSTART:19460101T000000
RDATE:19800101T000000
END:STANDARD
BEGIN:STANDARD
TZNAME:CET
TZOFFSETFROM:+0200
TZOFFSETTO:+0100
DTSTART:19471005T030000
RRULE:FREQ=YEARLY;UNTIL=19491002T010000Z;BYMONTH=10;BYDAY=1SU
END:STANDARD
BEGIN:STANDARD
TZNAME:CET
TZOFFSETFROM:+0200
TZOFFSETTO:+0100
DTSTART:19800928T030000
RRULE:FREQ=YEARLY;UNTIL=19950924T010000Z;BYMONTH=9;BYDAY=-1SU
END:STANDARD
BEGIN:DAYLIGHT
TZNAME:CEST
TZOFFSETFROM:+0100
TZOFFSETTO:+0200
DTSTART:19810329T020000
RRULE:FREQ=YEARLY;BYMONTH=3;BYDAY=-1SU
END:DAYLIGHT
BEGIN:STANDARD
TZNAME:CET
TZOFFSETFROM:+0200
TZOFFSETTO:+0100
DTSTART:19961027T030000
RRULE:FREQ=YEARLY;BYMONTH=10;BYDAY=-1SU
END:STANDARD
END:VTIMEZONE
BEGIN:VEVENT
DTSTAMP:20260424T135746Z
DTSTART;TZID=Europe/Berlin:20251216T194500
DTEND;TZID=Europe/Berlin:20251216T224500
SUMMARY:HE 3. Liga Gr. 3 Brugg II vs Schöftland IV (0)
UID:e0128c96-0007-4875-a5ed-dd37cb2bd97f
STATUS:CONFIRMED
LAST-MODIFIED:20251217T080245Z
DESCRIPTION:3. Liga Herren Gruppe 3\nBegegnungs-Nr: 0\nHeim: Brugg II\nGast: Schöftland IV\n\nAdresse: Sommerhaldenstrasse 29\, 5200 Brugg/Lauffohr\n
LOCATION:Sommerhaldenstrasse 29\, 5200 Brugg/Lauffohr
CATEGORIES:Saison 2025/26
END:VEVENT
BEGIN:VEVENT
DTSTAMP:20260424T135746Z
DTSTART;TZID=Europe/Berlin:20260127T194500
DTEND;TZID=Europe/Berlin:20260127T224500
SUMMARY:HE 3. Liga Gr. 3 Brugg II vs Baden-Wettingen IV (0)
UID:801f0179-c03d-46a8-8225-254d1c9d2d83
STATUS:CONFIRMED
LAST-MODIFIED:20260129T075029Z
DESCRIPTION:3. Liga Herren Gruppe 3\nBegegnungs-Nr: 0\nHeim: Brugg II\nGast: Baden-Wettingen IV\n\nAdresse: Sommerhaldenstrasse 29\, 5200 Brugg/Lauffohr\n
LOCATION:Sommerhaldenstrasse 29\, 5200 Brugg/Lauffohr
CATEGORIES:Saison 2025/26
END:VEVENT
BEGIN:VEVENT
DTSTAMP:20260424T135746Z
DTSTART;TZID=Europe/Berlin:20260310T194500
DTEND;TZID=Europe/Berlin:20260310T224500
SUMMARY:HE 3. Liga Gr. 3 Brugg II vs Bremgarten V (0)
UID:26632821-157d-424f-b9a8-16db9c640e66
STATUS:CONFIRMED
LAST-MODIFIED:20260313T125126Z
DESCRIPTION:3. Liga Herren Gruppe 3\nBegegnungs-Nr: 0\nHeim: Brugg II\nGast: Bremgarten V\n\nAdresse: Sommerhaldenstrasse 29\, 5200 Brugg/Lauffohr\n
LOCATION:Sommerhaldenstrasse 29\, 5200 Brugg/Lauffohr
CATEGORIES:Saison 2025/26
END:VEVENT
BEGIN:VEVENT
DTSTAMP:20260424T135746Z
DTSTART;TZID=Europe/Berlin:20260324T194500
DTEND;TZID=Europe/Berlin:20260324T224500
SUMMARY:HE 3. Liga Gr. 3 Brugg II vs Aarau II (0)
UID:250e9250-ecb7-4e9a-9ae3-3328bde62d5f
STATUS:CONFIRMED
LAST-MODIFIED:20260409T114559Z
DESCRIPTION:3. Liga Herren Gruppe 3\nBegegnungs-Nr: 0\nHeim: Brugg II\nGast: Aarau II\n\nAdresse: Sommerhaldenstrasse 29\, 5200 Brugg/Lauffohr\n
LOCATION:Sommerhaldenstrasse 29\, 5200 Brugg/Lauffohr
CATEGORIES:Saison 2025/26
END:VEVENT
BEGIN:VEVENT
DTSTAMP:20260424T135746Z
DTSTART;TZID=Europe/Berlin:20250902T194500
DTEND;TZID=Europe/Berlin:20250902T224500
SUMMARY:HE 3. Liga Gr. 3 Brugg II vs Frick II (0)
UID:0c53bf13-bc80-42b9-8a2e-dc11082f679c
STATUS:CONFIRMED
LAST-MODIFIED:20250905T121103Z
DESCRIPTION:3. Liga Herren Gruppe 3\nBegegnungs-Nr: 0\nHeim: Brugg II\nGast: Frick II\n\nAdresse: Sommerhaldenstrasse 29\, 5200 Brugg/Lauffohr\n
LOCATION:Sommerhaldenstrasse 29\, 5200 Brugg/Lauffohr
CATEGORIES:Saison 2025/26
END:VEVENT
BEGIN:VEVENT
DTSTAMP:20260424T135746Z
DTSTART;TZID=Europe/Berlin:20251014T194500
DTEND;TZID=Europe/Berlin:20251014T224500
SUMMARY:HE 3. Liga Gr. 3 Brugg II vs Olten IV (0)
UID:38be661a-2428-42dc-a920-9427ad768ae5
STATUS:CONFIRMED
LAST-MODIFIED:20251016T145638Z
DESCRIPTION:3. Liga Herren Gruppe 3\nBegegnungs-Nr: 0\nHeim: Brugg II\nGast: Olten IV\n\nAdresse: Sommerhaldenstrasse 29\, 5200 Brugg/Lauffohr\n
LOCATION:Sommerhaldenstrasse 29\, 5200 Brugg/Lauffohr
CATEGORIES:Saison 2025/26
END:VEVENT
BEGIN:VEVENT
DTSTAMP:20260424T135746Z
DTSTART;TZID=Europe/Berlin:20251028T194500
DTEND;TZID=Europe/Berlin:20251028T224500
SUMMARY:HE 3. Liga Gr. 3 Brugg II vs Zofingen (0)
UID:d89f673d-d0c7-475a-8b47-5528132ea4dd
STATUS:CONFIRMED
LAST-MODIFIED:20251029T100222Z
DESCRIPTION:3. Liga Herren Gruppe 3\nBegegnungs-Nr: 0\nHeim: Brugg II\nGast: Zofingen\n\nAdresse: Sommerhaldenstrasse 29\, 5200 Brugg/Lauffohr\n
LOCATION:Sommerhaldenstrasse 29\, 5200 Brugg/Lauffohr
CATEGORIES:Saison 2025/26
END:VEVENT
BEGIN:VEVENT
DTSTAMP:20260424T135746Z
DTSTART;TZID=Europe/Berlin:20260116T200000
DTEND;TZID=Europe/Berlin:20260116T230000
SUMMARY:HE 3. Liga Gr. 3 Frick II vs Brugg II (0)
UID:78cde90c-a750-4408-8d6f-3fa86836c9f3
STATUS:CONFIRMED
LAST-MODIFIED:20260123T081306Z
DESCRIPTION:3. Liga Herren Gruppe 3\nBegegnungs-Nr: 0\nHeim: Frick II\nGast: Brugg II\n\nAdresse: Schulstrasse 51\, 5070 Frick\n
LOCATION:Schulstrasse 51\, 5070 Frick
CATEGORIES:Saison 2025/26
END:VEVENT
BEGIN:VEVENT
DTSTAMP:20260424T135746Z
DTSTART;TZID=Europe/Berlin:20260216T194500
DTEND;TZID=Europe/Berlin:20260216T224500
SUMMARY:HE 3. Liga Gr. 3 Olten IV vs Brugg II (0)
UID:4b817c8a-d950-4d33-80da-36e7ec2586a7
STATUS:CONFIRMED
LAST-MODIFIED:20260218T071325Z
DESCRIPTION:3. Liga Herren Gruppe 3\nBegegnungs-Nr: 0\nHeim: Olten IV\nGast: Brugg II\n\nAdresse: Engelbergstrasse 60\, 4600 Olten\n
LOCATION:Engelbergstrasse 60\, 4600 Olten
CATEGORIES:Saison 2025/26
END:VEVENT
BEGIN:VEVENT
DTSTAMP:20260424T135746Z
DTSTART;TZID=Europe/Berlin:20260303T194500
DTEND;TZID=Europe/Berlin:20260303T224500
SUMMARY:HE 3. Liga Gr. 3 Zofingen vs Brugg II (0)
UID:5982cdcb-79b6-4a86-8685-cb3a5519309e
STATUS:CONFIRMED
LAST-MODIFIED:20260304T104303Z
DESCRIPTION:3. Liga Herren Gruppe 3\nBegegnungs-Nr: 0\nHeim: Zofingen\nGast: Brugg II\n\nAdresse: Strengelbacherstrasse 14\, 4800 Zofingen\n
LOCATION:Strengelbacherstrasse 14\, 4800 Zofingen
CATEGORIES:Saison 2025/26
END:VEVENT
BEGIN:VEVENT
DTSTAMP:20260424T135746Z
DTSTART;TZID=Europe/Berlin:20250822T200000
DTEND;TZID=Europe/Berlin:20250822T230000
SUMMARY:HE 3. Liga Gr. 3 Schöftland IV vs Brugg II (0)
UID:9da8f648-49b4-494a-bedd-c36a671fb014
STATUS:CONFIRMED
LAST-MODIFIED:20250825T065823Z
DESCRIPTION:3. Liga Herren Gruppe 3\nBegegnungs-Nr: 0\nHeim: Schöftland IV\nGast: Brugg II\n\nAdresse: Birkenweg\, 5040 Schöftland\n
LOCATION:Birkenweg\, 5040 Schöftland
CATEGORIES:Saison 2025/26
END:VEVENT
BEGIN:VEVENT
DTSTAMP:20260424T135746Z
DTSTART;TZID=Europe/Berlin:20250925T200000
DTEND;TZID=Europe/Berlin:20250925T230000
SUMMARY:HE 3. Liga Gr. 3 Baden-Wettingen IV vs Brugg II (0)
UID:5d2fb5c5-4eda-4796-995c-7dde1c01fe4d
STATUS:CONFIRMED
LAST-MODIFIED:20250926T123452Z
DESCRIPTION:3. Liga Herren Gruppe 3\nBegegnungs-Nr: 0\nHeim: Baden-Wettingen IV\nGast: Brugg II\n\nAdresse: Schulstrasse 14\, 5430 Wettingen\n
LOCATION:Schulstrasse 14\, 5430 Wettingen
CATEGORIES:Saison 2025/26
END:VEVENT
BEGIN:VEVENT
DTSTAMP:20260424T135746Z
DTSTART;TZID=Europe/Berlin:20251206T133000
DTEND;TZID=Europe/Berlin:20251206T163000
SUMMARY:HE 3. Liga Gr. 3 Bremgarten V vs Brugg II (0)
UID:088e0ed0-b079-406d-9e74-ba6427588ad5
STATUS:CONFIRMED
LAST-MODIFIED:20251211T111812Z
DESCRIPTION:3. Liga Herren Gruppe 3\nBegegnungs-Nr: 0\nHeim: Bremgarten V\nGast: Brugg II\n\nAdresse: Badstrasse 3\, 5620 Bremgarten\n
LOCATION:Badstrasse 3\, 5620 Bremgarten
CATEGORIES:Saison 2025/26
END:VEVENT
BEGIN:VEVENT
DTSTAMP:20260424T135746Z
DTSTART;TZID=Europe/Berlin:20251212T194500
DTEND;TZID=Europe/Berlin:20251212T224500
SUMMARY:HE 3. Liga Gr. 3 Aarau II vs Brugg II (0)
UID:1685bf52-2bb2-469c-bf67-5364dfd5808d
STATUS:CONFIRMED
LAST-MODIFIED:20251216T095545Z
DESCRIPTION:3. Liga Herren Gruppe 3\nBegegnungs-Nr: 0\nHeim: Aarau II\nGast: Brugg II\n\nAdresse: Weltistrasse 20\, 5000 Aarau\n
LOCATION:Weltistrasse 20\, 5000 Aarau
CATEGORIES:Saison 2025/26
END:VEVENT
END:VCALENDAR
