BEGIN:VCALENDAR
PRODID:-//nuDatenautomaten//framework iCal4j //DE
VERSION:2.0
CALSCALE:GREGORIAN
BEGIN:VTIMEZONE
TZID:Europe/Berlin
LAST-MODIFIED:20260306T231828Z
TZURL:https://www.tzurl.org/zoneinfo/Europe/Berlin
X-LIC-LOCATION:Europe/Berlin
X-PROLEPTIC-TZNAME:LMT
BEGIN:STANDARD
TZNAME:CET
TZOFFSETFROM:+005328
TZOFFSETTO:+0100
DTSTART:18930401T000000
END:STANDARD
BEGIN:DAYLIGHT
TZNAME:CEST
TZOFFSETFROM:+0100
TZOFFSETTO:+0200
DTSTART:19160430T230000
RDATE:19400401T020000
RDATE:19430329T020000
RDATE:19460414T020000
RDATE:19470406T030000
RDATE:19480418T020000
RDATE:19490410T020000
RDATE:19800406T020000
END:DAYLIGHT
BEGIN:STANDARD
TZNAME:CET
TZOFFSETFROM:+0200
TZOFFSETTO:+0100
DTSTART:19161001T010000
RDATE:19421102T030000
RDATE:19431004T030000
RDATE:19441002T030000
RDATE:19451118T030000
RDATE:19461007T030000
END:STANDARD
BEGIN:DAYLIGHT
TZNAME:CEST
TZOFFSETFROM:+0100
TZOFFSETTO:+0200
DTSTART:19170416T020000
RRULE:FREQ=YEARLY;UNTIL=19180415T010000Z;BYMONTH=4;BYDAY=3MO
END:DAYLIGHT
BEGIN:STANDARD
TZNAME:CET
TZOFFSETFROM:+0200
TZOFFSETTO:+0100
DTSTART:19170917T030000
RRULE:FREQ=YEARLY;UNTIL=19180916T010000Z;BYMONTH=9;BYDAY=3MO
END:STANDARD
BEGIN:DAYLIGHT
TZNAME:CEST
TZOFFSETFROM:+0100
TZOFFSETTO:+0200
DTSTART:19440403T020000
RRULE:FREQ=YEARLY;UNTIL=19450402T010000Z;BYMONTH=4;BYDAY=1MO
END:DAYLIGHT
BEGIN:DAYLIGHT
TZNAME:CEMT
TZOFFSETFROM:+0200
TZOFFSETTO:+0300
DTSTART:19450524T020000
RDATE:19470511T030000
END:DAYLIGHT
BEGIN:DAYLIGHT
TZNAME:CEST
TZOFFSETFROM:+0300
TZOFFSETTO:+0200
DTSTART:19450924T030000
RDATE:19470629T030000
END:DAYLIGHT
BEGIN:STANDARD
TZNAME:CET
TZOFFSETFROM:+0100
TZOFFSETTO:+0100
DTSTART:19460101T000000
RDATE:19800101T000000
END:STANDARD
BEGIN:STANDARD
TZNAME:CET
TZOFFSETFROM:+0200
TZOFFSETTO:+0100
DTSTART:19471005T030000
RRULE:FREQ=YEARLY;UNTIL=19491002T010000Z;BYMONTH=10;BYDAY=1SU
END:STANDARD
BEGIN:STANDARD
TZNAME:CET
TZOFFSETFROM:+0200
TZOFFSETTO:+0100
DTSTART:19800928T030000
RRULE:FREQ=YEARLY;UNTIL=19950924T010000Z;BYMONTH=9;BYDAY=-1SU
END:STANDARD
BEGIN:DAYLIGHT
TZNAME:CEST
TZOFFSETFROM:+0100
TZOFFSETTO:+0200
DTSTART:19810329T020000
RRULE:FREQ=YEARLY;BYMONTH=3;BYDAY=-1SU
END:DAYLIGHT
BEGIN:STANDARD
TZNAME:CET
TZOFFSETFROM:+0200
TZOFFSETTO:+0100
DTSTART:19961027T030000
RRULE:FREQ=YEARLY;BYMONTH=10;BYDAY=-1SU
END:STANDARD
END:VTIMEZONE
BEGIN:VEVENT
DTSTAMP:20260424T044422Z
DTSTART;TZID=Europe/Berlin:20251125T201500
DTEND;TZID=Europe/Berlin:20251125T231500
SUMMARY:HE 4. Liga Gr. 3 Bremgarten VII vs Gelterkinden II (0)
UID:83cd270d-c38d-4c9b-8f09-1e40053d21e3
STATUS:CONFIRMED
LAST-MODIFIED:20251127T135451Z
DESCRIPTION:4. Liga Herren Gruppe 3\nBegegnungs-Nr: 0\nHeim: Bremgarten VII\nGast: Gelterkinden II\n\nAdresse: Badstrasse 3\, 5620 Bremgarten\n
LOCATION:Badstrasse 3\, 5620 Bremgarten
CATEGORIES:Saison 2025/26
END:VEVENT
BEGIN:VEVENT
DTSTAMP:20260424T044422Z
DTSTART;TZID=Europe/Berlin:20251202T201500
DTEND;TZID=Europe/Berlin:20251202T231500
SUMMARY:HE 4. Liga Gr. 3 Bremgarten VII vs BW Rupperswil II (0)
UID:5966d0d5-5a06-4500-ab37-86b4188f9654
STATUS:CONFIRMED
LAST-MODIFIED:20251205T123349Z
DESCRIPTION:4. Liga Herren Gruppe 3\nBegegnungs-Nr: 0\nHeim: Bremgarten VII\nGast: BW Rupperswil II\n\nAdresse: Badstrasse 3\, 5620 Bremgarten\n
LOCATION:Badstrasse 3\, 5620 Bremgarten
CATEGORIES:Saison 2025/26
END:VEVENT
BEGIN:VEVENT
DTSTAMP:20260424T044422Z
DTSTART;TZID=Europe/Berlin:20260116T201500
DTEND;TZID=Europe/Berlin:20260116T231500
SUMMARY:HE 4. Liga Gr. 3 Bremgarten VII vs Aarau III (0)
UID:d4e3aa87-8d11-45c5-99da-e7b7cf3ee608
STATUS:CONFIRMED
LAST-MODIFIED:20260202T090232Z
DESCRIPTION:4. Liga Herren Gruppe 3\nBegegnungs-Nr: 0\nHeim: Bremgarten VII\nGast: Aarau III\n\nAdresse: Badstrasse 3\, 5620 Bremgarten\n
LOCATION:Badstrasse 3\, 5620 Bremgarten
CATEGORIES:Saison 2025/26
END:VEVENT
BEGIN:VEVENT
DTSTAMP:20260424T044422Z
DTSTART;TZID=Europe/Berlin:20260213T201500
DTEND;TZID=Europe/Berlin:20260213T231500
SUMMARY:HE 4. Liga Gr. 3 Bremgarten VII vs Olten V (0)
UID:4abe847a-81d3-47e4-8773-24ed481be0f5
STATUS:CONFIRMED
LAST-MODIFIED:20260218T071405Z
DESCRIPTION:4. Liga Herren Gruppe 3\nBegegnungs-Nr: 0\nHeim: Bremgarten VII\nGast: Olten V\n\nAdresse: Badstrasse 3\, 5620 Bremgarten\n
LOCATION:Badstrasse 3\, 5620 Bremgarten
CATEGORIES:Saison 2025/26
END:VEVENT
BEGIN:VEVENT
DTSTAMP:20260424T044422Z
DTSTART;TZID=Europe/Berlin:20260227T201500
DTEND;TZID=Europe/Berlin:20260227T231500
SUMMARY:HE 4. Liga Gr. 3 Bremgarten VII vs Frick III (0)
UID:254b1ba8-cc8d-4a85-9490-6ff1a46c7074
STATUS:CONFIRMED
LAST-MODIFIED:20260302T112803Z
DESCRIPTION:4. Liga Herren Gruppe 3\nBegegnungs-Nr: 0\nHeim: Bremgarten VII\nGast: Frick III\n\nAdresse: Badstrasse 3\, 5620 Bremgarten\n
LOCATION:Badstrasse 3\, 5620 Bremgarten
CATEGORIES:Saison 2025/26
END:VEVENT
BEGIN:VEVENT
DTSTAMP:20260424T044422Z
DTSTART;TZID=Europe/Berlin:20250822T201500
DTEND;TZID=Europe/Berlin:20250822T231500
SUMMARY:HE 4. Liga Gr. 3 Bremgarten VII vs Birrfeld (0)
UID:ec9cf16d-54b0-4750-8e15-333d1af68568
STATUS:CONFIRMED
LAST-MODIFIED:20250825T070204Z
DESCRIPTION:4. Liga Herren Gruppe 3\nBegegnungs-Nr: 0\nHeim: Bremgarten VII\nGast: Birrfeld\n\nAdresse: Badstrasse 3\, 5620 Bremgarten\n
LOCATION:Badstrasse 3\, 5620 Bremgarten
CATEGORIES:Saison 2025/26
END:VEVENT
BEGIN:VEVENT
DTSTAMP:20260424T044422Z
DTSTART;TZID=Europe/Berlin:20250919T201500
DTEND;TZID=Europe/Berlin:20250919T231500
SUMMARY:HE 4. Liga Gr. 3 Bremgarten VII vs Zofingen II (0)
UID:661b65c7-a3f5-4686-ae29-16ee1843efe2
STATUS:CONFIRMED
LAST-MODIFIED:20250926T123545Z
DESCRIPTION:4. Liga Herren Gruppe 3\nBegegnungs-Nr: 0\nHeim: Bremgarten VII\nGast: Zofingen II\n\nAdresse: Badstrasse 3\, 5620 Bremgarten\n
LOCATION:Badstrasse 3\, 5620 Bremgarten
CATEGORIES:Saison 2025/26
END:VEVENT
BEGIN:VEVENT
DTSTAMP:20260424T044422Z
DTSTART;TZID=Europe/Berlin:20251022T200000
DTEND;TZID=Europe/Berlin:20251022T230000
SUMMARY:HE 4. Liga Gr. 3 Olten V vs Bremgarten VII (0)
UID:288cba7b-2d86-474a-838c-64eb13e4255c
STATUS:CONFIRMED
LAST-MODIFIED:20251029T095454Z
DESCRIPTION:4. Liga Herren Gruppe 3\nBegegnungs-Nr: 0\nHeim: Olten V\nGast: Bremgarten VII\n\nAdresse: Stockackerstrasse 17\, 5013 Niedergösgen\n
LOCATION:Stockackerstrasse 17\, 5013 Niedergösgen
CATEGORIES:Saison 2025/26
END:VEVENT
BEGIN:VEVENT
DTSTAMP:20260424T044422Z
DTSTART;TZID=Europe/Berlin:20251114T200000
DTEND;TZID=Europe/Berlin:20251114T230000
SUMMARY:HE 4. Liga Gr. 3 Frick III vs Bremgarten VII (0)
UID:ef915c7d-0857-4751-9de8-9352b7430520
STATUS:CONFIRMED
LAST-MODIFIED:20251119T123044Z
DESCRIPTION:4. Liga Herren Gruppe 3\nBegegnungs-Nr: 0\nHeim: Frick III\nGast: Bremgarten VII\n\nAdresse: Schulstrasse 51\, 5070 Frick\n
LOCATION:Schulstrasse 51\, 5070 Frick
CATEGORIES:Saison 2025/26
END:VEVENT
BEGIN:VEVENT
DTSTAMP:20260424T044422Z
DTSTART;TZID=Europe/Berlin:20260110T151500
DTEND;TZID=Europe/Berlin:20260110T181500
SUMMARY:HE 4. Liga Gr. 3 Birrfeld vs Bremgarten VII (0)
UID:8dd3798b-2ed9-4d51-b3d7-58bc47b213b4
STATUS:CONFIRMED
LAST-MODIFIED:20260115T094713Z
DESCRIPTION:4. Liga Herren Gruppe 3\nBegegnungs-Nr: 0\nHeim: Birrfeld\nGast: Bremgarten VII\n\nAdresse: Zentralstrasse 30\, 5242 Birr\n
LOCATION:Zentralstrasse 30\, 5242 Birr
CATEGORIES:Saison 2025/26
END:VEVENT
BEGIN:VEVENT
DTSTAMP:20260424T044422Z
DTSTART;TZID=Europe/Berlin:20260203T194500
DTEND;TZID=Europe/Berlin:20260203T224500
SUMMARY:HE 4. Liga Gr. 3 Zofingen II vs Bremgarten VII (0)
UID:de7460f7-954d-463b-b3ad-2d72ac68cfb9
STATUS:CONFIRMED
LAST-MODIFIED:20260211T093740Z
DESCRIPTION:4. Liga Herren Gruppe 3\nBegegnungs-Nr: 0\nHeim: Zofingen II\nGast: Bremgarten VII\n\nAdresse: Strengelbacherstrasse 14\, 4800 Zofingen\n
LOCATION:Strengelbacherstrasse 14\, 4800 Zofingen
CATEGORIES:Saison 2025/26
END:VEVENT
BEGIN:VEVENT
DTSTAMP:20260424T044422Z
DTSTART;TZID=Europe/Berlin:20260401T201500
DTEND;TZID=Europe/Berlin:20260401T231500
SUMMARY:HE 4. Liga Gr. 3 Gelterkinden II vs Bremgarten VII (0)
UID:0496bc9c-a250-4251-a753-0a1358f0566c
STATUS:CONFIRMED
LAST-MODIFIED:20260416T093746Z
DESCRIPTION:4. Liga Herren Gruppe 3\nBegegnungs-Nr: 0\nHeim: Gelterkinden II\nGast: Bremgarten VII\n\nAdresse: Turnhallenstrasse 18\, 4460 Gelterkinden\n
LOCATION:Turnhallenstrasse 18\, 4460 Gelterkinden
CATEGORIES:Saison 2025/26
END:VEVENT
BEGIN:VEVENT
DTSTAMP:20260424T044422Z
DTSTART;TZID=Europe/Berlin:20260323T203000
DTEND;TZID=Europe/Berlin:20260323T233000
SUMMARY:HE 4. Liga Gr. 3 BW Rupperswil II vs Bremgarten VII (0)
UID:6973e6fb-883b-4577-afae-bff30bdeda81
STATUS:CONFIRMED
LAST-MODIFIED:20260416T093717Z
DESCRIPTION:4. Liga Herren Gruppe 3\nBegegnungs-Nr: 0\nHeim: BW Rupperswil II\nGast: Bremgarten VII\n\nAdresse: -\, 5102 Rupperswil\n
LOCATION:-\, 5102 Rupperswil
CATEGORIES:Saison 2025/26
END:VEVENT
BEGIN:VEVENT
DTSTAMP:20260424T044422Z
DTSTART;TZID=Europe/Berlin:20250912T194500
DTEND;TZID=Europe/Berlin:20250912T224500
SUMMARY:HE 4. Liga Gr. 3 Aarau III vs Bremgarten VII (0)
UID:e275d1ea-4880-4dac-a3e8-a18bd9240f4e
STATUS:CONFIRMED
LAST-MODIFIED:20250918T095049Z
DESCRIPTION:4. Liga Herren Gruppe 3\nBegegnungs-Nr: 0\nHeim: Aarau III\nGast: Bremgarten VII\n\nAdresse: Weltistrasse 20\, 5000 Aarau\n
LOCATION:Weltistrasse 20\, 5000 Aarau
CATEGORIES:Saison 2025/26
END:VEVENT
END:VCALENDAR
