BEGIN:VCALENDAR
PRODID:-//nuDatenautomaten//framework iCal4j //DE
VERSION:2.0
CALSCALE:GREGORIAN
BEGIN:VTIMEZONE
TZID:Europe/Berlin
LAST-MODIFIED:20260306T231828Z
TZURL:https://www.tzurl.org/zoneinfo/Europe/Berlin
X-LIC-LOCATION:Europe/Berlin
X-PROLEPTIC-TZNAME:LMT
BEGIN:STANDARD
TZNAME:CET
TZOFFSETFROM:+005328
TZOFFSETTO:+0100
DTSTART:18930401T000000
END:STANDARD
BEGIN:DAYLIGHT
TZNAME:CEST
TZOFFSETFROM:+0100
TZOFFSETTO:+0200
DTSTART:19160430T230000
RDATE:19400401T020000
RDATE:19430329T020000
RDATE:19460414T020000
RDATE:19470406T030000
RDATE:19480418T020000
RDATE:19490410T020000
RDATE:19800406T020000
END:DAYLIGHT
BEGIN:STANDARD
TZNAME:CET
TZOFFSETFROM:+0200
TZOFFSETTO:+0100
DTSTART:19161001T010000
RDATE:19421102T030000
RDATE:19431004T030000
RDATE:19441002T030000
RDATE:19451118T030000
RDATE:19461007T030000
END:STANDARD
BEGIN:DAYLIGHT
TZNAME:CEST
TZOFFSETFROM:+0100
TZOFFSETTO:+0200
DTSTART:19170416T020000
RRULE:FREQ=YEARLY;UNTIL=19180415T010000Z;BYMONTH=4;BYDAY=3MO
END:DAYLIGHT
BEGIN:STANDARD
TZNAME:CET
TZOFFSETFROM:+0200
TZOFFSETTO:+0100
DTSTART:19170917T030000
RRULE:FREQ=YEARLY;UNTIL=19180916T010000Z;BYMONTH=9;BYDAY=3MO
END:STANDARD
BEGIN:DAYLIGHT
TZNAME:CEST
TZOFFSETFROM:+0100
TZOFFSETTO:+0200
DTSTART:19440403T020000
RRULE:FREQ=YEARLY;UNTIL=19450402T010000Z;BYMONTH=4;BYDAY=1MO
END:DAYLIGHT
BEGIN:DAYLIGHT
TZNAME:CEMT
TZOFFSETFROM:+0200
TZOFFSETTO:+0300
DTSTART:19450524T020000
RDATE:19470511T030000
END:DAYLIGHT
BEGIN:DAYLIGHT
TZNAME:CEST
TZOFFSETFROM:+0300
TZOFFSETTO:+0200
DTSTART:19450924T030000
RDATE:19470629T030000
END:DAYLIGHT
BEGIN:STANDARD
TZNAME:CET
TZOFFSETFROM:+0100
TZOFFSETTO:+0100
DTSTART:19460101T000000
RDATE:19800101T000000
END:STANDARD
BEGIN:STANDARD
TZNAME:CET
TZOFFSETFROM:+0200
TZOFFSETTO:+0100
DTSTART:19471005T030000
RRULE:FREQ=YEARLY;UNTIL=19491002T010000Z;BYMONTH=10;BYDAY=1SU
END:STANDARD
BEGIN:STANDARD
TZNAME:CET
TZOFFSETFROM:+0200
TZOFFSETTO:+0100
DTSTART:19800928T030000
RRULE:FREQ=YEARLY;UNTIL=19950924T010000Z;BYMONTH=9;BYDAY=-1SU
END:STANDARD
BEGIN:DAYLIGHT
TZNAME:CEST
TZOFFSETFROM:+0100
TZOFFSETTO:+0200
DTSTART:19810329T020000
RRULE:FREQ=YEARLY;BYMONTH=3;BYDAY=-1SU
END:DAYLIGHT
BEGIN:STANDARD
TZNAME:CET
TZOFFSETFROM:+0200
TZOFFSETTO:+0100
DTSTART:19961027T030000
RRULE:FREQ=YEARLY;BYMONTH=10;BYDAY=-1SU
END:STANDARD
END:VTIMEZONE
BEGIN:VEVENT
DTSTAMP:20260424T151705Z
DTSTART;TZID=Europe/Berlin:20251117T194500
DTEND;TZID=Europe/Berlin:20251117T224500
SUMMARY:Ligue 4 Gr.4 Ph.A Collex-Bossy vs Versoix IV (23)
UID:ff3c1777-21ca-4a32-b6bc-3594835205d5
STATUS:CONFIRMED
LAST-MODIFIED:20251118T192911Z
DESCRIPTION:4ème ligue Hommes Gr.4 Phase A\nBegegnungs-Nr: 23\nHeim: Collex-Bossy\nGast: Versoix IV\n
LOCATION:
CATEGORIES:Saison 2025/26
END:VEVENT
BEGIN:VEVENT
DTSTAMP:20260424T151705Z
DTSTART;TZID=Europe/Berlin:20251027T194500
DTEND;TZID=Europe/Berlin:20251027T224500
SUMMARY:Ligue 4 Gr.4 Ph.A Collex-Bossy vs Grand-Saconnex III (17)
UID:22109649-ce2d-46f4-a60b-a476f0df8197
STATUS:CONFIRMED
LAST-MODIFIED:20251028T194703Z
DESCRIPTION:4ème ligue Hommes Gr.4 Phase A\nBegegnungs-Nr: 17\nHeim: Collex-Bossy\nGast: Grand-Saconnex III\n
LOCATION:
CATEGORIES:Saison 2025/26
END:VEVENT
BEGIN:VEVENT
DTSTAMP:20260424T151705Z
DTSTART;TZID=Europe/Berlin:20251013T194500
DTEND;TZID=Europe/Berlin:20251013T224500
SUMMARY:Ligue 4 Gr.4 Ph.A Collex-Bossy vs UGS-Chênois VIII (13)
UID:a37c8388-3751-447d-bcb2-61e00a132423
STATUS:CONFIRMED
LAST-MODIFIED:20251014T164943Z
DESCRIPTION:4ème ligue Hommes Gr.4 Phase A\nBegegnungs-Nr: 13\nHeim: Collex-Bossy\nGast: UGS-Chênois VIII\n
LOCATION:
CATEGORIES:Saison 2025/26
END:VEVENT
BEGIN:VEVENT
DTSTAMP:20260424T151705Z
DTSTART;TZID=Europe/Berlin:20250915T194500
DTEND;TZID=Europe/Berlin:20250915T224500
SUMMARY:Ligue 4 Gr.4 Ph.A Collex-Bossy vs Silver Star VIII (5)
UID:e2feb381-1251-4a88-b1e8-7ca54a77b3ae
STATUS:CONFIRMED
LAST-MODIFIED:20250916T192503Z
DESCRIPTION:4ème ligue Hommes Gr.4 Phase A\nBegegnungs-Nr: 5\nHeim: Collex-Bossy\nGast: Silver Star VIII\n
LOCATION:
CATEGORIES:Saison 2025/26
END:VEVENT
BEGIN:VEVENT
DTSTAMP:20260424T151705Z
DTSTART;TZID=Europe/Berlin:20251124T194500
DTEND;TZID=Europe/Berlin:20251124T224500
SUMMARY:Ligue 4 Gr.4 Ph.A Collex-Bossy vs Meyrin IV (27)
UID:e8450820-810b-4d91-b409-0d211bf3e4ff
STATUS:CONFIRMED
LAST-MODIFIED:20251125T202627Z
DESCRIPTION:4ème ligue Hommes Gr.4 Phase A\nBegegnungs-Nr: 27\nHeim: Collex-Bossy\nGast: Meyrin IV\n
LOCATION:
CATEGORIES:Saison 2025/26
END:VEVENT
BEGIN:VEVENT
DTSTAMP:20260424T151705Z
DTSTART;TZID=Europe/Berlin:20260119T194500
DTEND;TZID=Europe/Berlin:20260119T224500
SUMMARY:Ligue 4 Gr.3 Ph.B Collex-Bossy vs Meyrin VI (5)
UID:67f08829-0f6a-41c8-b5c2-1a4b5f90c210
STATUS:CONFIRMED
LAST-MODIFIED:20260120T141442Z
DESCRIPTION:4ème ligue Hommes Gr.3 Phase B\nBegegnungs-Nr: 5\nHeim: Collex-Bossy\nGast: Meyrin VI\n
LOCATION:
CATEGORIES:Saison 2025/26
END:VEVENT
BEGIN:VEVENT
DTSTAMP:20260424T151705Z
DTSTART;TZID=Europe/Berlin:20260427T194500
DTEND;TZID=Europe/Berlin:20260427T224500
SUMMARY:Ligue 4 Gr.3 Ph.B Collex-Bossy vs Versoix V (29)
UID:324b7b33-b116-4f4b-8ec0-688adfc86ace
STATUS:CONFIRMED
DESCRIPTION:4ème ligue Hommes Gr.3 Phase B\nBegegnungs-Nr: 29\nHeim: Collex-Bossy\nGast: Versoix V\n
LOCATION:
CATEGORIES:Saison 2025/26
END:VEVENT
BEGIN:VEVENT
DTSTAMP:20260424T151705Z
DTSTART;TZID=Europe/Berlin:20260323T194500
DTEND;TZID=Europe/Berlin:20260323T224500
SUMMARY:Ligue 4 Gr.3 Ph.B Collex-Bossy vs Châtelaine VI (24)
UID:14fac771-bba3-4e78-85b9-c43d9e69eb30
STATUS:CONFIRMED
LAST-MODIFIED:20260324T173543Z
DESCRIPTION:4ème ligue Hommes Gr.3 Phase B\nBegegnungs-Nr: 24\nHeim: Collex-Bossy\nGast: Châtelaine VI\n
LOCATION:
CATEGORIES:Saison 2025/26
END:VEVENT
BEGIN:VEVENT
DTSTAMP:20260424T151705Z
DTSTART;TZID=Europe/Berlin:20260309T194500
DTEND;TZID=Europe/Berlin:20260309T224500
SUMMARY:Ligue 4 Gr.3 Ph.B Collex-Bossy vs Puplinge (16)
UID:c7d86e0f-9c8b-4ba9-b5b1-ce1c8be17a46
STATUS:CONFIRMED
LAST-MODIFIED:20260310T221228Z
DESCRIPTION:4ème ligue Hommes Gr.3 Phase B\nBegegnungs-Nr: 16\nHeim: Collex-Bossy\nGast: Puplinge\n
LOCATION:
CATEGORIES:Saison 2025/26
END:VEVENT
BEGIN:VEVENT
DTSTAMP:20260424T151705Z
DTSTART;TZID=Europe/Berlin:20260213T194500
DTEND;TZID=Europe/Berlin:20260213T224500
SUMMARY:Ligue 4 Gr.3 Ph.B Collex-Bossy vs Silver Star VII (11)
UID:fc971039-c3e3-48e4-863a-ebbab137db01
STATUS:CONFIRMED
LAST-MODIFIED:20260214T190955Z
DESCRIPTION:4ème ligue Hommes Gr.3 Phase B\nBegegnungs-Nr: 11\nHeim: Collex-Bossy\nGast: Silver Star VII\n
LOCATION:
CATEGORIES:Saison 2025/26
END:VEVENT
BEGIN:VEVENT
DTSTAMP:20260424T151705Z
DTSTART;TZID=Europe/Berlin:20251113T194500
DTEND;TZID=Europe/Berlin:20251113T224500
SUMMARY:Ligue 4 Gr.4 Ph.A Silver Star VIII vs Collex-Bossy (20)
UID:ad49546e-0ae0-4328-ae7e-4d6f30e055ac
STATUS:CONFIRMED
LAST-MODIFIED:20251114T082452Z
DESCRIPTION:4ème ligue Hommes Gr.4 Phase A\nBegegnungs-Nr: 20\nHeim: Silver Star VIII\nGast: Collex-Bossy\n
LOCATION:
CATEGORIES:Saison 2025/26
END:VEVENT
BEGIN:VEVENT
DTSTAMP:20260424T151705Z
DTSTART;TZID=Europe/Berlin:20251009T194500
DTEND;TZID=Europe/Berlin:20251009T224500
SUMMARY:Ligue 4 Gr.4 Ph.A Meyrin IV vs Collex-Bossy (12)
UID:66a7ce62-2a16-4702-a2f8-72ee1c48f500
STATUS:CONFIRMED
LAST-MODIFIED:20251010T072306Z
DESCRIPTION:4ème ligue Hommes Gr.4 Phase A\nBegegnungs-Nr: 12\nHeim: Meyrin IV\nGast: Collex-Bossy\n
LOCATION:
CATEGORIES:Saison 2025/26
END:VEVENT
BEGIN:VEVENT
DTSTAMP:20260424T151705Z
DTSTART;TZID=Europe/Berlin:20250925T194500
DTEND;TZID=Europe/Berlin:20250925T224500
SUMMARY:Ligue 4 Gr.4 Ph.A Versoix IV vs Collex-Bossy (8)
UID:7a0a40ca-0c3b-4ff0-92bb-876c88fb8f7f
STATUS:CONFIRMED
LAST-MODIFIED:20250926T074921Z
DESCRIPTION:4ème ligue Hommes Gr.4 Phase A\nBegegnungs-Nr: 8\nHeim: Versoix IV\nGast: Collex-Bossy\n
LOCATION:
CATEGORIES:Saison 2025/26
END:VEVENT
BEGIN:VEVENT
DTSTAMP:20260424T151705Z
DTSTART;TZID=Europe/Berlin:20250904T194500
DTEND;TZID=Europe/Berlin:20250904T224500
SUMMARY:Ligue 4 Gr.4 Ph.A Grand-Saconnex III vs Collex-Bossy (2)
UID:1eea6a50-c9f9-42c8-b04e-f64c67c8cac9
STATUS:CONFIRMED
LAST-MODIFIED:20250904T213015Z
DESCRIPTION:4ème ligue Hommes Gr.4 Phase A\nBegegnungs-Nr: 2\nHeim: Grand-Saconnex III\nGast: Collex-Bossy\n
LOCATION:
CATEGORIES:Saison 2025/26
END:VEVENT
BEGIN:VEVENT
DTSTAMP:20260424T151705Z
DTSTART;TZID=Europe/Berlin:20251204T194500
DTEND;TZID=Europe/Berlin:20251204T224500
SUMMARY:Ligue 4 Gr.4 Ph.A UGS-Chênois VIII vs Collex-Bossy (28)
UID:04d36d77-4bf7-4d67-8244-339067cc37a3
STATUS:CONFIRMED
LAST-MODIFIED:20251205T082454Z
DESCRIPTION:4ème ligue Hommes Gr.4 Phase A\nBegegnungs-Nr: 28\nHeim: UGS-Chênois VIII\nGast: Collex-Bossy\n
LOCATION:
CATEGORIES:Saison 2025/26
END:VEVENT
BEGIN:VEVENT
DTSTAMP:20260424T151705Z
DTSTART;TZID=Europe/Berlin:20260402T194500
DTEND;TZID=Europe/Berlin:20260402T224500
SUMMARY:Ligue 4 Gr.3 Ph.B Silver Star VII vs Collex-Bossy (26)
UID:5dbf1ec9-09b0-49f2-b4cd-02b1c5102c16
STATUS:CONFIRMED
LAST-MODIFIED:20260403T113218Z
DESCRIPTION:4ème ligue Hommes Gr.3 Phase B\nBegegnungs-Nr: 26\nHeim: Silver Star VII\nGast: Collex-Bossy\n
LOCATION:
CATEGORIES:Saison 2025/26
END:VEVENT
BEGIN:VEVENT
DTSTAMP:20260424T151705Z
DTSTART;TZID=Europe/Berlin:20260319T194500
DTEND;TZID=Europe/Berlin:20260319T224500
SUMMARY:Ligue 4 Gr.3 Ph.B Meyrin VI vs Collex-Bossy (20)
UID:3b02415d-e9fa-49f7-b8a7-a38ca9e1a6c7
STATUS:CONFIRMED
LAST-MODIFIED:20260320T081642Z
DESCRIPTION:4ème ligue Hommes Gr.3 Phase B\nBegegnungs-Nr: 20\nHeim: Meyrin VI\nGast: Collex-Bossy\n
LOCATION:
CATEGORIES:Saison 2025/26
END:VEVENT
BEGIN:VEVENT
DTSTAMP:20260424T151705Z
DTSTART;TZID=Europe/Berlin:20260114T194500
DTEND;TZID=Europe/Berlin:20260114T224500
SUMMARY:Ligue 4 Gr.3 Ph.B Puplinge vs Collex-Bossy (1)
UID:ed69b36e-2127-4d73-a153-1ef9def56a0c
STATUS:CONFIRMED
LAST-MODIFIED:20260115T135411Z
DESCRIPTION:4ème ligue Hommes Gr.3 Phase B\nBegegnungs-Nr: 1\nHeim: Puplinge\nGast: Collex-Bossy\n\nAdresse: Chemin de la Brenaz\,  15\, 1241 Puplinge\n
LOCATION:Chemin de la Brenaz\,  15\, 1241 Puplinge
CATEGORIES:Saison 2025/26
END:VEVENT
BEGIN:VEVENT
DTSTAMP:20260424T151705Z
DTSTART;TZID=Europe/Berlin:20260219T194500
DTEND;TZID=Europe/Berlin:20260219T224500
SUMMARY:Ligue 4 Gr.3 Ph.B Versoix V vs Collex-Bossy (14)
UID:39cdce7c-ebf5-4ba2-b52c-a257f5913254
STATUS:CONFIRMED
LAST-MODIFIED:20260220T111640Z
DESCRIPTION:4ème ligue Hommes Gr.3 Phase B\nBegegnungs-Nr: 14\nHeim: Versoix V\nGast: Collex-Bossy\n
LOCATION:
CATEGORIES:Saison 2025/26
END:VEVENT
BEGIN:VEVENT
DTSTAMP:20260424T151705Z
DTSTART;TZID=Europe/Berlin:20260129T200000
DTEND;TZID=Europe/Berlin:20260129T230000
SUMMARY:Ligue 4 Gr.3 Ph.B Châtelaine VI vs Collex-Bossy (9)
UID:7649bad5-9c38-4f6f-b5c2-06d797156ef9
STATUS:CONFIRMED
LAST-MODIFIED:20260130T084527Z
DESCRIPTION:4ème ligue Hommes Gr.3 Phase B\nBegegnungs-Nr: 9\nHeim: Châtelaine VI\nGast: Collex-Bossy\n
LOCATION:
CATEGORIES:Saison 2025/26
END:VEVENT
END:VCALENDAR
