BEGIN:VCALENDAR
PRODID:-//nuDatenautomaten//framework iCal4j //DE
VERSION:2.0
CALSCALE:GREGORIAN
BEGIN:VTIMEZONE
TZID:Europe/Berlin
LAST-MODIFIED:20260306T231828Z
TZURL:https://www.tzurl.org/zoneinfo/Europe/Berlin
X-LIC-LOCATION:Europe/Berlin
X-PROLEPTIC-TZNAME:LMT
BEGIN:STANDARD
TZNAME:CET
TZOFFSETFROM:+005328
TZOFFSETTO:+0100
DTSTART:18930401T000000
END:STANDARD
BEGIN:DAYLIGHT
TZNAME:CEST
TZOFFSETFROM:+0100
TZOFFSETTO:+0200
DTSTART:19160430T230000
RDATE:19400401T020000
RDATE:19430329T020000
RDATE:19460414T020000
RDATE:19470406T030000
RDATE:19480418T020000
RDATE:19490410T020000
RDATE:19800406T020000
END:DAYLIGHT
BEGIN:STANDARD
TZNAME:CET
TZOFFSETFROM:+0200
TZOFFSETTO:+0100
DTSTART:19161001T010000
RDATE:19421102T030000
RDATE:19431004T030000
RDATE:19441002T030000
RDATE:19451118T030000
RDATE:19461007T030000
END:STANDARD
BEGIN:DAYLIGHT
TZNAME:CEST
TZOFFSETFROM:+0100
TZOFFSETTO:+0200
DTSTART:19170416T020000
RRULE:FREQ=YEARLY;UNTIL=19180415T010000Z;BYMONTH=4;BYDAY=3MO
END:DAYLIGHT
BEGIN:STANDARD
TZNAME:CET
TZOFFSETFROM:+0200
TZOFFSETTO:+0100
DTSTART:19170917T030000
RRULE:FREQ=YEARLY;UNTIL=19180916T010000Z;BYMONTH=9;BYDAY=3MO
END:STANDARD
BEGIN:DAYLIGHT
TZNAME:CEST
TZOFFSETFROM:+0100
TZOFFSETTO:+0200
DTSTART:19440403T020000
RRULE:FREQ=YEARLY;UNTIL=19450402T010000Z;BYMONTH=4;BYDAY=1MO
END:DAYLIGHT
BEGIN:DAYLIGHT
TZNAME:CEMT
TZOFFSETFROM:+0200
TZOFFSETTO:+0300
DTSTART:19450524T020000
RDATE:19470511T030000
END:DAYLIGHT
BEGIN:DAYLIGHT
TZNAME:CEST
TZOFFSETFROM:+0300
TZOFFSETTO:+0200
DTSTART:19450924T030000
RDATE:19470629T030000
END:DAYLIGHT
BEGIN:STANDARD
TZNAME:CET
TZOFFSETFROM:+0100
TZOFFSETTO:+0100
DTSTART:19460101T000000
RDATE:19800101T000000
END:STANDARD
BEGIN:STANDARD
TZNAME:CET
TZOFFSETFROM:+0200
TZOFFSETTO:+0100
DTSTART:19471005T030000
RRULE:FREQ=YEARLY;UNTIL=19491002T010000Z;BYMONTH=10;BYDAY=1SU
END:STANDARD
BEGIN:STANDARD
TZNAME:CET
TZOFFSETFROM:+0200
TZOFFSETTO:+0100
DTSTART:19800928T030000
RRULE:FREQ=YEARLY;UNTIL=19950924T010000Z;BYMONTH=9;BYDAY=-1SU
END:STANDARD
BEGIN:DAYLIGHT
TZNAME:CEST
TZOFFSETFROM:+0100
TZOFFSETTO:+0200
DTSTART:19810329T020000
RRULE:FREQ=YEARLY;BYMONTH=3;BYDAY=-1SU
END:DAYLIGHT
BEGIN:STANDARD
TZNAME:CET
TZOFFSETFROM:+0200
TZOFFSETTO:+0100
DTSTART:19961027T030000
RRULE:FREQ=YEARLY;BYMONTH=10;BYDAY=-1SU
END:STANDARD
END:VTIMEZONE
BEGIN:VEVENT
DTSTAMP:20260424T115010Z
DTSTART;TZID=Europe/Berlin:20251112T200000
DTEND;TZID=Europe/Berlin:20251112T230000
SUMMARY:HE 3. Liga Gr. 4 Brügg vs Erlach (18)
UID:ee756b4a-3a65-4f50-880c-44982dc18887
STATUS:CONFIRMED
LAST-MODIFIED:20251115T171920Z
DESCRIPTION:3. Liga Herren Gruppe 4\nBegegnungs-Nr: 18\nHeim: Brügg\nGast: Erlach\n\nAdresse: Bärletweg 7\, 2555 Brügg\n
LOCATION:Bärletweg 7\, 2555 Brügg
CATEGORIES:Saison 2025/26
END:VEVENT
BEGIN:VEVENT
DTSTAMP:20260424T115010Z
DTSTART;TZID=Europe/Berlin:20251015T200000
DTEND;TZID=Europe/Berlin:20251015T230000
SUMMARY:HE 3. Liga Gr. 4 Brügg vs Herzogenbuchsee II (10)
UID:285f0f5c-ed78-4ef2-aa2e-423014f0055c
STATUS:CONFIRMED
LAST-MODIFIED:20251016T191405Z
DESCRIPTION:3. Liga Herren Gruppe 4\nBegegnungs-Nr: 10\nHeim: Brügg\nGast: Herzogenbuchsee II\n\nAdresse: Bärletweg 7\, 2555 Brügg\n
LOCATION:Bärletweg 7\, 2555 Brügg
CATEGORIES:Saison 2025/26
END:VEVENT
BEGIN:VEVENT
DTSTAMP:20260424T115010Z
DTSTART;TZID=Europe/Berlin:20250825T200000
DTEND;TZID=Europe/Berlin:20250825T230000
SUMMARY:HE 3. Liga Gr. 4 Brügg vs Port V (2)
UID:28d13d05-7f9b-41d2-9bb7-885fcbe168b2
STATUS:CONFIRMED
LAST-MODIFIED:20250828T192426Z
DESCRIPTION:3. Liga Herren Gruppe 4\nBegegnungs-Nr: 2\nHeim: Brügg\nGast: Port V\n\nAdresse: Bärletweg 7\, 2555 Brügg\n
LOCATION:Bärletweg 7\, 2555 Brügg
CATEGORIES:Saison 2025/26
END:VEVENT
BEGIN:VEVENT
DTSTAMP:20260424T115010Z
DTSTART;TZID=Europe/Berlin:20260401T200000
DTEND;TZID=Europe/Berlin:20260401T230000
SUMMARY:HE 3. Liga Gr. 4 Brügg vs Solothurn IV (25)
UID:cc9b5e25-e8ca-45fb-84e1-b460c3224d0e
STATUS:CONFIRMED
LAST-MODIFIED:20260409T122456Z
DESCRIPTION:3. Liga Herren Gruppe 4\nBegegnungs-Nr: 25\nHeim: Brügg\nGast: Solothurn IV\n\nAdresse: Bärletweg 7\, 2555 Brügg\n
LOCATION:Bärletweg 7\, 2555 Brügg
CATEGORIES:Saison 2025/26
END:VEVENT
BEGIN:VEVENT
DTSTAMP:20260424T115010Z
DTSTART;TZID=Europe/Berlin:20260311T200000
DTEND;TZID=Europe/Berlin:20260311T230000
SUMMARY:HE 3. Liga Gr. 4 Brügg vs Pieterlen (22)
UID:77c80fd8-64f4-45bb-8fcf-97610d1f298d
STATUS:CONFIRMED
LAST-MODIFIED:20260315T230002Z
DESCRIPTION:3. Liga Herren Gruppe 4\nBegegnungs-Nr: 22\nHeim: Brügg\nGast: Pieterlen\n\nAdresse: Bärletweg 7\, 2555 Brügg\n
LOCATION:Bärletweg 7\, 2555 Brügg
CATEGORIES:Saison 2025/26
END:VEVENT
BEGIN:VEVENT
DTSTAMP:20260424T115010Z
DTSTART;TZID=Europe/Berlin:20260218T200000
DTEND;TZID=Europe/Berlin:20260218T230000
SUMMARY:HE 3. Liga Gr. 4 Brügg vs Lyss II (14)
UID:35162316-5eaa-4c3c-ab4e-d8b9ac16a59c
STATUS:CONFIRMED
LAST-MODIFIED:20260220T123304Z
DESCRIPTION:3. Liga Herren Gruppe 4\nBegegnungs-Nr: 14\nHeim: Brügg\nGast: Lyss II\n\nAdresse: Bärletweg 7\, 2555 Brügg\n
LOCATION:Bärletweg 7\, 2555 Brügg
CATEGORIES:Saison 2025/26
END:VEVENT
BEGIN:VEVENT
DTSTAMP:20260424T115010Z
DTSTART;TZID=Europe/Berlin:20260121T200000
DTEND;TZID=Europe/Berlin:20260121T230000
SUMMARY:HE 3. Liga Gr. 4 Brügg vs Aarberg IV (6)
UID:aa2ea8c6-7903-4b7e-9c8f-3051c237f21b
STATUS:CONFIRMED
LAST-MODIFIED:20260125T001322Z
DESCRIPTION:3. Liga Herren Gruppe 4\nBegegnungs-Nr: 6\nHeim: Brügg\nGast: Aarberg IV\n\nAdresse: Bärletweg 7\, 2555 Brügg\n
LOCATION:Bärletweg 7\, 2555 Brügg
CATEGORIES:Saison 2025/26
END:VEVENT
BEGIN:VEVENT
DTSTAMP:20260424T115010Z
DTSTART;TZID=Europe/Berlin:20260515T000000
DTEND;TZID=Europe/Berlin:20260515T030000
SUMMARY:HE 3. Liga Final Brügg vs Lyss (4)
UID:42105958-42ae-44c9-a61c-8359b1ece6c6
STATUS:CONFIRMED
DESCRIPTION:3. Liga Herren Final\nBegegnungs-Nr: 4\nHeim: Brügg\nGast: Lyss\n
LOCATION:
CATEGORIES:Saison 2025/26
END:VEVENT
BEGIN:VEVENT
DTSTAMP:20260424T115010Z
DTSTART;TZID=Europe/Berlin:20251125T200000
DTEND;TZID=Europe/Berlin:20251125T230000
SUMMARY:HE 3. Liga Gr. 4 Lyss II vs Brügg (14)
UID:f13a7fea-c747-4ba7-a46a-050599f87ede
STATUS:CONFIRMED
LAST-MODIFIED:20251206T233859Z
DESCRIPTION:3. Liga Herren Gruppe 4\nBegegnungs-Nr: 14\nHeim: Lyss II\nGast: Brügg\n\nAdresse: Stegmattweg 15-17\, 3250 Lyss\n
LOCATION:Stegmattweg 15-17\, 3250 Lyss
CATEGORIES:Saison 2025/26
END:VEVENT
BEGIN:VEVENT
DTSTAMP:20260424T115010Z
DTSTART;TZID=Europe/Berlin:20250917T201500
DTEND;TZID=Europe/Berlin:20250917T231500
SUMMARY:HE 3. Liga Gr. 4 Aarberg IV vs Brügg (6)
UID:000f0e34-7d51-4a10-a132-3c74a3b091d4
STATUS:CONFIRMED
LAST-MODIFIED:20250918T141016Z
DESCRIPTION:3. Liga Herren Gruppe 4\nBegegnungs-Nr: 6\nHeim: Aarberg IV\nGast: Brügg\n\nAdresse: Nidaustrasse 7\, 3270 Aarberg\n
LOCATION:Nidaustrasse 7\, 3270 Aarberg
CATEGORIES:Saison 2025/26
END:VEVENT
BEGIN:VEVENT
DTSTAMP:20260424T115010Z
DTSTART;TZID=Europe/Berlin:20260228T131500
DTEND;TZID=Europe/Berlin:20260228T161500
SUMMARY:HE 3. Liga Gr. 4 Erlach vs Brügg (18)
UID:4398bef8-0998-454a-bca4-ef8cc8bb759b
STATUS:CONFIRMED
LAST-MODIFIED:20260302T144554Z
DESCRIPTION:3. Liga Herren Gruppe 4\nBegegnungs-Nr: 18\nHeim: Erlach\nGast: Brügg\n\nAdresse: Vinelzstrasse 54 (24)\, 3235 Erlach\n
LOCATION:Vinelzstrasse 54 (24)\, 3235 Erlach
CATEGORIES:Saison 2025/26
END:VEVENT
BEGIN:VEVENT
DTSTAMP:20260424T115010Z
DTSTART;TZID=Europe/Berlin:20260206T201500
DTEND;TZID=Europe/Berlin:20260206T231500
SUMMARY:HE 3. Liga Gr. 4 Herzogenbuchsee II vs Brügg (10)
UID:2fd06c86-be49-438e-83d4-66e1a639c4be
STATUS:CONFIRMED
LAST-MODIFIED:20260217T213116Z
DESCRIPTION:3. Liga Herren Gruppe 4\nBegegnungs-Nr: 10\nHeim: Herzogenbuchsee II\nGast: Brügg\n\nAdresse: Ringstrasse 10\, 3360 Herzogenbuchsee\n
LOCATION:Ringstrasse 10\, 3360 Herzogenbuchsee
CATEGORIES:Saison 2025/26
END:VEVENT
BEGIN:VEVENT
DTSTAMP:20260424T115010Z
DTSTART;TZID=Europe/Berlin:20260123T194500
DTEND;TZID=Europe/Berlin:20260123T224500
SUMMARY:HE 3. Liga Gr. 4 Port V vs Brügg (2)
UID:fb7e688a-4aa1-40d0-b3bc-104566eb44f1
STATUS:CONFIRMED
LAST-MODIFIED:20260125T001357Z
DESCRIPTION:3. Liga Herren Gruppe 4\nBegegnungs-Nr: 2\nHeim: Port V\nGast: Brügg\n\nAdresse: Allmendstrasse 23\, 2562 Port\n
LOCATION:Allmendstrasse 23\, 2562 Port
CATEGORIES:Saison 2025/26
END:VEVENT
BEGIN:VEVENT
DTSTAMP:20260424T115010Z
DTSTART;TZID=Europe/Berlin:20251210T194500
DTEND;TZID=Europe/Berlin:20251210T224500
SUMMARY:HE 3. Liga Gr. 4 Solothurn IV vs Brügg (25)
UID:6ca161e5-d814-4e36-85d9-90881eab5832
STATUS:CONFIRMED
LAST-MODIFIED:20251216T120454Z
DESCRIPTION:3. Liga Herren Gruppe 4\nBegegnungs-Nr: 25\nHeim: Solothurn IV\nGast: Brügg\n\nAdresse: Untere Sternengasse 24\, 4500 Solothurn\n
LOCATION:Untere Sternengasse 24\, 4500 Solothurn
CATEGORIES:Saison 2025/26
END:VEVENT
BEGIN:VEVENT
DTSTAMP:20260424T115010Z
DTSTART;TZID=Europe/Berlin:20251204T193000
DTEND;TZID=Europe/Berlin:20251204T223000
SUMMARY:HE 3. Liga Gr. 4 Pieterlen vs Brügg (22)
UID:3b190c87-9f34-43ce-b5e4-d50f29e21189
STATUS:CONFIRMED
LAST-MODIFIED:20251207T172621Z
DESCRIPTION:3. Liga Herren Gruppe 4\nBegegnungs-Nr: 22\nHeim: Pieterlen\nGast: Brügg\n\nAdresse: Bielstrasse 9\, 2542 Pieterlen\n
LOCATION:Bielstrasse 9\, 2542 Pieterlen
CATEGORIES:Saison 2025/26
END:VEVENT
BEGIN:VEVENT
DTSTAMP:20260424T115010Z
DTSTART;TZID=Europe/Berlin:20260531T000000
DTEND;TZID=Europe/Berlin:20260531T030000
SUMMARY:HE 3. Liga Final Ostermundigen V vs Brügg (6)
UID:02f541d8-2fcc-40f9-9db3-789db28d9518
STATUS:CONFIRMED
DESCRIPTION:3. Liga Herren Final\nBegegnungs-Nr: 6\nHeim: Ostermundigen V\nGast: Brügg\n
LOCATION:
CATEGORIES:Saison 2025/26
END:VEVENT
BEGIN:VEVENT
DTSTAMP:20260424T115010Z
DTSTART;TZID=Europe/Berlin:20260501T000000
DTEND;TZID=Europe/Berlin:20260501T030000
SUMMARY:HE 3. Liga Final Aarberg II vs Brügg (1)
UID:401b8aae-e104-40e7-a476-e832f4beaa0a
STATUS:CONFIRMED
DESCRIPTION:3. Liga Herren Final\nBegegnungs-Nr: 1\nHeim: Aarberg II\nGast: Brügg\n
LOCATION:
CATEGORIES:Saison 2025/26
END:VEVENT
END:VCALENDAR
