BEGIN:VCALENDAR
PRODID:-//nuDatenautomaten//framework iCal4j //DE
VERSION:2.0
CALSCALE:GREGORIAN
BEGIN:VTIMEZONE
TZID:Europe/Berlin
LAST-MODIFIED:20260306T231828Z
TZURL:https://www.tzurl.org/zoneinfo/Europe/Berlin
X-LIC-LOCATION:Europe/Berlin
X-PROLEPTIC-TZNAME:LMT
BEGIN:STANDARD
TZNAME:CET
TZOFFSETFROM:+005328
TZOFFSETTO:+0100
DTSTART:18930401T000000
END:STANDARD
BEGIN:DAYLIGHT
TZNAME:CEST
TZOFFSETFROM:+0100
TZOFFSETTO:+0200
DTSTART:19160430T230000
RDATE:19400401T020000
RDATE:19430329T020000
RDATE:19460414T020000
RDATE:19470406T030000
RDATE:19480418T020000
RDATE:19490410T020000
RDATE:19800406T020000
END:DAYLIGHT
BEGIN:STANDARD
TZNAME:CET
TZOFFSETFROM:+0200
TZOFFSETTO:+0100
DTSTART:19161001T010000
RDATE:19421102T030000
RDATE:19431004T030000
RDATE:19441002T030000
RDATE:19451118T030000
RDATE:19461007T030000
END:STANDARD
BEGIN:DAYLIGHT
TZNAME:CEST
TZOFFSETFROM:+0100
TZOFFSETTO:+0200
DTSTART:19170416T020000
RRULE:FREQ=YEARLY;UNTIL=19180415T010000Z;BYMONTH=4;BYDAY=3MO
END:DAYLIGHT
BEGIN:STANDARD
TZNAME:CET
TZOFFSETFROM:+0200
TZOFFSETTO:+0100
DTSTART:19170917T030000
RRULE:FREQ=YEARLY;UNTIL=19180916T010000Z;BYMONTH=9;BYDAY=3MO
END:STANDARD
BEGIN:DAYLIGHT
TZNAME:CEST
TZOFFSETFROM:+0100
TZOFFSETTO:+0200
DTSTART:19440403T020000
RRULE:FREQ=YEARLY;UNTIL=19450402T010000Z;BYMONTH=4;BYDAY=1MO
END:DAYLIGHT
BEGIN:DAYLIGHT
TZNAME:CEMT
TZOFFSETFROM:+0200
TZOFFSETTO:+0300
DTSTART:19450524T020000
RDATE:19470511T030000
END:DAYLIGHT
BEGIN:DAYLIGHT
TZNAME:CEST
TZOFFSETFROM:+0300
TZOFFSETTO:+0200
DTSTART:19450924T030000
RDATE:19470629T030000
END:DAYLIGHT
BEGIN:STANDARD
TZNAME:CET
TZOFFSETFROM:+0100
TZOFFSETTO:+0100
DTSTART:19460101T000000
RDATE:19800101T000000
END:STANDARD
BEGIN:STANDARD
TZNAME:CET
TZOFFSETFROM:+0200
TZOFFSETTO:+0100
DTSTART:19471005T030000
RRULE:FREQ=YEARLY;UNTIL=19491002T010000Z;BYMONTH=10;BYDAY=1SU
END:STANDARD
BEGIN:STANDARD
TZNAME:CET
TZOFFSETFROM:+0200
TZOFFSETTO:+0100
DTSTART:19800928T030000
RRULE:FREQ=YEARLY;UNTIL=19950924T010000Z;BYMONTH=9;BYDAY=-1SU
END:STANDARD
BEGIN:DAYLIGHT
TZNAME:CEST
TZOFFSETFROM:+0100
TZOFFSETTO:+0200
DTSTART:19810329T020000
RRULE:FREQ=YEARLY;BYMONTH=3;BYDAY=-1SU
END:DAYLIGHT
BEGIN:STANDARD
TZNAME:CET
TZOFFSETFROM:+0200
TZOFFSETTO:+0100
DTSTART:19961027T030000
RRULE:FREQ=YEARLY;BYMONTH=10;BYDAY=-1SU
END:STANDARD
END:VTIMEZONE
BEGIN:VEVENT
DTSTAMP:20260424T135220Z
DTSTART;TZID=Europe/Berlin:20250926T201500
DTEND;TZID=Europe/Berlin:20250926T231500
SUMMARY:O50 1. Liga Bremgarten vs Birrfeld (0)
UID:58c63db7-71cc-4b43-989a-d407cd4e5b3a
STATUS:CONFIRMED
LAST-MODIFIED:20250930T084757Z
DESCRIPTION:1. Liga O50\nBegegnungs-Nr: 0\nHeim: Bremgarten\nGast: Birrfeld\n\nAdresse: Badstrasse 3\, 5620 Bremgarten\n
LOCATION:Badstrasse 3\, 5620 Bremgarten
CATEGORIES:Saison 2025/26
END:VEVENT
BEGIN:VEVENT
DTSTAMP:20260424T135220Z
DTSTART;TZID=Europe/Berlin:20260306T201500
DTEND;TZID=Europe/Berlin:20260306T231500
SUMMARY:O50 1. Liga Bremgarten vs Copains Birsfelden (0)
UID:e2e64b32-d495-4ffa-a23c-e97116bd0430
STATUS:CONFIRMED
LAST-MODIFIED:20260313T130954Z
DESCRIPTION:1. Liga O50\nBegegnungs-Nr: 0\nHeim: Bremgarten\nGast: Copains Birsfelden\n\nAdresse: Badstrasse 3\, 5620 Bremgarten\n
LOCATION:Badstrasse 3\, 5620 Bremgarten
CATEGORIES:Saison 2025/26
END:VEVENT
BEGIN:VEVENT
DTSTAMP:20260424T135220Z
DTSTART;TZID=Europe/Berlin:20251107T193000
DTEND;TZID=Europe/Berlin:20251107T223000
SUMMARY:O50 1. Liga Copains Birsfelden vs Bremgarten (0)
UID:1b904fd1-96d0-47d2-a54a-9a756affe943
STATUS:CONFIRMED
LAST-MODIFIED:20251114T140912Z
DESCRIPTION:1. Liga O50\nBegegnungs-Nr: 0\nHeim: Copains Birsfelden\nGast: Bremgarten\n\nAdresse: Wartenbergstrasse (Hintereingang)\, 4127 Birsfelden\n
LOCATION:Wartenbergstrasse (Hintereingang)\, 4127 Birsfelden
CATEGORIES:Saison 2025/26
END:VEVENT
BEGIN:VEVENT
DTSTAMP:20260424T135220Z
DTSTART;TZID=Europe/Berlin:20260128T194500
DTEND;TZID=Europe/Berlin:20260128T224500
SUMMARY:O50 1. Liga Birrfeld vs Bremgarten (0)
UID:4da3bc98-a5dd-41d8-868b-24e6485b1687
STATUS:CONFIRMED
LAST-MODIFIED:20260130T084745Z
DESCRIPTION:1. Liga O50\nBegegnungs-Nr: 0\nHeim: Birrfeld\nGast: Bremgarten\n\nAdresse: Zentralstrasse 30\, 5242 Birr\n
LOCATION:Zentralstrasse 30\, 5242 Birr
CATEGORIES:Saison 2025/26
END:VEVENT
END:VCALENDAR
