BEGIN:VCALENDAR
PRODID:-//nuDatenautomaten//framework iCal4j //DE
VERSION:2.0
CALSCALE:GREGORIAN
BEGIN:VTIMEZONE
TZID:Europe/Berlin
LAST-MODIFIED:20260306T231828Z
TZURL:https://www.tzurl.org/zoneinfo/Europe/Berlin
X-LIC-LOCATION:Europe/Berlin
X-PROLEPTIC-TZNAME:LMT
BEGIN:STANDARD
TZNAME:CET
TZOFFSETFROM:+005328
TZOFFSETTO:+0100
DTSTART:18930401T000000
END:STANDARD
BEGIN:DAYLIGHT
TZNAME:CEST
TZOFFSETFROM:+0100
TZOFFSETTO:+0200
DTSTART:19160430T230000
RDATE:19400401T020000
RDATE:19430329T020000
RDATE:19460414T020000
RDATE:19470406T030000
RDATE:19480418T020000
RDATE:19490410T020000
RDATE:19800406T020000
END:DAYLIGHT
BEGIN:STANDARD
TZNAME:CET
TZOFFSETFROM:+0200
TZOFFSETTO:+0100
DTSTART:19161001T010000
RDATE:19421102T030000
RDATE:19431004T030000
RDATE:19441002T030000
RDATE:19451118T030000
RDATE:19461007T030000
END:STANDARD
BEGIN:DAYLIGHT
TZNAME:CEST
TZOFFSETFROM:+0100
TZOFFSETTO:+0200
DTSTART:19170416T020000
RRULE:FREQ=YEARLY;UNTIL=19180415T010000Z;BYMONTH=4;BYDAY=3MO
END:DAYLIGHT
BEGIN:STANDARD
TZNAME:CET
TZOFFSETFROM:+0200
TZOFFSETTO:+0100
DTSTART:19170917T030000
RRULE:FREQ=YEARLY;UNTIL=19180916T010000Z;BYMONTH=9;BYDAY=3MO
END:STANDARD
BEGIN:DAYLIGHT
TZNAME:CEST
TZOFFSETFROM:+0100
TZOFFSETTO:+0200
DTSTART:19440403T020000
RRULE:FREQ=YEARLY;UNTIL=19450402T010000Z;BYMONTH=4;BYDAY=1MO
END:DAYLIGHT
BEGIN:DAYLIGHT
TZNAME:CEMT
TZOFFSETFROM:+0200
TZOFFSETTO:+0300
DTSTART:19450524T020000
RDATE:19470511T030000
END:DAYLIGHT
BEGIN:DAYLIGHT
TZNAME:CEST
TZOFFSETFROM:+0300
TZOFFSETTO:+0200
DTSTART:19450924T030000
RDATE:19470629T030000
END:DAYLIGHT
BEGIN:STANDARD
TZNAME:CET
TZOFFSETFROM:+0100
TZOFFSETTO:+0100
DTSTART:19460101T000000
RDATE:19800101T000000
END:STANDARD
BEGIN:STANDARD
TZNAME:CET
TZOFFSETFROM:+0200
TZOFFSETTO:+0100
DTSTART:19471005T030000
RRULE:FREQ=YEARLY;UNTIL=19491002T010000Z;BYMONTH=10;BYDAY=1SU
END:STANDARD
BEGIN:STANDARD
TZNAME:CET
TZOFFSETFROM:+0200
TZOFFSETTO:+0100
DTSTART:19800928T030000
RRULE:FREQ=YEARLY;UNTIL=19950924T010000Z;BYMONTH=9;BYDAY=-1SU
END:STANDARD
BEGIN:DAYLIGHT
TZNAME:CEST
TZOFFSETFROM:+0100
TZOFFSETTO:+0200
DTSTART:19810329T020000
RRULE:FREQ=YEARLY;BYMONTH=3;BYDAY=-1SU
END:DAYLIGHT
BEGIN:STANDARD
TZNAME:CET
TZOFFSETFROM:+0200
TZOFFSETTO:+0100
DTSTART:19961027T030000
RRULE:FREQ=YEARLY;BYMONTH=10;BYDAY=-1SU
END:STANDARD
END:VTIMEZONE
BEGIN:VEVENT
DTSTAMP:20260424T135212Z
DTSTART;TZID=Europe/Berlin:20260323T203000
DTEND;TZID=Europe/Berlin:20260323T233000
SUMMARY:HE 6. Liga Gr. 3 BW Rupperswil IV vs Baden-Wettingen VII (0)
UID:53ce3846-84b4-4180-9beb-2263b4fa8d09
STATUS:CONFIRMED
LAST-MODIFIED:20260416T094744Z
DESCRIPTION:6. Liga Herren Gruppe 3\nBegegnungs-Nr: 0\nHeim: BW Rupperswil IV\nGast: Baden-Wettingen VII\n\nAdresse: -\, 5102 Rupperswil\n
LOCATION:-\, 5102 Rupperswil
CATEGORIES:Saison 2025/26
END:VEVENT
BEGIN:VEVENT
DTSTAMP:20260424T135212Z
DTSTART;TZID=Europe/Berlin:20260309T203000
DTEND;TZID=Europe/Berlin:20260309T233000
SUMMARY:HE 6. Liga Gr. 3 BW Rupperswil IV vs Birrfeld III (0)
UID:d42ef373-294b-430c-b35a-4c38dcd50968
STATUS:CONFIRMED
LAST-MODIFIED:20260313T125902Z
DESCRIPTION:6. Liga Herren Gruppe 3\nBegegnungs-Nr: 0\nHeim: BW Rupperswil IV\nGast: Birrfeld III\n\nAdresse: -\, 5102 Rupperswil\n
LOCATION:-\, 5102 Rupperswil
CATEGORIES:Saison 2025/26
END:VEVENT
BEGIN:VEVENT
DTSTAMP:20260424T135212Z
DTSTART;TZID=Europe/Berlin:20251215T203000
DTEND;TZID=Europe/Berlin:20251215T233000
SUMMARY:HE 6. Liga Gr. 3 BW Rupperswil IV vs Bremgarten IX (0)
UID:1264d207-9ffe-4ec6-93b1-935d5b122244
STATUS:CONFIRMED
LAST-MODIFIED:20251217T080957Z
DESCRIPTION:6. Liga Herren Gruppe 3\nBegegnungs-Nr: 0\nHeim: BW Rupperswil IV\nGast: Bremgarten IX\n\nAdresse: -\, 5102 Rupperswil\n
LOCATION:-\, 5102 Rupperswil
CATEGORIES:Saison 2025/26
END:VEVENT
BEGIN:VEVENT
DTSTAMP:20260424T135212Z
DTSTART;TZID=Europe/Berlin:20260126T203000
DTEND;TZID=Europe/Berlin:20260126T233000
SUMMARY:HE 6. Liga Gr. 3 BW Rupperswil IV vs Schöftland VI (0)
UID:0b3913fd-5ea5-4e1b-b90f-34d9be99fa86
STATUS:CONFIRMED
LAST-MODIFIED:20260130T085003Z
DESCRIPTION:6. Liga Herren Gruppe 3\nBegegnungs-Nr: 0\nHeim: BW Rupperswil IV\nGast: Schöftland VI\n\nAdresse: -\, 5102 Rupperswil\n
LOCATION:-\, 5102 Rupperswil
CATEGORIES:Saison 2025/26
END:VEVENT
BEGIN:VEVENT
DTSTAMP:20260424T135212Z
DTSTART;TZID=Europe/Berlin:20250825T203000
DTEND;TZID=Europe/Berlin:20250825T233000
SUMMARY:HE 6. Liga Gr. 3 BW Rupperswil IV vs Muri II (0)
UID:33d33268-9f4c-4949-831a-7e2a833a250b
STATUS:CONFIRMED
LAST-MODIFIED:20250826T122618Z
DESCRIPTION:6. Liga Herren Gruppe 3\nBegegnungs-Nr: 0\nHeim: BW Rupperswil IV\nGast: Muri II\n\nAdresse: -\, 5102 Rupperswil\n
LOCATION:-\, 5102 Rupperswil
CATEGORIES:Saison 2025/26
END:VEVENT
BEGIN:VEVENT
DTSTAMP:20260424T135212Z
DTSTART;TZID=Europe/Berlin:20251006T203000
DTEND;TZID=Europe/Berlin:20251006T233000
SUMMARY:HE 6. Liga Gr. 3 BW Rupperswil IV vs Zofingen V (0)
UID:d9d3735c-7e50-4d43-bb14-15563f5fe00f
STATUS:CONFIRMED
LAST-MODIFIED:20251008T102131Z
DESCRIPTION:6. Liga Herren Gruppe 3\nBegegnungs-Nr: 0\nHeim: BW Rupperswil IV\nGast: Zofingen V\n\nAdresse: -\, 5102 Rupperswil\n
LOCATION:-\, 5102 Rupperswil
CATEGORIES:Saison 2025/26
END:VEVENT
BEGIN:VEVENT
DTSTAMP:20260424T135212Z
DTSTART;TZID=Europe/Berlin:20251027T203000
DTEND;TZID=Europe/Berlin:20251027T233000
SUMMARY:HE 6. Liga Gr. 3 BW Rupperswil IV vs Aarau VI (0)
UID:5779ee75-3447-4df3-8997-c247b1bcca49
STATUS:CONFIRMED
LAST-MODIFIED:20251029T100608Z
DESCRIPTION:6. Liga Herren Gruppe 3\nBegegnungs-Nr: 0\nHeim: BW Rupperswil IV\nGast: Aarau VI\n\nAdresse: -\, 5102 Rupperswil\n
LOCATION:-\, 5102 Rupperswil
CATEGORIES:Saison 2025/26
END:VEVENT
BEGIN:VEVENT
DTSTAMP:20260424T135212Z
DTSTART;TZID=Europe/Berlin:20260115T200000
DTEND;TZID=Europe/Berlin:20260115T230000
SUMMARY:HE 6. Liga Gr. 3 Muri II vs BW Rupperswil IV (0)
UID:aaad0eed-1a9b-4bff-91b2-a50158ec33ea
STATUS:CONFIRMED
LAST-MODIFIED:20260123T082041Z
DESCRIPTION:6. Liga Herren Gruppe 3\nBegegnungs-Nr: 0\nHeim: Muri II\nGast: BW Rupperswil IV\n\nAdresse: Badweiherstrasse\, 5630 Muri AG\n
LOCATION:Badweiherstrasse\, 5630 Muri AG
CATEGORIES:Saison 2025/26
END:VEVENT
BEGIN:VEVENT
DTSTAMP:20260424T135212Z
DTSTART;TZID=Europe/Berlin:20260209T194500
DTEND;TZID=Europe/Berlin:20260209T224500
SUMMARY:HE 6. Liga Gr. 3 Zofingen V vs BW Rupperswil IV (0)
UID:6ee663d7-a49b-49c6-b655-4cddd15f7c83
STATUS:CONFIRMED
LAST-MODIFIED:20260211T093922Z
DESCRIPTION:6. Liga Herren Gruppe 3\nBegegnungs-Nr: 0\nHeim: Zofingen V\nGast: BW Rupperswil IV\n\nAdresse: Kreuzplatz\, 4802 Strengelbach\n
LOCATION:Kreuzplatz\, 4802 Strengelbach
CATEGORIES:Saison 2025/26
END:VEVENT
BEGIN:VEVENT
DTSTAMP:20260424T135212Z
DTSTART;TZID=Europe/Berlin:20260227T194500
DTEND;TZID=Europe/Berlin:20260227T224500
SUMMARY:HE 6. Liga Gr. 3 Aarau VI vs BW Rupperswil IV (0)
UID:8e4707a5-e393-4dd3-9df7-43173b2f41eb
STATUS:CONFIRMED
LAST-MODIFIED:20260302T112437Z
DESCRIPTION:6. Liga Herren Gruppe 3\nBegegnungs-Nr: 0\nHeim: Aarau VI\nGast: BW Rupperswil IV\n\nAdresse: Weltistrasse 20\, 5000 Aarau\n
LOCATION:Weltistrasse 20\, 5000 Aarau
CATEGORIES:Saison 2025/26
END:VEVENT
BEGIN:VEVENT
DTSTAMP:20260424T135212Z
DTSTART;TZID=Europe/Berlin:20250830T133000
DTEND;TZID=Europe/Berlin:20250830T163000
SUMMARY:HE 6. Liga Gr. 3 Bremgarten IX vs BW Rupperswil IV (0)
UID:a06adb41-ee57-4f37-8c90-847f808b41de
STATUS:CONFIRMED
LAST-MODIFIED:20250905T121943Z
DESCRIPTION:6. Liga Herren Gruppe 3\nBegegnungs-Nr: 0\nHeim: Bremgarten IX\nGast: BW Rupperswil IV\n\nAdresse: Badstrasse 3\, 5620 Bremgarten\n
LOCATION:Badstrasse 3\, 5620 Bremgarten
CATEGORIES:Saison 2025/26
END:VEVENT
BEGIN:VEVENT
DTSTAMP:20260424T135212Z
DTSTART;TZID=Europe/Berlin:20250919T200000
DTEND;TZID=Europe/Berlin:20250919T230000
SUMMARY:HE 6. Liga Gr. 3 Schöftland VI vs BW Rupperswil IV (0)
UID:5841fbdb-838a-4f9e-b99d-5ebc7b4d3a26
STATUS:CONFIRMED
LAST-MODIFIED:20250926T124108Z
DESCRIPTION:6. Liga Herren Gruppe 3\nBegegnungs-Nr: 0\nHeim: Schöftland VI\nGast: BW Rupperswil IV\n\nAdresse: Birkenweg\, 5040 Schöftland\n
LOCATION:Birkenweg\, 5040 Schöftland
CATEGORIES:Saison 2025/26
END:VEVENT
BEGIN:VEVENT
DTSTAMP:20260424T135212Z
DTSTART;TZID=Europe/Berlin:20251122T130000
DTEND;TZID=Europe/Berlin:20251122T160000
SUMMARY:HE 6. Liga Gr. 3 Birrfeld III vs BW Rupperswil IV (0)
UID:e4d5ef4c-f086-4fb6-aa69-2d4853e0258f
STATUS:CONFIRMED
LAST-MODIFIED:20251124T082717Z
DESCRIPTION:6. Liga Herren Gruppe 3\nBegegnungs-Nr: 0\nHeim: Birrfeld III\nGast: BW Rupperswil IV\n\nAdresse: Zentralstrasse 30\, 5242 Birr\n
LOCATION:Zentralstrasse 30\, 5242 Birr
CATEGORIES:Saison 2025/26
END:VEVENT
BEGIN:VEVENT
DTSTAMP:20260424T135212Z
DTSTART;TZID=Europe/Berlin:20251127T193000
DTEND;TZID=Europe/Berlin:20251127T223000
SUMMARY:HE 6. Liga Gr. 3 Baden-Wettingen VII vs BW Rupperswil IV (0)
UID:97f201a9-842b-45e7-a9fd-aeb457d89aee
STATUS:CONFIRMED
LAST-MODIFIED:20251201T142059Z
DESCRIPTION:6. Liga Herren Gruppe 3\nBegegnungs-Nr: 0\nHeim: Baden-Wettingen VII\nGast: BW Rupperswil IV\n\nAdresse: Schulstrasse 14\, 5430 Wettingen\n
LOCATION:Schulstrasse 14\, 5430 Wettingen
CATEGORIES:Saison 2025/26
END:VEVENT
END:VCALENDAR
