BEGIN:VCALENDAR
PRODID:-//nuDatenautomaten//framework iCal4j //DE
VERSION:2.0
CALSCALE:GREGORIAN
BEGIN:VTIMEZONE
TZID:Europe/Berlin
LAST-MODIFIED:20260306T231828Z
TZURL:https://www.tzurl.org/zoneinfo/Europe/Berlin
X-LIC-LOCATION:Europe/Berlin
X-PROLEPTIC-TZNAME:LMT
BEGIN:STANDARD
TZNAME:CET
TZOFFSETFROM:+005328
TZOFFSETTO:+0100
DTSTART:18930401T000000
END:STANDARD
BEGIN:DAYLIGHT
TZNAME:CEST
TZOFFSETFROM:+0100
TZOFFSETTO:+0200
DTSTART:19160430T230000
RDATE:19400401T020000
RDATE:19430329T020000
RDATE:19460414T020000
RDATE:19470406T030000
RDATE:19480418T020000
RDATE:19490410T020000
RDATE:19800406T020000
END:DAYLIGHT
BEGIN:STANDARD
TZNAME:CET
TZOFFSETFROM:+0200
TZOFFSETTO:+0100
DTSTART:19161001T010000
RDATE:19421102T030000
RDATE:19431004T030000
RDATE:19441002T030000
RDATE:19451118T030000
RDATE:19461007T030000
END:STANDARD
BEGIN:DAYLIGHT
TZNAME:CEST
TZOFFSETFROM:+0100
TZOFFSETTO:+0200
DTSTART:19170416T020000
RRULE:FREQ=YEARLY;UNTIL=19180415T010000Z;BYMONTH=4;BYDAY=3MO
END:DAYLIGHT
BEGIN:STANDARD
TZNAME:CET
TZOFFSETFROM:+0200
TZOFFSETTO:+0100
DTSTART:19170917T030000
RRULE:FREQ=YEARLY;UNTIL=19180916T010000Z;BYMONTH=9;BYDAY=3MO
END:STANDARD
BEGIN:DAYLIGHT
TZNAME:CEST
TZOFFSETFROM:+0100
TZOFFSETTO:+0200
DTSTART:19440403T020000
RRULE:FREQ=YEARLY;UNTIL=19450402T010000Z;BYMONTH=4;BYDAY=1MO
END:DAYLIGHT
BEGIN:DAYLIGHT
TZNAME:CEMT
TZOFFSETFROM:+0200
TZOFFSETTO:+0300
DTSTART:19450524T020000
RDATE:19470511T030000
END:DAYLIGHT
BEGIN:DAYLIGHT
TZNAME:CEST
TZOFFSETFROM:+0300
TZOFFSETTO:+0200
DTSTART:19450924T030000
RDATE:19470629T030000
END:DAYLIGHT
BEGIN:STANDARD
TZNAME:CET
TZOFFSETFROM:+0100
TZOFFSETTO:+0100
DTSTART:19460101T000000
RDATE:19800101T000000
END:STANDARD
BEGIN:STANDARD
TZNAME:CET
TZOFFSETFROM:+0200
TZOFFSETTO:+0100
DTSTART:19471005T030000
RRULE:FREQ=YEARLY;UNTIL=19491002T010000Z;BYMONTH=10;BYDAY=1SU
END:STANDARD
BEGIN:STANDARD
TZNAME:CET
TZOFFSETFROM:+0200
TZOFFSETTO:+0100
DTSTART:19800928T030000
RRULE:FREQ=YEARLY;UNTIL=19950924T010000Z;BYMONTH=9;BYDAY=-1SU
END:STANDARD
BEGIN:DAYLIGHT
TZNAME:CEST
TZOFFSETFROM:+0100
TZOFFSETTO:+0200
DTSTART:19810329T020000
RRULE:FREQ=YEARLY;BYMONTH=3;BYDAY=-1SU
END:DAYLIGHT
BEGIN:STANDARD
TZNAME:CET
TZOFFSETFROM:+0200
TZOFFSETTO:+0100
DTSTART:19961027T030000
RRULE:FREQ=YEARLY;BYMONTH=10;BYDAY=-1SU
END:STANDARD
END:VTIMEZONE
BEGIN:VEVENT
DTSTAMP:20260424T135223Z
DTSTART;TZID=Europe/Berlin:20260112T194500
DTEND;TZID=Europe/Berlin:20260112T224500
SUMMARY:HE 1. Liga Oberwil vs Baden-Wettingen (null)
UID:053b2e49-e064-4e71-a628-2ddf67d82bec
STATUS:CONFIRMED
LAST-MODIFIED:20260115T094135Z
DESCRIPTION:1. Liga Herren Gruppe 1\nBegegnungs-Nr: null\nHeim: Oberwil\nGast: Baden-Wettingen\n\nAdresse: Schulstrasse\, 4104 Oberwil\n
LOCATION:Schulstrasse\, 4104 Oberwil
CATEGORIES:Saison 2025/26
END:VEVENT
BEGIN:VEVENT
DTSTAMP:20260424T135223Z
DTSTART;TZID=Europe/Berlin:20260206T194500
DTEND;TZID=Europe/Berlin:20260206T224500
SUMMARY:HE 1. Liga Oberwil vs Rio-Star Muttenz III (null)
UID:89bbf385-65e5-4016-b925-72c7b26cfe54
STATUS:CONFIRMED
LAST-MODIFIED:20260211T093354Z
DESCRIPTION:1. Liga Herren Gruppe 1\nBegegnungs-Nr: null\nHeim: Oberwil\nGast: Rio-Star Muttenz III\n\nAdresse: Schulstrasse\, 4104 Oberwil\n
LOCATION:Schulstrasse\, 4104 Oberwil
CATEGORIES:Saison 2025/26
END:VEVENT
BEGIN:VEVENT
DTSTAMP:20260424T135223Z
DTSTART;TZID=Europe/Berlin:20260319T200000
DTEND;TZID=Europe/Berlin:20260319T230000
SUMMARY:HE 1. Liga Oberwil vs Olten (null)
UID:ba6da431-6e82-49b8-b325-3d6608fdf7d7
STATUS:CONFIRMED
LAST-MODIFIED:20260320T140315Z
DESCRIPTION:1. Liga Herren Gruppe 1\nBegegnungs-Nr: null\nHeim: Oberwil\nGast: Olten\n\nAdresse: Schulstrasse\, 4104 Oberwil\n
LOCATION:Schulstrasse\, 4104 Oberwil
CATEGORIES:Saison 2025/26
END:VEVENT
BEGIN:VEVENT
DTSTAMP:20260424T135223Z
DTSTART;TZID=Europe/Berlin:20250905T194500
DTEND;TZID=Europe/Berlin:20250905T224500
SUMMARY:HE 1. Liga Oberwil vs Schöftland II (null)
UID:54630097-6aff-4cb9-8294-1e3f66e281a0
STATUS:CONFIRMED
LAST-MODIFIED:20250911T110814Z
DESCRIPTION:1. Liga Herren Gruppe 1\nBegegnungs-Nr: null\nHeim: Oberwil\nGast: Schöftland II\n\nAdresse: Schulstrasse\, 4104 Oberwil\n
LOCATION:Schulstrasse\, 4104 Oberwil
CATEGORIES:Saison 2025/26
END:VEVENT
BEGIN:VEVENT
DTSTAMP:20260424T135223Z
DTSTART;TZID=Europe/Berlin:20251017T194500
DTEND;TZID=Europe/Berlin:20251017T224500
SUMMARY:HE 1. Liga Oberwil vs Aesch (null)
UID:bab97858-5b55-4eb6-b84d-58b4f00dff14
STATUS:CONFIRMED
LAST-MODIFIED:20251020T112815Z
DESCRIPTION:1. Liga Herren Gruppe 1\nBegegnungs-Nr: null\nHeim: Oberwil\nGast: Aesch\n\nAdresse: Schulstrasse\, 4104 Oberwil\n
LOCATION:Schulstrasse\, 4104 Oberwil
CATEGORIES:Saison 2025/26
END:VEVENT
BEGIN:VEVENT
DTSTAMP:20260424T135223Z
DTSTART;TZID=Europe/Berlin:20251121T194500
DTEND;TZID=Europe/Berlin:20251121T224500
SUMMARY:HE 1. Liga Oberwil vs Döttingen (null)
UID:81f9cf67-51cc-4af5-a0ba-805a2d8a08a0
STATUS:CONFIRMED
LAST-MODIFIED:20251124T082532Z
DESCRIPTION:1. Liga Herren Gruppe 1\nBegegnungs-Nr: null\nHeim: Oberwil\nGast: Döttingen\n\nAdresse: Schulstrasse\, 4104 Oberwil\n
LOCATION:Schulstrasse\, 4104 Oberwil
CATEGORIES:Saison 2025/26
END:VEVENT
BEGIN:VEVENT
DTSTAMP:20260424T135223Z
DTSTART;TZID=Europe/Berlin:20260116T194500
DTEND;TZID=Europe/Berlin:20260116T224500
SUMMARY:HE 1. Liga Oberwil vs Bremgarten II (null)
UID:4fd2e918-bb49-459a-b5bb-f0106b3c314b
STATUS:CONFIRMED
LAST-MODIFIED:20260123T080727Z
DESCRIPTION:1. Liga Herren Gruppe 1\nBegegnungs-Nr: null\nHeim: Oberwil\nGast: Bremgarten II\n\nAdresse: Schulstrasse\, 4104 Oberwil\n
LOCATION:Schulstrasse\, 4104 Oberwil
CATEGORIES:Saison 2025/26
END:VEVENT
BEGIN:VEVENT
DTSTAMP:20260424T135223Z
DTSTART;TZID=Europe/Berlin:20260119T200000
DTEND;TZID=Europe/Berlin:20260119T230000
SUMMARY:HE 1. Liga Schöftland II vs Oberwil (null)
UID:021d9e8f-0e3c-4e3a-bd14-57b90399a728
STATUS:CONFIRMED
LAST-MODIFIED:20260123T080738Z
DESCRIPTION:1. Liga Herren Gruppe 1\nBegegnungs-Nr: null\nHeim: Schöftland II\nGast: Oberwil\n\nAdresse: Birkenweg\, 5040 Schöftland\n
LOCATION:Birkenweg\, 5040 Schöftland
CATEGORIES:Saison 2025/26
END:VEVENT
BEGIN:VEVENT
DTSTAMP:20260424T135223Z
DTSTART;TZID=Europe/Berlin:20260212T193000
DTEND;TZID=Europe/Berlin:20260212T223000
SUMMARY:HE 1. Liga Aesch vs Oberwil (null)
UID:1fb1d4fe-4978-4400-9e4b-154bebbfd648
STATUS:CONFIRMED
LAST-MODIFIED:20260218T070925Z
DESCRIPTION:1. Liga Herren Gruppe 1\nBegegnungs-Nr: null\nHeim: Aesch\nGast: Oberwil\n\nAdresse: Dornacherstrasse\, 4147 Aesch\n
LOCATION:Dornacherstrasse\, 4147 Aesch
CATEGORIES:Saison 2025/26
END:VEVENT
BEGIN:VEVENT
DTSTAMP:20260424T135223Z
DTSTART;TZID=Europe/Berlin:20260311T201500
DTEND;TZID=Europe/Berlin:20260311T231500
SUMMARY:HE 1. Liga Döttingen vs Oberwil (null)
UID:d73a8f7b-9de0-4e5a-b81f-6463d43cc518
STATUS:CONFIRMED
LAST-MODIFIED:20260313T124809Z
DESCRIPTION:1. Liga Herren Gruppe 1\nBegegnungs-Nr: null\nHeim: Döttingen\nGast: Oberwil\n\nAdresse: Im Bogen\, Chilbert 25\, 5312 Döttingen\n
LOCATION:Im Bogen\, Chilbert 25\, 5312 Döttingen
CATEGORIES:Saison 2025/26
END:VEVENT
BEGIN:VEVENT
DTSTAMP:20260424T135223Z
DTSTART;TZID=Europe/Berlin:20260327T201500
DTEND;TZID=Europe/Berlin:20260327T231500
SUMMARY:HE 1. Liga Bremgarten II vs Oberwil (null)
UID:0403b2d0-7593-4dbf-9ad2-f07198ddb3c9
STATUS:CONFIRMED
LAST-MODIFIED:20260416T093113Z
DESCRIPTION:1. Liga Herren Gruppe 1\nBegegnungs-Nr: null\nHeim: Bremgarten II\nGast: Oberwil\n\nAdresse: Badstrasse 3\, 5620 Bremgarten\n
LOCATION:Badstrasse 3\, 5620 Bremgarten
CATEGORIES:Saison 2025/26
END:VEVENT
BEGIN:VEVENT
DTSTAMP:20260424T135223Z
DTSTART;TZID=Europe/Berlin:20250904T201500
DTEND;TZID=Europe/Berlin:20250904T231500
SUMMARY:HE 1. Liga Baden-Wettingen vs Oberwil (null)
UID:d4a55364-bc1c-471e-a314-3a1f26e044f9
STATUS:CONFIRMED
LAST-MODIFIED:20250905T120723Z
DESCRIPTION:1. Liga Herren Gruppe 1\nBegegnungs-Nr: null\nHeim: Baden-Wettingen\nGast: Oberwil\n\nAdresse: Wiesenstrasse 32 (Parkhaus Schmiede Fabrikstrasse)\, 5400 Baden\n
LOCATION:Wiesenstrasse 32 (Parkhaus Schmiede Fabrikstrasse)\, 5400 Baden
CATEGORIES:Saison 2025/26
END:VEVENT
BEGIN:VEVENT
DTSTAMP:20260424T135223Z
DTSTART;TZID=Europe/Berlin:20250919T193000
DTEND;TZID=Europe/Berlin:20250919T223000
SUMMARY:HE 1. Liga Rio-Star Muttenz III vs Oberwil (null)
UID:f612031b-e870-408c-b145-522bb8bf7736
STATUS:CONFIRMED
LAST-MODIFIED:20250926T122932Z
DESCRIPTION:1. Liga Herren Gruppe 1\nBegegnungs-Nr: null\nHeim: Rio-Star Muttenz III\nGast: Oberwil\n\nAdresse: Gründenstrasse 32\, 4132 Muttenz\n
LOCATION:Gründenstrasse 32\, 4132 Muttenz
CATEGORIES:Saison 2025/26
END:VEVENT
BEGIN:VEVENT
DTSTAMP:20260424T135223Z
DTSTART;TZID=Europe/Berlin:20251103T194500
DTEND;TZID=Europe/Berlin:20251103T224500
SUMMARY:HE 1. Liga Olten vs Oberwil (null)
UID:3075688b-a5de-4e90-9067-2983d8295b85
STATUS:CONFIRMED
LAST-MODIFIED:20251104T122945Z
DESCRIPTION:1. Liga Herren Gruppe 1\nBegegnungs-Nr: null\nHeim: Olten\nGast: Oberwil\n\nAdresse: Lostorferstrasse 16\, 4652 Winznau\n
LOCATION:Lostorferstrasse 16\, 4652 Winznau
CATEGORIES:Saison 2025/26
END:VEVENT
END:VCALENDAR
