BEGIN:VCALENDAR
PRODID:-//nuDatenautomaten//framework iCal4j //DE
VERSION:2.0
CALSCALE:GREGORIAN
BEGIN:VTIMEZONE
TZID:Europe/Berlin
LAST-MODIFIED:20260306T231828Z
TZURL:https://www.tzurl.org/zoneinfo/Europe/Berlin
X-LIC-LOCATION:Europe/Berlin
X-PROLEPTIC-TZNAME:LMT
BEGIN:STANDARD
TZNAME:CET
TZOFFSETFROM:+005328
TZOFFSETTO:+0100
DTSTART:18930401T000000
END:STANDARD
BEGIN:DAYLIGHT
TZNAME:CEST
TZOFFSETFROM:+0100
TZOFFSETTO:+0200
DTSTART:19160430T230000
RDATE:19400401T020000
RDATE:19430329T020000
RDATE:19460414T020000
RDATE:19470406T030000
RDATE:19480418T020000
RDATE:19490410T020000
RDATE:19800406T020000
END:DAYLIGHT
BEGIN:STANDARD
TZNAME:CET
TZOFFSETFROM:+0200
TZOFFSETTO:+0100
DTSTART:19161001T010000
RDATE:19421102T030000
RDATE:19431004T030000
RDATE:19441002T030000
RDATE:19451118T030000
RDATE:19461007T030000
END:STANDARD
BEGIN:DAYLIGHT
TZNAME:CEST
TZOFFSETFROM:+0100
TZOFFSETTO:+0200
DTSTART:19170416T020000
RRULE:FREQ=YEARLY;UNTIL=19180415T010000Z;BYMONTH=4;BYDAY=3MO
END:DAYLIGHT
BEGIN:STANDARD
TZNAME:CET
TZOFFSETFROM:+0200
TZOFFSETTO:+0100
DTSTART:19170917T030000
RRULE:FREQ=YEARLY;UNTIL=19180916T010000Z;BYMONTH=9;BYDAY=3MO
END:STANDARD
BEGIN:DAYLIGHT
TZNAME:CEST
TZOFFSETFROM:+0100
TZOFFSETTO:+0200
DTSTART:19440403T020000
RRULE:FREQ=YEARLY;UNTIL=19450402T010000Z;BYMONTH=4;BYDAY=1MO
END:DAYLIGHT
BEGIN:DAYLIGHT
TZNAME:CEMT
TZOFFSETFROM:+0200
TZOFFSETTO:+0300
DTSTART:19450524T020000
RDATE:19470511T030000
END:DAYLIGHT
BEGIN:DAYLIGHT
TZNAME:CEST
TZOFFSETFROM:+0300
TZOFFSETTO:+0200
DTSTART:19450924T030000
RDATE:19470629T030000
END:DAYLIGHT
BEGIN:STANDARD
TZNAME:CET
TZOFFSETFROM:+0100
TZOFFSETTO:+0100
DTSTART:19460101T000000
RDATE:19800101T000000
END:STANDARD
BEGIN:STANDARD
TZNAME:CET
TZOFFSETFROM:+0200
TZOFFSETTO:+0100
DTSTART:19471005T030000
RRULE:FREQ=YEARLY;UNTIL=19491002T010000Z;BYMONTH=10;BYDAY=1SU
END:STANDARD
BEGIN:STANDARD
TZNAME:CET
TZOFFSETFROM:+0200
TZOFFSETTO:+0100
DTSTART:19800928T030000
RRULE:FREQ=YEARLY;UNTIL=19950924T010000Z;BYMONTH=9;BYDAY=-1SU
END:STANDARD
BEGIN:DAYLIGHT
TZNAME:CEST
TZOFFSETFROM:+0100
TZOFFSETTO:+0200
DTSTART:19810329T020000
RRULE:FREQ=YEARLY;BYMONTH=3;BYDAY=-1SU
END:DAYLIGHT
BEGIN:STANDARD
TZNAME:CET
TZOFFSETFROM:+0200
TZOFFSETTO:+0100
DTSTART:19961027T030000
RRULE:FREQ=YEARLY;BYMONTH=10;BYDAY=-1SU
END:STANDARD
END:VTIMEZONE
BEGIN:VEVENT
DTSTAMP:20260424T114958Z
DTSTART;TZID=Europe/Berlin:20251125T200000
DTEND;TZID=Europe/Berlin:20251125T230000
SUMMARY:HE 3. Liga Gr. 4 Lyss II vs Brügg (14)
UID:f13a7fea-c747-4ba7-a46a-050599f87ede
STATUS:CONFIRMED
LAST-MODIFIED:20251206T233859Z
DESCRIPTION:3. Liga Herren Gruppe 4\nBegegnungs-Nr: 14\nHeim: Lyss II\nGast: Brügg\n\nAdresse: Stegmattweg 15-17\, 3250 Lyss\n
LOCATION:Stegmattweg 15-17\, 3250 Lyss
CATEGORIES:Saison 2025/26
END:VEVENT
BEGIN:VEVENT
DTSTAMP:20260424T114958Z
DTSTART;TZID=Europe/Berlin:20251014T200000
DTEND;TZID=Europe/Berlin:20251014T230000
SUMMARY:HE 3. Liga Gr. 4 Lyss II vs Pieterlen (8)
UID:9b27b47c-c8b2-49a5-b28c-8e26ff331a9e
STATUS:CONFIRMED
LAST-MODIFIED:20251016T191421Z
DESCRIPTION:3. Liga Herren Gruppe 4\nBegegnungs-Nr: 8\nHeim: Lyss II\nGast: Pieterlen\n\nAdresse: Stegmattweg 15-17\, 3250 Lyss\n
LOCATION:Stegmattweg 15-17\, 3250 Lyss
CATEGORIES:Saison 2025/26
END:VEVENT
BEGIN:VEVENT
DTSTAMP:20260424T114958Z
DTSTART;TZID=Europe/Berlin:20260324T200000
DTEND;TZID=Europe/Berlin:20260324T230000
SUMMARY:HE 3. Liga Gr. 4 Lyss II vs Port V (27)
UID:48d103eb-6296-4c7d-85c7-5e2a3c1a8abd
STATUS:CONFIRMED
LAST-MODIFIED:20260409T122820Z
DESCRIPTION:3. Liga Herren Gruppe 4\nBegegnungs-Nr: 27\nHeim: Lyss II\nGast: Port V\n\nAdresse: Stegmattweg 15-17\, 3250 Lyss\n
LOCATION:Stegmattweg 15-17\, 3250 Lyss
CATEGORIES:Saison 2025/26
END:VEVENT
BEGIN:VEVENT
DTSTAMP:20260424T114958Z
DTSTART;TZID=Europe/Berlin:20260310T200000
DTEND;TZID=Europe/Berlin:20260310T230000
SUMMARY:HE 3. Liga Gr. 4 Lyss II vs Herzogenbuchsee II (24)
UID:6fab3cae-8e09-4561-a06e-10e2bcf873e2
STATUS:CONFIRMED
LAST-MODIFIED:20260315T225951Z
DESCRIPTION:3. Liga Herren Gruppe 4\nBegegnungs-Nr: 24\nHeim: Lyss II\nGast: Herzogenbuchsee II\n\nAdresse: Stegmattweg 15-17\, 3250 Lyss\n
LOCATION:Stegmattweg 15-17\, 3250 Lyss
CATEGORIES:Saison 2025/26
END:VEVENT
BEGIN:VEVENT
DTSTAMP:20260424T114958Z
DTSTART;TZID=Europe/Berlin:20260203T200000
DTEND;TZID=Europe/Berlin:20260203T230000
SUMMARY:HE 3. Liga Gr. 4 Lyss II vs Solothurn IV (9)
UID:0bc1ef4e-1212-47f8-99c7-f38e35d58659
STATUS:CONFIRMED
LAST-MODIFIED:20260217T212959Z
DESCRIPTION:3. Liga Herren Gruppe 4\nBegegnungs-Nr: 9\nHeim: Lyss II\nGast: Solothurn IV\n\nAdresse: Stegmattweg 15-17\, 3250 Lyss\n
LOCATION:Stegmattweg 15-17\, 3250 Lyss
CATEGORIES:Saison 2025/26
END:VEVENT
BEGIN:VEVENT
DTSTAMP:20260424T114958Z
DTSTART;TZID=Europe/Berlin:20260113T200000
DTEND;TZID=Europe/Berlin:20260113T230000
SUMMARY:HE 3. Liga Gr. 4 Lyss II vs Erlach (3)
UID:8e20ea73-84e4-4bc3-b48d-acae250e3574
STATUS:CONFIRMED
LAST-MODIFIED:20260125T001301Z
DESCRIPTION:3. Liga Herren Gruppe 4\nBegegnungs-Nr: 3\nHeim: Lyss II\nGast: Erlach\n\nAdresse: Stegmattweg 15-17\, 3250 Lyss\n
LOCATION:Stegmattweg 15-17\, 3250 Lyss
CATEGORIES:Saison 2025/26
END:VEVENT
BEGIN:VEVENT
DTSTAMP:20260424T114958Z
DTSTART;TZID=Europe/Berlin:20251111T200000
DTEND;TZID=Europe/Berlin:20251111T230000
SUMMARY:HE 3. Liga Gr. 4 Lyss II vs Aarberg IV (20)
UID:007dea41-7abc-4868-9a34-58bdae2334ac
STATUS:CONFIRMED
LAST-MODIFIED:20251115T171906Z
DESCRIPTION:3. Liga Herren Gruppe 4\nBegegnungs-Nr: 20\nHeim: Lyss II\nGast: Aarberg IV\n\nAdresse: Stegmattweg 15-17\, 3250 Lyss\n
LOCATION:Stegmattweg 15-17\, 3250 Lyss
CATEGORIES:Saison 2025/26
END:VEVENT
BEGIN:VEVENT
DTSTAMP:20260424T114958Z
DTSTART;TZID=Europe/Berlin:20250903T194500
DTEND;TZID=Europe/Berlin:20250903T224500
SUMMARY:HE 3. Liga Gr. 4 Solothurn IV vs Lyss II (9)
UID:dc63f2df-6136-46a5-b1fb-ff820100511c
STATUS:CONFIRMED
LAST-MODIFIED:20250907T200639Z
DESCRIPTION:3. Liga Herren Gruppe 4\nBegegnungs-Nr: 9\nHeim: Solothurn IV\nGast: Lyss II\n\nAdresse: Untere Sternengasse 24\, 4500 Solothurn\n
LOCATION:Untere Sternengasse 24\, 4500 Solothurn
CATEGORIES:Saison 2025/26
END:VEVENT
BEGIN:VEVENT
DTSTAMP:20260424T114958Z
DTSTART;TZID=Europe/Berlin:20250825T200000
DTEND;TZID=Europe/Berlin:20250825T230000
SUMMARY:HE 3. Liga Gr. 4 Erlach vs Lyss II (3)
UID:5842d3b5-6501-4583-bc67-da92d810e088
STATUS:CONFIRMED
LAST-MODIFIED:20250828T192440Z
DESCRIPTION:3. Liga Herren Gruppe 4\nBegegnungs-Nr: 3\nHeim: Erlach\nGast: Lyss II\n\nAdresse: Vinelzstrasse 54 (24)\, 3235 Erlach\n
LOCATION:Vinelzstrasse 54 (24)\, 3235 Erlach
CATEGORIES:Saison 2025/26
END:VEVENT
BEGIN:VEVENT
DTSTAMP:20260424T114958Z
DTSTART;TZID=Europe/Berlin:20260401T194500
DTEND;TZID=Europe/Berlin:20260401T224500
SUMMARY:HE 3. Liga Gr. 4 Aarberg IV vs Lyss II (20)
UID:c3eb118c-a499-48da-b319-34d559474c6e
STATUS:CONFIRMED
LAST-MODIFIED:20260409T122446Z
DESCRIPTION:3. Liga Herren Gruppe 4\nBegegnungs-Nr: 20\nHeim: Aarberg IV\nGast: Lyss II\n\nAdresse: Nidaustrasse 7\, 3270 Aarberg\n
LOCATION:Nidaustrasse 7\, 3270 Aarberg
CATEGORIES:Saison 2025/26
END:VEVENT
BEGIN:VEVENT
DTSTAMP:20260424T114958Z
DTSTART;TZID=Europe/Berlin:20260218T200000
DTEND;TZID=Europe/Berlin:20260218T230000
SUMMARY:HE 3. Liga Gr. 4 Brügg vs Lyss II (14)
UID:35162316-5eaa-4c3c-ab4e-d8b9ac16a59c
STATUS:CONFIRMED
LAST-MODIFIED:20260220T123304Z
DESCRIPTION:3. Liga Herren Gruppe 4\nBegegnungs-Nr: 14\nHeim: Brügg\nGast: Lyss II\n\nAdresse: Bärletweg 7\, 2555 Brügg\n
LOCATION:Bärletweg 7\, 2555 Brügg
CATEGORIES:Saison 2025/26
END:VEVENT
BEGIN:VEVENT
DTSTAMP:20260424T114958Z
DTSTART;TZID=Europe/Berlin:20260122T193000
DTEND;TZID=Europe/Berlin:20260122T223000
SUMMARY:HE 3. Liga Gr. 4 Pieterlen vs Lyss II (8)
UID:58709961-b7f0-44e6-b3da-e791f8a66f6f
STATUS:CONFIRMED
LAST-MODIFIED:20260125T001334Z
DESCRIPTION:3. Liga Herren Gruppe 4\nBegegnungs-Nr: 8\nHeim: Pieterlen\nGast: Lyss II\n\nAdresse: Bielstrasse 9\, 2542 Pieterlen\n
LOCATION:Bielstrasse 9\, 2542 Pieterlen
CATEGORIES:Saison 2025/26
END:VEVENT
BEGIN:VEVENT
DTSTAMP:20260424T114958Z
DTSTART;TZID=Europe/Berlin:20251209T194500
DTEND;TZID=Europe/Berlin:20251209T224500
SUMMARY:HE 3. Liga Gr. 4 Port V vs Lyss II (27)
UID:ff0e8150-f39f-460a-9e40-fc557682b59c
STATUS:CONFIRMED
LAST-MODIFIED:20251216T120444Z
DESCRIPTION:3. Liga Herren Gruppe 4\nBegegnungs-Nr: 27\nHeim: Port V\nGast: Lyss II\n\nAdresse: Allmendstrasse 23\, 2562 Port\n
LOCATION:Allmendstrasse 23\, 2562 Port
CATEGORIES:Saison 2025/26
END:VEVENT
BEGIN:VEVENT
DTSTAMP:20260424T114958Z
DTSTART;TZID=Europe/Berlin:20251202T200000
DTEND;TZID=Europe/Berlin:20251202T230000
SUMMARY:HE 3. Liga Gr. 4 Herzogenbuchsee II vs Lyss II (24)
UID:818c167e-a898-4653-91c6-736b7fe0dabd
STATUS:CONFIRMED
LAST-MODIFIED:20251207T172556Z
DESCRIPTION:3. Liga Herren Gruppe 4\nBegegnungs-Nr: 24\nHeim: Herzogenbuchsee II\nGast: Lyss II\n\nAdresse: Ringstrasse 10\, 3360 Herzogenbuchsee\n
LOCATION:Ringstrasse 10\, 3360 Herzogenbuchsee
CATEGORIES:Saison 2025/26
END:VEVENT
END:VCALENDAR
