BEGIN:VCALENDAR
PRODID:-//nuDatenautomaten//framework iCal4j //DE
VERSION:2.0
CALSCALE:GREGORIAN
BEGIN:VTIMEZONE
TZID:Europe/Berlin
LAST-MODIFIED:20260306T231828Z
TZURL:https://www.tzurl.org/zoneinfo/Europe/Berlin
X-LIC-LOCATION:Europe/Berlin
X-PROLEPTIC-TZNAME:LMT
BEGIN:STANDARD
TZNAME:CET
TZOFFSETFROM:+005328
TZOFFSETTO:+0100
DTSTART:18930401T000000
END:STANDARD
BEGIN:DAYLIGHT
TZNAME:CEST
TZOFFSETFROM:+0100
TZOFFSETTO:+0200
DTSTART:19160430T230000
RDATE:19400401T020000
RDATE:19430329T020000
RDATE:19460414T020000
RDATE:19470406T030000
RDATE:19480418T020000
RDATE:19490410T020000
RDATE:19800406T020000
END:DAYLIGHT
BEGIN:STANDARD
TZNAME:CET
TZOFFSETFROM:+0200
TZOFFSETTO:+0100
DTSTART:19161001T010000
RDATE:19421102T030000
RDATE:19431004T030000
RDATE:19441002T030000
RDATE:19451118T030000
RDATE:19461007T030000
END:STANDARD
BEGIN:DAYLIGHT
TZNAME:CEST
TZOFFSETFROM:+0100
TZOFFSETTO:+0200
DTSTART:19170416T020000
RRULE:FREQ=YEARLY;UNTIL=19180415T010000Z;BYMONTH=4;BYDAY=3MO
END:DAYLIGHT
BEGIN:STANDARD
TZNAME:CET
TZOFFSETFROM:+0200
TZOFFSETTO:+0100
DTSTART:19170917T030000
RRULE:FREQ=YEARLY;UNTIL=19180916T010000Z;BYMONTH=9;BYDAY=3MO
END:STANDARD
BEGIN:DAYLIGHT
TZNAME:CEST
TZOFFSETFROM:+0100
TZOFFSETTO:+0200
DTSTART:19440403T020000
RRULE:FREQ=YEARLY;UNTIL=19450402T010000Z;BYMONTH=4;BYDAY=1MO
END:DAYLIGHT
BEGIN:DAYLIGHT
TZNAME:CEMT
TZOFFSETFROM:+0200
TZOFFSETTO:+0300
DTSTART:19450524T020000
RDATE:19470511T030000
END:DAYLIGHT
BEGIN:DAYLIGHT
TZNAME:CEST
TZOFFSETFROM:+0300
TZOFFSETTO:+0200
DTSTART:19450924T030000
RDATE:19470629T030000
END:DAYLIGHT
BEGIN:STANDARD
TZNAME:CET
TZOFFSETFROM:+0100
TZOFFSETTO:+0100
DTSTART:19460101T000000
RDATE:19800101T000000
END:STANDARD
BEGIN:STANDARD
TZNAME:CET
TZOFFSETFROM:+0200
TZOFFSETTO:+0100
DTSTART:19471005T030000
RRULE:FREQ=YEARLY;UNTIL=19491002T010000Z;BYMONTH=10;BYDAY=1SU
END:STANDARD
BEGIN:STANDARD
TZNAME:CET
TZOFFSETFROM:+0200
TZOFFSETTO:+0100
DTSTART:19800928T030000
RRULE:FREQ=YEARLY;UNTIL=19950924T010000Z;BYMONTH=9;BYDAY=-1SU
END:STANDARD
BEGIN:DAYLIGHT
TZNAME:CEST
TZOFFSETFROM:+0100
TZOFFSETTO:+0200
DTSTART:19810329T020000
RRULE:FREQ=YEARLY;BYMONTH=3;BYDAY=-1SU
END:DAYLIGHT
BEGIN:STANDARD
TZNAME:CET
TZOFFSETFROM:+0200
TZOFFSETTO:+0100
DTSTART:19961027T030000
RRULE:FREQ=YEARLY;BYMONTH=10;BYDAY=-1SU
END:STANDARD
END:VTIMEZONE
BEGIN:VEVENT
DTSTAMP:20260424T115012Z
DTSTART;TZID=Europe/Berlin:20250923T200000
DTEND;TZID=Europe/Berlin:20250923T230000
SUMMARY:Ligue 2 Gr.2\, Ph.A ZZ-Lancy V vs Châtelaine IV (9)
UID:461511ac-9dd7-442e-a533-0434ce8a4dc2
STATUS:CONFIRMED
LAST-MODIFIED:20250924T065230Z
DESCRIPTION:2ème ligue Homme Gr.2 Phase A\nBegegnungs-Nr: 9\nHeim: ZZ-Lancy V\nGast: Châtelaine IV\n
LOCATION:
CATEGORIES:Saison 2025/26
END:VEVENT
BEGIN:VEVENT
DTSTAMP:20260424T115012Z
DTSTART;TZID=Europe/Berlin:20251125T200000
DTEND;TZID=Europe/Berlin:20251125T230000
SUMMARY:Ligue 2 Gr.2\, Ph.A ZZ-Lancy V vs Silver Star IV (26)
UID:ed865ece-5476-466d-bf25-2fb39dbf9012
STATUS:CONFIRMED
LAST-MODIFIED:20250830T133012Z
DESCRIPTION:2ème ligue Homme Gr.2 Phase A\nBegegnungs-Nr: 26\nHeim: ZZ-Lancy V\nGast: Silver Star IV\n
LOCATION:
CATEGORIES:Saison 2025/26
END:VEVENT
BEGIN:VEVENT
DTSTAMP:20260424T115012Z
DTSTART;TZID=Europe/Berlin:20251111T200000
DTEND;TZID=Europe/Berlin:20251111T230000
SUMMARY:Ligue 2 Gr.2\, Ph.A ZZ-Lancy V vs Bernex II (20)
UID:4ac5833f-82aa-4253-b62d-dc933db856b8
STATUS:CONFIRMED
LAST-MODIFIED:20251112T134123Z
DESCRIPTION:2ème ligue Homme Gr.2 Phase A\nBegegnungs-Nr: 20\nHeim: ZZ-Lancy V\nGast: Bernex II\n
LOCATION:
CATEGORIES:Saison 2025/26
END:VEVENT
BEGIN:VEVENT
DTSTAMP:20260424T115012Z
DTSTART;TZID=Europe/Berlin:20251014T200000
DTEND;TZID=Europe/Berlin:20251014T230000
SUMMARY:Ligue 2 Gr.2\, Ph.A ZZ-Lancy V vs Châtelaine III (14)
UID:6d1b1d9e-2e0b-4559-aded-795ea13d834f
STATUS:CONFIRMED
LAST-MODIFIED:20251015T114140Z
DESCRIPTION:2ème ligue Homme Gr.2 Phase A\nBegegnungs-Nr: 14\nHeim: ZZ-Lancy V\nGast: Châtelaine III\n
LOCATION:
CATEGORIES:Saison 2025/26
END:VEVENT
BEGIN:VEVENT
DTSTAMP:20260424T115012Z
DTSTART;TZID=Europe/Berlin:20250902T200000
DTEND;TZID=Europe/Berlin:20250902T230000
SUMMARY:Ligue 2 Gr.2\, Ph.A ZZ-Lancy V vs Onex (1)
UID:72756259-d067-4a95-9d3c-1849b83a7ab8
STATUS:CONFIRMED
LAST-MODIFIED:20250903T065732Z
DESCRIPTION:2ème ligue Homme Gr.2 Phase A\nBegegnungs-Nr: 1\nHeim: ZZ-Lancy V\nGast: Onex\n
LOCATION:
CATEGORIES:Saison 2025/26
END:VEVENT
BEGIN:VEVENT
DTSTAMP:20260424T115012Z
DTSTART;TZID=Europe/Berlin:20260428T200000
DTEND;TZID=Europe/Berlin:20260428T230000
SUMMARY:Ligue 2 Gr.1\, Ph.B ZZ-Lancy V vs Silver Star III (29)
UID:f2c012c1-19ad-4733-82ae-a2599b35d113
STATUS:CONFIRMED
DESCRIPTION:2ème ligue Homme Gr.1 Phase B\nBegegnungs-Nr: 29\nHeim: ZZ-Lancy V\nGast: Silver Star III\n
LOCATION:
CATEGORIES:Saison 2025/26
END:VEVENT
BEGIN:VEVENT
DTSTAMP:20260424T115012Z
DTSTART;TZID=Europe/Berlin:20260324T200000
DTEND;TZID=Europe/Berlin:20260324T230000
SUMMARY:Ligue 2 Gr.1\, Ph.B ZZ-Lancy V vs UGS-Chênois VI (24)
UID:e89dd379-bd7c-46b6-9bea-20e4b44af408
STATUS:CONFIRMED
LAST-MODIFIED:20260325T074400Z
DESCRIPTION:2ème ligue Homme Gr.1 Phase B\nBegegnungs-Nr: 24\nHeim: ZZ-Lancy V\nGast: UGS-Chênois VI\n
LOCATION:
CATEGORIES:Saison 2025/26
END:VEVENT
BEGIN:VEVENT
DTSTAMP:20260424T115012Z
DTSTART;TZID=Europe/Berlin:20260310T200000
DTEND;TZID=Europe/Berlin:20260310T230000
SUMMARY:Ligue 2 Gr.1\, Ph.B ZZ-Lancy V vs Châtelaine II (16)
UID:50b819ab-5751-4a54-b295-8247e3be8326
STATUS:CONFIRMED
LAST-MODIFIED:20260310T221814Z
DESCRIPTION:2ème ligue Homme Gr.1 Phase B\nBegegnungs-Nr: 16\nHeim: ZZ-Lancy V\nGast: Châtelaine II\n
LOCATION:
CATEGORIES:Saison 2025/26
END:VEVENT
BEGIN:VEVENT
DTSTAMP:20260424T115012Z
DTSTART;TZID=Europe/Berlin:20260210T200000
DTEND;TZID=Europe/Berlin:20260210T230000
SUMMARY:Ligue 2 Gr.1\, Ph.B ZZ-Lancy V vs Mandement V (11)
UID:ae26c0df-aa3d-456a-9b0a-18f3d7e4345e
STATUS:CONFIRMED
LAST-MODIFIED:20260211T080155Z
DESCRIPTION:2ème ligue Homme Gr.1 Phase B\nBegegnungs-Nr: 11\nHeim: ZZ-Lancy V\nGast: Mandement V\n
LOCATION:
CATEGORIES:Saison 2025/26
END:VEVENT
BEGIN:VEVENT
DTSTAMP:20260424T115012Z
DTSTART;TZID=Europe/Berlin:20260120T200000
DTEND;TZID=Europe/Berlin:20260120T230000
SUMMARY:Ligue 2 Gr.1\, Ph.B ZZ-Lancy V vs Onex (5)
UID:6b5ed680-1aed-4d55-a3da-aaff4e4243cb
STATUS:CONFIRMED
LAST-MODIFIED:20260121T162135Z
DESCRIPTION:2ème ligue Homme Gr.1 Phase B\nBegegnungs-Nr: 5\nHeim: ZZ-Lancy V\nGast: Onex\n
LOCATION:
CATEGORIES:Saison 2025/26
END:VEVENT
BEGIN:VEVENT
DTSTAMP:20260424T115012Z
DTSTART;TZID=Europe/Berlin:20251007T194500
DTEND;TZID=Europe/Berlin:20251007T224500
SUMMARY:Ligue 2 Gr.2\, Ph.A Silver Star IV vs ZZ-Lancy V (11)
UID:6d46e68c-1fe9-4d37-a839-89b9e790f481
STATUS:CONFIRMED
LAST-MODIFIED:20250830T132811Z
DESCRIPTION:2ème ligue Homme Gr.2 Phase A\nBegegnungs-Nr: 11\nHeim: Silver Star IV\nGast: ZZ-Lancy V\n
LOCATION:
CATEGORIES:Saison 2025/26
END:VEVENT
BEGIN:VEVENT
DTSTAMP:20260424T115012Z
DTSTART;TZID=Europe/Berlin:20250916T194500
DTEND;TZID=Europe/Berlin:20250916T224500
SUMMARY:Ligue 2 Gr.2\, Ph.A Bernex II vs ZZ-Lancy V (5)
UID:395bea5b-7716-434d-a395-e49af4e93f29
STATUS:CONFIRMED
LAST-MODIFIED:20250917T065831Z
DESCRIPTION:2ème ligue Homme Gr.2 Phase A\nBegegnungs-Nr: 5\nHeim: Bernex II\nGast: ZZ-Lancy V\n
LOCATION:
CATEGORIES:Saison 2025/26
END:VEVENT
BEGIN:VEVENT
DTSTAMP:20260424T115012Z
DTSTART;TZID=Europe/Berlin:20251202T200000
DTEND;TZID=Europe/Berlin:20251202T230000
SUMMARY:Ligue 2 Gr.2\, Ph.A Châtelaine III vs ZZ-Lancy V (29)
UID:d2ea5db7-79e7-447a-9dd1-cf7b5b6e72d8
STATUS:CONFIRMED
LAST-MODIFIED:20251205T130436Z
DESCRIPTION:2ème ligue Homme Gr.2 Phase A\nBegegnungs-Nr: 29\nHeim: Châtelaine III\nGast: ZZ-Lancy V\n
LOCATION:
CATEGORIES:Saison 2025/26
END:VEVENT
BEGIN:VEVENT
DTSTAMP:20260424T115012Z
DTSTART;TZID=Europe/Berlin:20251118T200000
DTEND;TZID=Europe/Berlin:20251118T230000
SUMMARY:Ligue 2 Gr.2\, Ph.A Châtelaine IV vs ZZ-Lancy V (24)
UID:1ebb764c-f668-4883-90cf-f991d2ee75f7
STATUS:CONFIRMED
LAST-MODIFIED:20251119T202941Z
DESCRIPTION:2ème ligue Homme Gr.2 Phase A\nBegegnungs-Nr: 24\nHeim: Châtelaine IV\nGast: ZZ-Lancy V\n
LOCATION:
CATEGORIES:Saison 2025/26
END:VEVENT
BEGIN:VEVENT
DTSTAMP:20260424T115012Z
DTSTART;TZID=Europe/Berlin:20251028T200000
DTEND;TZID=Europe/Berlin:20251028T230000
SUMMARY:Ligue 2 Gr.2\, Ph.A Onex vs ZZ-Lancy V (16)
UID:a9dad592-31ce-42ab-b148-13ea2adc8a11
STATUS:CONFIRMED
LAST-MODIFIED:20251029T075103Z
DESCRIPTION:2ème ligue Homme Gr.2 Phase A\nBegegnungs-Nr: 16\nHeim: Onex\nGast: ZZ-Lancy V\n
LOCATION:
CATEGORIES:Saison 2025/26
END:VEVENT
BEGIN:VEVENT
DTSTAMP:20260424T115012Z
DTSTART;TZID=Europe/Berlin:20260331T194500
DTEND;TZID=Europe/Berlin:20260331T224500
SUMMARY:Ligue 2 Gr.1\, Ph.B Mandement V vs ZZ-Lancy V (26)
UID:a3915875-dce3-440d-bc20-2f4dbb8b743d
STATUS:CONFIRMED
LAST-MODIFIED:20260331T071749Z
DESCRIPTION:2ème ligue Homme Gr.1 Phase B\nBegegnungs-Nr: 26\nHeim: Mandement V\nGast: ZZ-Lancy V\n
LOCATION:
CATEGORIES:Saison 2025/26
END:VEVENT
BEGIN:VEVENT
DTSTAMP:20260424T115012Z
DTSTART;TZID=Europe/Berlin:20260317T200000
DTEND;TZID=Europe/Berlin:20260317T230000
SUMMARY:Ligue 2 Gr.1\, Ph.B Onex vs ZZ-Lancy V (20)
UID:266d5d99-f731-4160-bdaf-8127e3f14e15
STATUS:CONFIRMED
LAST-MODIFIED:20260318T071536Z
DESCRIPTION:2ème ligue Homme Gr.1 Phase B\nBegegnungs-Nr: 20\nHeim: Onex\nGast: ZZ-Lancy V\n
LOCATION:
CATEGORIES:Saison 2025/26
END:VEVENT
BEGIN:VEVENT
DTSTAMP:20260424T115012Z
DTSTART;TZID=Europe/Berlin:20260217T194500
DTEND;TZID=Europe/Berlin:20260217T224500
SUMMARY:Ligue 2 Gr.1\, Ph.B Silver Star III vs ZZ-Lancy V (14)
UID:050b0110-e9b8-443b-a25c-4853527030f2
STATUS:CONFIRMED
LAST-MODIFIED:20260219T115840Z
DESCRIPTION:2ème ligue Homme Gr.1 Phase B\nBegegnungs-Nr: 14\nHeim: Silver Star III\nGast: ZZ-Lancy V\n
LOCATION:
CATEGORIES:Saison 2025/26
END:VEVENT
BEGIN:VEVENT
DTSTAMP:20260424T115012Z
DTSTART;TZID=Europe/Berlin:20260113T200000
DTEND;TZID=Europe/Berlin:20260113T230000
SUMMARY:Ligue 2 Gr.1\, Ph.B Châtelaine II vs ZZ-Lancy V (1)
UID:6c999dea-233b-4fba-b7c0-aefc5fe287fa
STATUS:CONFIRMED
LAST-MODIFIED:20260114T151712Z
DESCRIPTION:2ème ligue Homme Gr.1 Phase B\nBegegnungs-Nr: 1\nHeim: Châtelaine II\nGast: ZZ-Lancy V\n
LOCATION:
CATEGORIES:Saison 2025/26
END:VEVENT
BEGIN:VEVENT
DTSTAMP:20260424T115012Z
DTSTART;TZID=Europe/Berlin:20260127T200000
DTEND;TZID=Europe/Berlin:20260127T230000
SUMMARY:Ligue 2 Gr.1\, Ph.B UGS-Chênois VI vs ZZ-Lancy V (9)
UID:ce69139b-1f20-477c-a412-cfa5a05eae7d
STATUS:CONFIRMED
LAST-MODIFIED:20260128T133207Z
DESCRIPTION:2ème ligue Homme Gr.1 Phase B\nBegegnungs-Nr: 9\nHeim: UGS-Chênois VI\nGast: ZZ-Lancy V\n
LOCATION:
CATEGORIES:Saison 2025/26
END:VEVENT
END:VCALENDAR
