BEGIN:VCALENDAR
PRODID:-//nuDatenautomaten//framework iCal4j //DE
VERSION:2.0
CALSCALE:GREGORIAN
BEGIN:VTIMEZONE
TZID:Europe/Berlin
LAST-MODIFIED:20260306T231828Z
TZURL:https://www.tzurl.org/zoneinfo/Europe/Berlin
X-LIC-LOCATION:Europe/Berlin
X-PROLEPTIC-TZNAME:LMT
BEGIN:STANDARD
TZNAME:CET
TZOFFSETFROM:+005328
TZOFFSETTO:+0100
DTSTART:18930401T000000
END:STANDARD
BEGIN:DAYLIGHT
TZNAME:CEST
TZOFFSETFROM:+0100
TZOFFSETTO:+0200
DTSTART:19160430T230000
RDATE:19400401T020000
RDATE:19430329T020000
RDATE:19460414T020000
RDATE:19470406T030000
RDATE:19480418T020000
RDATE:19490410T020000
RDATE:19800406T020000
END:DAYLIGHT
BEGIN:STANDARD
TZNAME:CET
TZOFFSETFROM:+0200
TZOFFSETTO:+0100
DTSTART:19161001T010000
RDATE:19421102T030000
RDATE:19431004T030000
RDATE:19441002T030000
RDATE:19451118T030000
RDATE:19461007T030000
END:STANDARD
BEGIN:DAYLIGHT
TZNAME:CEST
TZOFFSETFROM:+0100
TZOFFSETTO:+0200
DTSTART:19170416T020000
RRULE:FREQ=YEARLY;UNTIL=19180415T010000Z;BYMONTH=4;BYDAY=3MO
END:DAYLIGHT
BEGIN:STANDARD
TZNAME:CET
TZOFFSETFROM:+0200
TZOFFSETTO:+0100
DTSTART:19170917T030000
RRULE:FREQ=YEARLY;UNTIL=19180916T010000Z;BYMONTH=9;BYDAY=3MO
END:STANDARD
BEGIN:DAYLIGHT
TZNAME:CEST
TZOFFSETFROM:+0100
TZOFFSETTO:+0200
DTSTART:19440403T020000
RRULE:FREQ=YEARLY;UNTIL=19450402T010000Z;BYMONTH=4;BYDAY=1MO
END:DAYLIGHT
BEGIN:DAYLIGHT
TZNAME:CEMT
TZOFFSETFROM:+0200
TZOFFSETTO:+0300
DTSTART:19450524T020000
RDATE:19470511T030000
END:DAYLIGHT
BEGIN:DAYLIGHT
TZNAME:CEST
TZOFFSETFROM:+0300
TZOFFSETTO:+0200
DTSTART:19450924T030000
RDATE:19470629T030000
END:DAYLIGHT
BEGIN:STANDARD
TZNAME:CET
TZOFFSETFROM:+0100
TZOFFSETTO:+0100
DTSTART:19460101T000000
RDATE:19800101T000000
END:STANDARD
BEGIN:STANDARD
TZNAME:CET
TZOFFSETFROM:+0200
TZOFFSETTO:+0100
DTSTART:19471005T030000
RRULE:FREQ=YEARLY;UNTIL=19491002T010000Z;BYMONTH=10;BYDAY=1SU
END:STANDARD
BEGIN:STANDARD
TZNAME:CET
TZOFFSETFROM:+0200
TZOFFSETTO:+0100
DTSTART:19800928T030000
RRULE:FREQ=YEARLY;UNTIL=19950924T010000Z;BYMONTH=9;BYDAY=-1SU
END:STANDARD
BEGIN:DAYLIGHT
TZNAME:CEST
TZOFFSETFROM:+0100
TZOFFSETTO:+0200
DTSTART:19810329T020000
RRULE:FREQ=YEARLY;BYMONTH=3;BYDAY=-1SU
END:DAYLIGHT
BEGIN:STANDARD
TZNAME:CET
TZOFFSETFROM:+0200
TZOFFSETTO:+0100
DTSTART:19961027T030000
RRULE:FREQ=YEARLY;BYMONTH=10;BYDAY=-1SU
END:STANDARD
END:VTIMEZONE
BEGIN:VEVENT
DTSTAMP:20260424T005440Z
DTSTART;TZID=Europe/Berlin:20250830T160000
DTEND;TZID=Europe/Berlin:20250830T190000
SUMMARY:JUG\, 2.Li\, Gr.4\, VR Affoltern A/A vs Niederhasli (6)
UID:7be7101d-4516-4516-8528-644a849b9b6f
STATUS:CONFIRMED
LAST-MODIFIED:20250902T095722Z
DESCRIPTION:Jugend\, 2. Liga\, Gruppe 4\, Vorrunde\nBegegnungs-Nr: 6\nHeim: Affoltern A/A\nGast: Niederhasli\n\nAdresse: Butzenstrasse 8\, 8910 Affoltern am Albis\n
LOCATION:Butzenstrasse 8\, 8910 Affoltern am Albis
CATEGORIES:Saison 2025/26
END:VEVENT
BEGIN:VEVENT
DTSTAMP:20260424T005440Z
DTSTART;TZID=Europe/Berlin:20251115T160000
DTEND;TZID=Europe/Berlin:20251115T190000
SUMMARY:JUG\, 2.Li\, Gr.1\, ZR Affoltern A/A vs Bülach (5)
UID:ec513a73-8a05-4440-9182-52b5ef226960
STATUS:CONFIRMED
LAST-MODIFIED:20251124T150542Z
DESCRIPTION:Jugend\, 2. Liga\, Gruppe 1\, Zwischenrunde\nBegegnungs-Nr: 5\nHeim: Affoltern A/A\nGast: Bülach\n\nAdresse: Butzenstrasse 8\, 8910 Affoltern am Albis\n
LOCATION:Butzenstrasse 8\, 8910 Affoltern am Albis
CATEGORIES:Saison 2025/26
END:VEVENT
BEGIN:VEVENT
DTSTAMP:20260424T005440Z
DTSTART;TZID=Europe/Berlin:20251115T130000
DTEND;TZID=Europe/Berlin:20251115T160000
SUMMARY:JUG\, 2.Li\, Gr.1\, ZR Affoltern A/A vs Wädenswil (2)
UID:1ee2396c-fbb3-48a7-8ff5-a7f14fb69124
STATUS:CONFIRMED
LAST-MODIFIED:20251124T150522Z
DESCRIPTION:Jugend\, 2. Liga\, Gruppe 1\, Zwischenrunde\nBegegnungs-Nr: 2\nHeim: Affoltern A/A\nGast: Wädenswil\n\nAdresse: Butzenstrasse 8\, 8910 Affoltern am Albis\n
LOCATION:Butzenstrasse 8\, 8910 Affoltern am Albis
CATEGORIES:Saison 2025/26
END:VEVENT
BEGIN:VEVENT
DTSTAMP:20260424T005440Z
DTSTART;TZID=Europe/Berlin:20260328T143000
DTEND;TZID=Europe/Berlin:20260328T173000
SUMMARY:JUG\, 2.Li\, Gr.1\, Final Affoltern A/A vs Chur (4)
UID:1e20cbb9-4efa-43bf-9a1f-f740e35cc26c
STATUS:CONFIRMED
LAST-MODIFIED:20260401T133649Z
DESCRIPTION:Jugend\, 2. Liga\, Gruppe 1\, Final\nBegegnungs-Nr: 4\nHeim: Affoltern A/A\nGast: Chur\n\nAdresse: Butzenstrasse 8\, 8910 Affoltern am Albis\n
LOCATION:Butzenstrasse 8\, 8910 Affoltern am Albis
CATEGORIES:Saison 2025/26
END:VEVENT
BEGIN:VEVENT
DTSTAMP:20260424T005440Z
DTSTART;TZID=Europe/Berlin:20260328T130000
DTEND;TZID=Europe/Berlin:20260328T160000
SUMMARY:JUG\, 2.Li\, Gr.1\, Final Affoltern A/A vs Affoltern A/A II (1)
UID:376bbd5b-a1df-4d99-9a6d-2831b4c97afa
STATUS:CONFIRMED
LAST-MODIFIED:20260401T133605Z
DESCRIPTION:Jugend\, 2. Liga\, Gruppe 1\, Final\nBegegnungs-Nr: 1\nHeim: Affoltern A/A\nGast: Affoltern A/A II\nHalle: Poule in Affoltern a.A.\, Unteres Butzen\nAdresse: Butzenstrasse 8\, 8910 Affoltern am Albis\n
LOCATION:Poule in Affoltern a.A.\, Unteres Butzen Butzenstrasse 8\, 8910 Affoltern am Albis
CATEGORIES:Saison 2025/26
END:VEVENT
BEGIN:VEVENT
DTSTAMP:20260424T005440Z
DTSTART;TZID=Europe/Berlin:20250830T130000
DTEND;TZID=Europe/Berlin:20250830T160000
SUMMARY:JUG\, 2.Li\, Gr.4\, VR Urdorf vs Affoltern A/A (2)
UID:83e61af4-ae0c-436d-b6a8-09340ed44e3b
STATUS:CONFIRMED
LAST-MODIFIED:20250902T094803Z
DESCRIPTION:Jugend\, 2. Liga\, Gruppe 4\, Vorrunde\nBegegnungs-Nr: 2\nHeim: Urdorf\nGast: Affoltern A/A\n\nAdresse: Weihermattstrasse 50\, 8902 Urdorf\n
LOCATION:Weihermattstrasse 50\, 8902 Urdorf
CATEGORIES:Saison 2025/26
END:VEVENT
BEGIN:VEVENT
DTSTAMP:20260424T005440Z
DTSTART;TZID=Europe/Berlin:20250830T143000
DTEND;TZID=Europe/Berlin:20250830T173000
SUMMARY:JUG\, 2.Li\, Gr.4\, VR Höngg vs Affoltern A/A (3)
UID:ed4bb14a-3300-4838-b370-f1fe23744927
STATUS:CONFIRMED
LAST-MODIFIED:20250902T094823Z
DESCRIPTION:Jugend\, 2. Liga\, Gruppe 4\, Vorrunde\nBegegnungs-Nr: 3\nHeim: Höngg\nGast: Affoltern A/A\n\nAdresse: Bläsistrasse 2\, 8049 Zürich\n
LOCATION:Bläsistrasse 2\, 8049 Zürich
CATEGORIES:Saison 2025/26
END:VEVENT
BEGIN:VEVENT
DTSTAMP:20260424T005440Z
DTSTART;TZID=Europe/Berlin:20251115T143000
DTEND;TZID=Europe/Berlin:20251115T173000
SUMMARY:JUG\, 2.Li\, Gr.1\, ZR Wil SG vs Affoltern A/A (4)
UID:38603f37-c730-4153-9e85-0cdd193f5420
STATUS:CONFIRMED
LAST-MODIFIED:20251121T095320Z
DESCRIPTION:Jugend\, 2. Liga\, Gruppe 1\, Zwischenrunde\nBegegnungs-Nr: 4\nHeim: Wil SG\nGast: Affoltern A/A\n\nAdresse: Lindenhofstr. 23\, 9500 Wil\n
LOCATION:Lindenhofstr. 23\, 9500 Wil
CATEGORIES:Saison 2025/26
END:VEVENT
BEGIN:VEVENT
DTSTAMP:20260424T005440Z
DTSTART;TZID=Europe/Berlin:20260328T160000
DTEND;TZID=Europe/Berlin:20260328T190000
SUMMARY:JUG\, 2.Li\, Gr.1\, Final Winterthur vs Affoltern A/A (6)
UID:e631e13d-f793-4844-9ce3-715701f639cf
STATUS:CONFIRMED
LAST-MODIFIED:20260401T133709Z
DESCRIPTION:Jugend\, 2. Liga\, Gruppe 1\, Final\nBegegnungs-Nr: 6\nHeim: Winterthur\nGast: Affoltern A/A\n\nAdresse: Buchackerstrasse 54\, 8400 Winterthur\n
LOCATION:Buchackerstrasse 54\, 8400 Winterthur
CATEGORIES:Saison 2025/26
END:VEVENT
END:VCALENDAR
