BEGIN:VCALENDAR
PRODID:-//nuDatenautomaten//framework iCal4j //DE
VERSION:2.0
CALSCALE:GREGORIAN
BEGIN:VTIMEZONE
TZID:Europe/Berlin
LAST-MODIFIED:20260306T231828Z
TZURL:https://www.tzurl.org/zoneinfo/Europe/Berlin
X-LIC-LOCATION:Europe/Berlin
X-PROLEPTIC-TZNAME:LMT
BEGIN:STANDARD
TZNAME:CET
TZOFFSETFROM:+005328
TZOFFSETTO:+0100
DTSTART:18930401T000000
END:STANDARD
BEGIN:DAYLIGHT
TZNAME:CEST
TZOFFSETFROM:+0100
TZOFFSETTO:+0200
DTSTART:19160430T230000
RDATE:19400401T020000
RDATE:19430329T020000
RDATE:19460414T020000
RDATE:19470406T030000
RDATE:19480418T020000
RDATE:19490410T020000
RDATE:19800406T020000
END:DAYLIGHT
BEGIN:STANDARD
TZNAME:CET
TZOFFSETFROM:+0200
TZOFFSETTO:+0100
DTSTART:19161001T010000
RDATE:19421102T030000
RDATE:19431004T030000
RDATE:19441002T030000
RDATE:19451118T030000
RDATE:19461007T030000
END:STANDARD
BEGIN:DAYLIGHT
TZNAME:CEST
TZOFFSETFROM:+0100
TZOFFSETTO:+0200
DTSTART:19170416T020000
RRULE:FREQ=YEARLY;UNTIL=19180415T010000Z;BYMONTH=4;BYDAY=3MO
END:DAYLIGHT
BEGIN:STANDARD
TZNAME:CET
TZOFFSETFROM:+0200
TZOFFSETTO:+0100
DTSTART:19170917T030000
RRULE:FREQ=YEARLY;UNTIL=19180916T010000Z;BYMONTH=9;BYDAY=3MO
END:STANDARD
BEGIN:DAYLIGHT
TZNAME:CEST
TZOFFSETFROM:+0100
TZOFFSETTO:+0200
DTSTART:19440403T020000
RRULE:FREQ=YEARLY;UNTIL=19450402T010000Z;BYMONTH=4;BYDAY=1MO
END:DAYLIGHT
BEGIN:DAYLIGHT
TZNAME:CEMT
TZOFFSETFROM:+0200
TZOFFSETTO:+0300
DTSTART:19450524T020000
RDATE:19470511T030000
END:DAYLIGHT
BEGIN:DAYLIGHT
TZNAME:CEST
TZOFFSETFROM:+0300
TZOFFSETTO:+0200
DTSTART:19450924T030000
RDATE:19470629T030000
END:DAYLIGHT
BEGIN:STANDARD
TZNAME:CET
TZOFFSETFROM:+0100
TZOFFSETTO:+0100
DTSTART:19460101T000000
RDATE:19800101T000000
END:STANDARD
BEGIN:STANDARD
TZNAME:CET
TZOFFSETFROM:+0200
TZOFFSETTO:+0100
DTSTART:19471005T030000
RRULE:FREQ=YEARLY;UNTIL=19491002T010000Z;BYMONTH=10;BYDAY=1SU
END:STANDARD
BEGIN:STANDARD
TZNAME:CET
TZOFFSETFROM:+0200
TZOFFSETTO:+0100
DTSTART:19800928T030000
RRULE:FREQ=YEARLY;UNTIL=19950924T010000Z;BYMONTH=9;BYDAY=-1SU
END:STANDARD
BEGIN:DAYLIGHT
TZNAME:CEST
TZOFFSETFROM:+0100
TZOFFSETTO:+0200
DTSTART:19810329T020000
RRULE:FREQ=YEARLY;BYMONTH=3;BYDAY=-1SU
END:DAYLIGHT
BEGIN:STANDARD
TZNAME:CET
TZOFFSETFROM:+0200
TZOFFSETTO:+0100
DTSTART:19961027T030000
RRULE:FREQ=YEARLY;BYMONTH=10;BYDAY=-1SU
END:STANDARD
END:VTIMEZONE
BEGIN:VEVENT
DTSTAMP:20260424T115114Z
DTSTART;TZID=Europe/Berlin:20250904T194500
DTEND;TZID=Europe/Berlin:20250904T224500
SUMMARY:ME L4 Gr 4\, Tours 1&2 Chexbres vs Fribourg VII (0)
UID:ae681b7a-881e-4709-aeec-3a0ea8f9b54a
STATUS:CONFIRMED
LAST-MODIFIED:20250905T182725Z
DESCRIPTION:4ème ligue Hommes Groupe 4\, Tours 1&2\nBegegnungs-Nr: 0\nHeim: Chexbres\nGast: Fribourg VII\n\nAdresse: Collège de Praz Routoz\, 1071 Chexbres\n
LOCATION:Collège de Praz Routoz\, 1071 Chexbres
CATEGORIES:Saison 2025/26
END:VEVENT
BEGIN:VEVENT
DTSTAMP:20260424T115114Z
DTSTART;TZID=Europe/Berlin:20250929T201500
DTEND;TZID=Europe/Berlin:20250929T231500
SUMMARY:ME L4 Gr 4\, Tours 1&2 Chexbres vs Lausanne VII (0)
UID:b9a3af8d-44b6-4a78-9b5c-fd60f520051e
STATUS:CONFIRMED
LAST-MODIFIED:20251001T172543Z
DESCRIPTION:4ème ligue Hommes Groupe 4\, Tours 1&2\nBegegnungs-Nr: 0\nHeim: Chexbres\nGast: Lausanne VII\n\nAdresse: Collège de Praz Routoz\, 1071 Chexbres\n
LOCATION:Collège de Praz Routoz\, 1071 Chexbres
CATEGORIES:Saison 2025/26
END:VEVENT
BEGIN:VEVENT
DTSTAMP:20260424T115114Z
DTSTART;TZID=Europe/Berlin:20251009T194500
DTEND;TZID=Europe/Berlin:20251009T224500
SUMMARY:ME L4 Gr 4\, Tours 1&2 Chexbres vs Vaudoise-Assurances (0)
UID:042f9a1b-9dce-4c40-a31f-e8b7aea696b4
STATUS:CONFIRMED
LAST-MODIFIED:20251011T112243Z
DESCRIPTION:4ème ligue Hommes Groupe 4\, Tours 1&2\nBegegnungs-Nr: 0\nHeim: Chexbres\nGast: Vaudoise-Assurances\n\nAdresse: Collège de Praz Routoz\, 1071 Chexbres\n
LOCATION:Collège de Praz Routoz\, 1071 Chexbres
CATEGORIES:Saison 2025/26
END:VEVENT
BEGIN:VEVENT
DTSTAMP:20260424T115114Z
DTSTART;TZID=Europe/Berlin:20251030T194500
DTEND;TZID=Europe/Berlin:20251030T224500
SUMMARY:ME L4 Gr 4\, Tours 1&2 Chexbres vs Crissier IV (0)
UID:f0c3a76c-0e83-43ac-9646-fb7032f0aecf
STATUS:CONFIRMED
LAST-MODIFIED:20251101T154016Z
DESCRIPTION:4ème ligue Hommes Groupe 4\, Tours 1&2\nBegegnungs-Nr: 0\nHeim: Chexbres\nGast: Crissier IV\n\nAdresse: Collège de Praz Routoz\, 1071 Chexbres\n
LOCATION:Collège de Praz Routoz\, 1071 Chexbres
CATEGORIES:Saison 2025/26
END:VEVENT
BEGIN:VEVENT
DTSTAMP:20260424T115114Z
DTSTART;TZID=Europe/Berlin:20251113T194500
DTEND;TZID=Europe/Berlin:20251113T224500
SUMMARY:ME L4 Gr 4\, Tours 1&2 Chexbres vs Romanel III (0)
UID:21154208-e95f-4f7a-9939-e67ee3d84445
STATUS:CONFIRMED
LAST-MODIFIED:20251115T132517Z
DESCRIPTION:4ème ligue Hommes Groupe 4\, Tours 1&2\nBegegnungs-Nr: 0\nHeim: Chexbres\nGast: Romanel III\n\nAdresse: Collège de Praz Routoz\, 1071 Chexbres\n
LOCATION:Collège de Praz Routoz\, 1071 Chexbres
CATEGORIES:Saison 2025/26
END:VEVENT
BEGIN:VEVENT
DTSTAMP:20260424T115114Z
DTSTART;TZID=Europe/Berlin:20260119T200000
DTEND;TZID=Europe/Berlin:20260119T230000
SUMMARY:ME L4 Gr 4\, Tours 3&4 Chexbres vs Avry-Rosé III (0)
UID:f2d6720c-ae11-4b34-83a0-3804468f87a3
STATUS:CONFIRMED
LAST-MODIFIED:20260121T122435Z
DESCRIPTION:4ème ligue Hommes Groupe 4\, Tours 3&4\nBegegnungs-Nr: 0\nHeim: Chexbres\nGast: Avry-Rosé III\n\nAdresse: Collège de Praz Routoz\, 1071 Chexbres\n
LOCATION:Collège de Praz Routoz\, 1071 Chexbres
CATEGORIES:Saison 2025/26
END:VEVENT
BEGIN:VEVENT
DTSTAMP:20260424T115114Z
DTSTART;TZID=Europe/Berlin:20260219T194500
DTEND;TZID=Europe/Berlin:20260219T224500
SUMMARY:ME L4 Gr 4\, Tours 3&4 Chexbres vs Matran (0)
UID:57dda622-e9f0-4ccd-a4bc-094f88bc76d3
STATUS:CONFIRMED
LAST-MODIFIED:20260222T210902Z
DESCRIPTION:4ème ligue Hommes Groupe 4\, Tours 3&4\nBegegnungs-Nr: 0\nHeim: Chexbres\nGast: Matran\n\nAdresse: Collège de Praz Routoz\, 1071 Chexbres\n
LOCATION:Collège de Praz Routoz\, 1071 Chexbres
CATEGORIES:Saison 2025/26
END:VEVENT
BEGIN:VEVENT
DTSTAMP:20260424T115114Z
DTSTART;TZID=Europe/Berlin:20260423T194500
DTEND;TZID=Europe/Berlin:20260423T224500
SUMMARY:ME L4 Gr 4\, Tours 3&4 Chexbres vs Romont-Villaz (0)
UID:9ee72054-282a-4776-a7de-8b22db8564bf
STATUS:CONFIRMED
DESCRIPTION:4ème ligue Hommes Groupe 4\, Tours 3&4\nBegegnungs-Nr: 0\nHeim: Chexbres\nGast: Romont-Villaz\n\nAdresse: Collège de Praz Routoz\, 1071 Chexbres\n
LOCATION:Collège de Praz Routoz\, 1071 Chexbres
CATEGORIES:Saison 2025/26
END:VEVENT
BEGIN:VEVENT
DTSTAMP:20260424T115114Z
DTSTART;TZID=Europe/Berlin:20260427T200000
DTEND;TZID=Europe/Berlin:20260427T230000
SUMMARY:ME L4 Gr 4\, Tours 3&4 Chexbres vs Romont-Villaz II (0)
UID:5fb9d024-35c5-4f55-98cb-e2798a8c550e
STATUS:CONFIRMED
LAST-MODIFIED:20251230T133238Z
DESCRIPTION:4ème ligue Hommes Groupe 4\, Tours 3&4\nBegegnungs-Nr: 0\nHeim: Chexbres\nGast: Romont-Villaz II\n\nAdresse: Collège de Praz Routoz\, 1071 Chexbres\n
LOCATION:Collège de Praz Routoz\, 1071 Chexbres
CATEGORIES:Saison 2025/26
END:VEVENT
BEGIN:VEVENT
DTSTAMP:20260424T115114Z
DTSTART;TZID=Europe/Berlin:20260312T194500
DTEND;TZID=Europe/Berlin:20260312T224500
SUMMARY:ME L4 Gr 4\, Tours 3&4 Chexbres vs Bulle V (0)
UID:a9a2b154-aa8d-4d3b-8c5e-364be7b739ea
STATUS:CONFIRMED
LAST-MODIFIED:20260313T231816Z
DESCRIPTION:4ème ligue Hommes Groupe 4\, Tours 3&4\nBegegnungs-Nr: 0\nHeim: Chexbres\nGast: Bulle V\n\nAdresse: Collège de Praz Routoz\, 1071 Chexbres\n
LOCATION:Collège de Praz Routoz\, 1071 Chexbres
CATEGORIES:Saison 2025/26
END:VEVENT
BEGIN:VEVENT
DTSTAMP:20260424T115114Z
DTSTART;TZID=Europe/Berlin:20250905T193000
DTEND;TZID=Europe/Berlin:20250905T223000
SUMMARY:ME L4 Gr 4\, Tours 1&2 Crissier IV vs Chexbres (0)
UID:812f9ac6-e6ef-43b8-a499-0977e4622ce2
STATUS:CONFIRMED
LAST-MODIFIED:20250907T174205Z
DESCRIPTION:4ème ligue Hommes Groupe 4\, Tours 1&2\nBegegnungs-Nr: 0\nHeim: Crissier IV\nGast: Chexbres\n\nAdresse: ch. des Oches du Mur\, 1023 Crissier\n
LOCATION:ch. des Oches du Mur\, 1023 Crissier
CATEGORIES:Saison 2025/26
END:VEVENT
BEGIN:VEVENT
DTSTAMP:20260424T115114Z
DTSTART;TZID=Europe/Berlin:20251007T193000
DTEND;TZID=Europe/Berlin:20251007T223000
SUMMARY:ME L4 Gr 4\, Tours 1&2 Romanel III vs Chexbres (0)
UID:090596f3-14f7-46f2-ad51-432b74111b4e
STATUS:CONFIRMED
LAST-MODIFIED:20251009T210847Z
DESCRIPTION:4ème ligue Hommes Groupe 4\, Tours 1&2\nBegegnungs-Nr: 0\nHeim: Romanel III\nGast: Chexbres\n\nAdresse: Ch des Epinettes 1\, 1032 Romanel-sur-Lausanne\n
LOCATION:Ch des Epinettes 1\, 1032 Romanel-sur-Lausanne
CATEGORIES:Saison 2025/26
END:VEVENT
BEGIN:VEVENT
DTSTAMP:20260424T115114Z
DTSTART;TZID=Europe/Berlin:20251106T193000
DTEND;TZID=Europe/Berlin:20251106T223000
SUMMARY:ME L4 Gr 4\, Tours 1&2 Fribourg VII vs Chexbres (0)
UID:715c2594-fa2f-40c4-ace2-12b481f2d461
STATUS:CONFIRMED
LAST-MODIFIED:20251109T122546Z
DESCRIPTION:4ème ligue Hommes Groupe 4\, Tours 1&2\nBegegnungs-Nr: 0\nHeim: Fribourg VII\nGast: Chexbres\n\nAdresse: Route du Centre sportif\, 1752 Villars-sur-Glâne\n
LOCATION:Route du Centre sportif\, 1752 Villars-sur-Glâne
CATEGORIES:Saison 2025/26
END:VEVENT
BEGIN:VEVENT
DTSTAMP:20260424T115114Z
DTSTART;TZID=Europe/Berlin:20251128T200000
DTEND;TZID=Europe/Berlin:20251128T230000
SUMMARY:ME L4 Gr 4\, Tours 1&2 Lausanne VII vs Chexbres (0)
UID:f7e22028-f01e-4daa-b5d7-17b0d1392ff7
STATUS:CONFIRMED
LAST-MODIFIED:20251201T162528Z
DESCRIPTION:4ème ligue Hommes Groupe 4\, Tours 1&2\nBegegnungs-Nr: 0\nHeim: Lausanne VII\nGast: Chexbres\n\nAdresse: Vaudoise Aréna\, Ch. du Viaduc 14\, 1008 Prilly\n
LOCATION:Vaudoise Aréna\, Ch. du Viaduc 14\, 1008 Prilly
CATEGORIES:Saison 2025/26
END:VEVENT
BEGIN:VEVENT
DTSTAMP:20260424T115114Z
DTSTART;TZID=Europe/Berlin:20251211T193000
DTEND;TZID=Europe/Berlin:20251211T223000
SUMMARY:ME L4 Gr 4\, Tours 1&2 Vaudoise-Assurances vs Chexbres (0)
UID:5002442e-dc5f-4d23-98bc-2657a0c10d14
STATUS:CONFIRMED
LAST-MODIFIED:20251214T162158Z
DESCRIPTION:4ème ligue Hommes Groupe 4\, Tours 1&2\nBegegnungs-Nr: 0\nHeim: Vaudoise-Assurances\nGast: Chexbres\n\nAdresse: Ch de Bellerive 36\, 1007 Lausanne\n
LOCATION:Ch de Bellerive 36\, 1007 Lausanne
CATEGORIES:Saison 2025/26
END:VEVENT
BEGIN:VEVENT
DTSTAMP:20260424T115114Z
DTSTART;TZID=Europe/Berlin:20260114T200000
DTEND;TZID=Europe/Berlin:20260114T230000
SUMMARY:ME L4 Gr 4\, Tours 3&4 Bulle V vs Chexbres (0)
UID:07566fb2-90f8-48d8-afdd-70824d4344c9
STATUS:CONFIRMED
LAST-MODIFIED:20260115T101905Z
DESCRIPTION:4ème ligue Hommes Groupe 4\, Tours 3&4\nBegegnungs-Nr: 0\nHeim: Bulle V\nGast: Chexbres\n\nAdresse: Rue du Stade 50\, 1630 Bulle\n
LOCATION:Rue du Stade 50\, 1630 Bulle
CATEGORIES:Saison 2025/26
END:VEVENT
BEGIN:VEVENT
DTSTAMP:20260424T115114Z
DTSTART;TZID=Europe/Berlin:20260202T200000
DTEND;TZID=Europe/Berlin:20260202T230000
SUMMARY:ME L4 Gr 4\, Tours 3&4 Romont-Villaz vs Chexbres (0)
UID:245e2995-1965-4a37-bb99-6f347c0d6057
STATUS:CONFIRMED
LAST-MODIFIED:20260206T183921Z
DESCRIPTION:4ème ligue Hommes Groupe 4\, Tours 3&4\nBegegnungs-Nr: 0\nHeim: Romont-Villaz\nGast: Chexbres\n\nAdresse: En Bouley 1-3\, 1680 Romont\n
LOCATION:En Bouley 1-3\, 1680 Romont
CATEGORIES:Saison 2025/26
END:VEVENT
BEGIN:VEVENT
DTSTAMP:20260424T115114Z
DTSTART;TZID=Europe/Berlin:20260330T200000
DTEND;TZID=Europe/Berlin:20260330T230000
SUMMARY:ME L4 Gr 4\, Tours 3&4 Matran vs Chexbres (0)
UID:349c7b36-a7b8-44b7-85f6-65d338c0cf55
STATUS:CONFIRMED
LAST-MODIFIED:20260401T092419Z
DESCRIPTION:4ème ligue Hommes Groupe 4\, Tours 3&4\nBegegnungs-Nr: 0\nHeim: Matran\nGast: Chexbres\n\nAdresse: Route de l'Ecole\, 1753 Matran\n
LOCATION:Route de l'Ecole\, 1753 Matran
CATEGORIES:Saison 2025/26
END:VEVENT
BEGIN:VEVENT
DTSTAMP:20260424T115114Z
DTSTART;TZID=Europe/Berlin:20260303T193000
DTEND;TZID=Europe/Berlin:20260303T223000
SUMMARY:ME L4 Gr 4\, Tours 3&4 Romont-Villaz II vs Chexbres (0)
UID:038c9512-b4b5-4378-8914-c1b99b39fb75
STATUS:CONFIRMED
LAST-MODIFIED:20260305T200150Z
DESCRIPTION:4ème ligue Hommes Groupe 4\, Tours 3&4\nBegegnungs-Nr: 0\nHeim: Romont-Villaz II\nGast: Chexbres\n\nAdresse: Route de la Gare 5\, 1690 Villaz-St-Pierre\n
LOCATION:Route de la Gare 5\, 1690 Villaz-St-Pierre
CATEGORIES:Saison 2025/26
END:VEVENT
BEGIN:VEVENT
DTSTAMP:20260424T115114Z
DTSTART;TZID=Europe/Berlin:20260319T193000
DTEND;TZID=Europe/Berlin:20260319T223000
SUMMARY:ME L4 Gr 4\, Tours 3&4 Avry-Rosé III vs Chexbres (0)
UID:3dba87e4-80f1-4ee9-a9e6-aa14aaa5fd45
STATUS:CONFIRMED
LAST-MODIFIED:20260321T102605Z
DESCRIPTION:4ème ligue Hommes Groupe 4\, Tours 3&4\nBegegnungs-Nr: 0\nHeim: Avry-Rosé III\nGast: Chexbres\n\nAdresse: Route du Château 15\, 1754 Avry-sur-Matran\n
LOCATION:Route du Château 15\, 1754 Avry-sur-Matran
CATEGORIES:Saison 2025/26
END:VEVENT
END:VCALENDAR
