BEGIN:VCALENDAR
PRODID:-//nuDatenautomaten//framework iCal4j //DE
VERSION:2.0
CALSCALE:GREGORIAN
BEGIN:VTIMEZONE
TZID:Europe/Berlin
LAST-MODIFIED:20260306T231828Z
TZURL:https://www.tzurl.org/zoneinfo/Europe/Berlin
X-LIC-LOCATION:Europe/Berlin
X-PROLEPTIC-TZNAME:LMT
BEGIN:STANDARD
TZNAME:CET
TZOFFSETFROM:+005328
TZOFFSETTO:+0100
DTSTART:18930401T000000
END:STANDARD
BEGIN:DAYLIGHT
TZNAME:CEST
TZOFFSETFROM:+0100
TZOFFSETTO:+0200
DTSTART:19160430T230000
RDATE:19400401T020000
RDATE:19430329T020000
RDATE:19460414T020000
RDATE:19470406T030000
RDATE:19480418T020000
RDATE:19490410T020000
RDATE:19800406T020000
END:DAYLIGHT
BEGIN:STANDARD
TZNAME:CET
TZOFFSETFROM:+0200
TZOFFSETTO:+0100
DTSTART:19161001T010000
RDATE:19421102T030000
RDATE:19431004T030000
RDATE:19441002T030000
RDATE:19451118T030000
RDATE:19461007T030000
END:STANDARD
BEGIN:DAYLIGHT
TZNAME:CEST
TZOFFSETFROM:+0100
TZOFFSETTO:+0200
DTSTART:19170416T020000
RRULE:FREQ=YEARLY;UNTIL=19180415T010000Z;BYMONTH=4;BYDAY=3MO
END:DAYLIGHT
BEGIN:STANDARD
TZNAME:CET
TZOFFSETFROM:+0200
TZOFFSETTO:+0100
DTSTART:19170917T030000
RRULE:FREQ=YEARLY;UNTIL=19180916T010000Z;BYMONTH=9;BYDAY=3MO
END:STANDARD
BEGIN:DAYLIGHT
TZNAME:CEST
TZOFFSETFROM:+0100
TZOFFSETTO:+0200
DTSTART:19440403T020000
RRULE:FREQ=YEARLY;UNTIL=19450402T010000Z;BYMONTH=4;BYDAY=1MO
END:DAYLIGHT
BEGIN:DAYLIGHT
TZNAME:CEMT
TZOFFSETFROM:+0200
TZOFFSETTO:+0300
DTSTART:19450524T020000
RDATE:19470511T030000
END:DAYLIGHT
BEGIN:DAYLIGHT
TZNAME:CEST
TZOFFSETFROM:+0300
TZOFFSETTO:+0200
DTSTART:19450924T030000
RDATE:19470629T030000
END:DAYLIGHT
BEGIN:STANDARD
TZNAME:CET
TZOFFSETFROM:+0100
TZOFFSETTO:+0100
DTSTART:19460101T000000
RDATE:19800101T000000
END:STANDARD
BEGIN:STANDARD
TZNAME:CET
TZOFFSETFROM:+0200
TZOFFSETTO:+0100
DTSTART:19471005T030000
RRULE:FREQ=YEARLY;UNTIL=19491002T010000Z;BYMONTH=10;BYDAY=1SU
END:STANDARD
BEGIN:STANDARD
TZNAME:CET
TZOFFSETFROM:+0200
TZOFFSETTO:+0100
DTSTART:19800928T030000
RRULE:FREQ=YEARLY;UNTIL=19950924T010000Z;BYMONTH=9;BYDAY=-1SU
END:STANDARD
BEGIN:DAYLIGHT
TZNAME:CEST
TZOFFSETFROM:+0100
TZOFFSETTO:+0200
DTSTART:19810329T020000
RRULE:FREQ=YEARLY;BYMONTH=3;BYDAY=-1SU
END:DAYLIGHT
BEGIN:STANDARD
TZNAME:CET
TZOFFSETFROM:+0200
TZOFFSETTO:+0100
DTSTART:19961027T030000
RRULE:FREQ=YEARLY;BYMONTH=10;BYDAY=-1SU
END:STANDARD
END:VTIMEZONE
BEGIN:VEVENT
DTSTAMP:20260425T154351Z
DTSTART;TZID=Europe/Berlin:20250830T143000
DTEND;TZID=Europe/Berlin:20250830T173000
SUMMARY:JUG 1.Li\, Gr.1\, VR Zürich-Affoltern vs Neuhausen (3)
UID:cc52b6ab-7d27-4e08-9e70-9741f7bac445
STATUS:CONFIRMED
LAST-MODIFIED:20250902T093607Z
DESCRIPTION:1. Liga Jugend\, Gruppe 1\, Vorrunde\nBegegnungs-Nr: 3\nHeim: Zürich-Affoltern\nGast: Neuhausen\n\nAdresse: Rümlangstr. 89\, 8052 Zürich\n
LOCATION:Rümlangstr. 89\, 8052 Zürich
CATEGORIES:Saison 2025/26
END:VEVENT
BEGIN:VEVENT
DTSTAMP:20260425T154351Z
DTSTART;TZID=Europe/Berlin:20260117T150000
DTEND;TZID=Europe/Berlin:20260117T180000
SUMMARY:JUG 1. Li\, Gr.2\, Final Zürich-Affoltern vs Wetzikon (4)
UID:58aa6621-541f-427e-bc81-190b820efde6
STATUS:CONFIRMED
LAST-MODIFIED:20260119T093032Z
DESCRIPTION:1. Liga Jugend\, Gruppe 2\, Final\nBegegnungs-Nr: 4\nHeim: Zürich-Affoltern\nGast: Wetzikon\n\nAdresse: Rümlangstr. 89\, 8052 Zürich\n
LOCATION:Rümlangstr. 89\, 8052 Zürich
CATEGORIES:Saison 2025/26
END:VEVENT
BEGIN:VEVENT
DTSTAMP:20260425T154351Z
DTSTART;TZID=Europe/Berlin:20260117T133000
DTEND;TZID=Europe/Berlin:20260117T163000
SUMMARY:JUG 1. Li\, Gr.2\, Final Zürich-Affoltern vs Horgen (1)
UID:bf2ec6e9-30b5-4423-a4e6-f175c52be10f
STATUS:CONFIRMED
LAST-MODIFIED:20260119T092903Z
DESCRIPTION:1. Liga Jugend\, Gruppe 2\, Final\nBegegnungs-Nr: 1\nHeim: Zürich-Affoltern\nGast: Horgen\nHalle: Poule in Zürich\, Tischtennisgarage\, Rümlangstrasse\nAdresse: Rümlangstr. 89\, 8052 Zürich\n
LOCATION:Poule in Zürich\, Tischtennisgarage\, Rümlangstrasse Rümlangstr. 89\, 8052 Zürich
CATEGORIES:Saison 2025/26
END:VEVENT
BEGIN:VEVENT
DTSTAMP:20260425T154351Z
DTSTART;TZID=Europe/Berlin:20250830T160000
DTEND;TZID=Europe/Berlin:20250830T190000
SUMMARY:JUG 1.Li\, Gr.1\, VR Young Stars ZH vs Zürich-Affoltern (5)
UID:91cf7684-ec40-49d9-bb64-a39ce13cdc08
STATUS:CONFIRMED
LAST-MODIFIED:20250902T093650Z
DESCRIPTION:1. Liga Jugend\, Gruppe 1\, Vorrunde\nBegegnungs-Nr: 5\nHeim: Young Stars ZH\nGast: Zürich-Affoltern\n\nAdresse: Balgriststrasse 55\, 8008 Zürich\n
LOCATION:Balgriststrasse 55\, 8008 Zürich
CATEGORIES:Saison 2025/26
END:VEVENT
BEGIN:VEVENT
DTSTAMP:20260425T154351Z
DTSTART;TZID=Europe/Berlin:20250830T130000
DTEND;TZID=Europe/Berlin:20250830T160000
SUMMARY:JUG 1.Li\, Gr.1\, VR Horgen vs Zürich-Affoltern (1)
UID:92fe293f-98b6-4e84-8e51-ff2b2a911668
STATUS:CONFIRMED
LAST-MODIFIED:20250902T093512Z
DESCRIPTION:1. Liga Jugend\, Gruppe 1\, Vorrunde\nBegegnungs-Nr: 1\nHeim: Horgen\nGast: Zürich-Affoltern\nHalle: Poule in Horgen\, Bildungszentrum 2. UG\nAdresse: Seestrasse 110\, 8810 Horgen\n
LOCATION:Poule in Horgen\, Bildungszentrum 2. UG Seestrasse 110\, 8810 Horgen
CATEGORIES:Saison 2025/26
END:VEVENT
BEGIN:VEVENT
DTSTAMP:20260425T154351Z
DTSTART;TZID=Europe/Berlin:20260117T163000
DTEND;TZID=Europe/Berlin:20260117T193000
SUMMARY:JUG 1. Li\, Gr.2\, Final Uster vs Zürich-Affoltern (6)
UID:e1b1bd34-e421-4538-b12d-8677a1609a77
STATUS:CONFIRMED
LAST-MODIFIED:20260119T093116Z
DESCRIPTION:1. Liga Jugend\, Gruppe 2\, Final\nBegegnungs-Nr: 6\nHeim: Uster\nGast: Zürich-Affoltern\n\nAdresse: Wilstrasse 30 / Zürcherstrasse\, 8610 Uster\n
LOCATION:Wilstrasse 30 / Zürcherstrasse\, 8610 Uster
CATEGORIES:Saison 2025/26
END:VEVENT
END:VCALENDAR
