BEGIN:VCALENDAR
PRODID:-//nuDatenautomaten//framework iCal4j //DE
VERSION:2.0
CALSCALE:GREGORIAN
BEGIN:VTIMEZONE
TZID:Europe/Berlin
LAST-MODIFIED:20260306T231828Z
TZURL:https://www.tzurl.org/zoneinfo/Europe/Berlin
X-LIC-LOCATION:Europe/Berlin
X-PROLEPTIC-TZNAME:LMT
BEGIN:STANDARD
TZNAME:CET
TZOFFSETFROM:+005328
TZOFFSETTO:+0100
DTSTART:18930401T000000
END:STANDARD
BEGIN:DAYLIGHT
TZNAME:CEST
TZOFFSETFROM:+0100
TZOFFSETTO:+0200
DTSTART:19160430T230000
RDATE:19400401T020000
RDATE:19430329T020000
RDATE:19460414T020000
RDATE:19470406T030000
RDATE:19480418T020000
RDATE:19490410T020000
RDATE:19800406T020000
END:DAYLIGHT
BEGIN:STANDARD
TZNAME:CET
TZOFFSETFROM:+0200
TZOFFSETTO:+0100
DTSTART:19161001T010000
RDATE:19421102T030000
RDATE:19431004T030000
RDATE:19441002T030000
RDATE:19451118T030000
RDATE:19461007T030000
END:STANDARD
BEGIN:DAYLIGHT
TZNAME:CEST
TZOFFSETFROM:+0100
TZOFFSETTO:+0200
DTSTART:19170416T020000
RRULE:FREQ=YEARLY;UNTIL=19180415T010000Z;BYMONTH=4;BYDAY=3MO
END:DAYLIGHT
BEGIN:STANDARD
TZNAME:CET
TZOFFSETFROM:+0200
TZOFFSETTO:+0100
DTSTART:19170917T030000
RRULE:FREQ=YEARLY;UNTIL=19180916T010000Z;BYMONTH=9;BYDAY=3MO
END:STANDARD
BEGIN:DAYLIGHT
TZNAME:CEST
TZOFFSETFROM:+0100
TZOFFSETTO:+0200
DTSTART:19440403T020000
RRULE:FREQ=YEARLY;UNTIL=19450402T010000Z;BYMONTH=4;BYDAY=1MO
END:DAYLIGHT
BEGIN:DAYLIGHT
TZNAME:CEMT
TZOFFSETFROM:+0200
TZOFFSETTO:+0300
DTSTART:19450524T020000
RDATE:19470511T030000
END:DAYLIGHT
BEGIN:DAYLIGHT
TZNAME:CEST
TZOFFSETFROM:+0300
TZOFFSETTO:+0200
DTSTART:19450924T030000
RDATE:19470629T030000
END:DAYLIGHT
BEGIN:STANDARD
TZNAME:CET
TZOFFSETFROM:+0100
TZOFFSETTO:+0100
DTSTART:19460101T000000
RDATE:19800101T000000
END:STANDARD
BEGIN:STANDARD
TZNAME:CET
TZOFFSETFROM:+0200
TZOFFSETTO:+0100
DTSTART:19471005T030000
RRULE:FREQ=YEARLY;UNTIL=19491002T010000Z;BYMONTH=10;BYDAY=1SU
END:STANDARD
BEGIN:STANDARD
TZNAME:CET
TZOFFSETFROM:+0200
TZOFFSETTO:+0100
DTSTART:19800928T030000
RRULE:FREQ=YEARLY;UNTIL=19950924T010000Z;BYMONTH=9;BYDAY=-1SU
END:STANDARD
BEGIN:DAYLIGHT
TZNAME:CEST
TZOFFSETFROM:+0100
TZOFFSETTO:+0200
DTSTART:19810329T020000
RRULE:FREQ=YEARLY;BYMONTH=3;BYDAY=-1SU
END:DAYLIGHT
BEGIN:STANDARD
TZNAME:CET
TZOFFSETFROM:+0200
TZOFFSETTO:+0100
DTSTART:19961027T030000
RRULE:FREQ=YEARLY;BYMONTH=10;BYDAY=-1SU
END:STANDARD
END:VTIMEZONE
BEGIN:VEVENT
DTSTAMP:20260424T135213Z
DTSTART;TZID=Europe/Berlin:20260127T194500
DTEND;TZID=Europe/Berlin:20260127T224500
SUMMARY:HE 3. Liga Gr. 3 Zofingen vs Schöftland IV (0)
UID:70ff9abd-f834-40e7-814d-433af65b7bd0
STATUS:CONFIRMED
LAST-MODIFIED:20260129T075039Z
DESCRIPTION:3. Liga Herren Gruppe 3\nBegegnungs-Nr: 0\nHeim: Zofingen\nGast: Schöftland IV\n\nAdresse: Strengelbacherstrasse 14\, 4800 Zofingen\n
LOCATION:Strengelbacherstrasse 14\, 4800 Zofingen
CATEGORIES:Saison 2025/26
END:VEVENT
BEGIN:VEVENT
DTSTAMP:20260424T135213Z
DTSTART;TZID=Europe/Berlin:20251216T194500
DTEND;TZID=Europe/Berlin:20251216T224500
SUMMARY:HE 3. Liga Gr. 3 Zofingen vs Baden-Wettingen IV (0)
UID:51bbc9df-6e54-4bee-b2e8-6e08382a7bcd
STATUS:CONFIRMED
LAST-MODIFIED:20251217T080234Z
DESCRIPTION:3. Liga Herren Gruppe 3\nBegegnungs-Nr: 0\nHeim: Zofingen\nGast: Baden-Wettingen IV\n\nAdresse: Strengelbacherstrasse 14\, 4800 Zofingen\n
LOCATION:Strengelbacherstrasse 14\, 4800 Zofingen
CATEGORIES:Saison 2025/26
END:VEVENT
BEGIN:VEVENT
DTSTAMP:20260424T135213Z
DTSTART;TZID=Europe/Berlin:20260303T194500
DTEND;TZID=Europe/Berlin:20260303T224500
SUMMARY:HE 3. Liga Gr. 3 Zofingen vs Brugg II (0)
UID:5982cdcb-79b6-4a86-8685-cb3a5519309e
STATUS:CONFIRMED
LAST-MODIFIED:20260304T104303Z
DESCRIPTION:3. Liga Herren Gruppe 3\nBegegnungs-Nr: 0\nHeim: Zofingen\nGast: Brugg II\n\nAdresse: Strengelbacherstrasse 14\, 4800 Zofingen\n
LOCATION:Strengelbacherstrasse 14\, 4800 Zofingen
CATEGORIES:Saison 2025/26
END:VEVENT
BEGIN:VEVENT
DTSTAMP:20260424T135213Z
DTSTART;TZID=Europe/Berlin:20260324T194500
DTEND;TZID=Europe/Berlin:20260324T224500
SUMMARY:HE 3. Liga Gr. 3 Zofingen vs Bremgarten V (0)
UID:48d0ed1d-5ac1-4c7d-8d6a-875accc06866
STATUS:CONFIRMED
LAST-MODIFIED:20260409T114607Z
DESCRIPTION:3. Liga Herren Gruppe 3\nBegegnungs-Nr: 0\nHeim: Zofingen\nGast: Bremgarten V\n\nAdresse: Strengelbacherstrasse 14\, 4800 Zofingen\n
LOCATION:Strengelbacherstrasse 14\, 4800 Zofingen
CATEGORIES:Saison 2025/26
END:VEVENT
BEGIN:VEVENT
DTSTAMP:20260424T135213Z
DTSTART;TZID=Europe/Berlin:20250909T194500
DTEND;TZID=Europe/Berlin:20250909T224500
SUMMARY:HE 3. Liga Gr. 3 Zofingen vs Olten IV (0)
UID:4029c400-6287-4cf5-924f-27015e95515a
STATUS:CONFIRMED
LAST-MODIFIED:20250911T111035Z
DESCRIPTION:3. Liga Herren Gruppe 3\nBegegnungs-Nr: 0\nHeim: Zofingen\nGast: Olten IV\n\nAdresse: Strengelbacherstrasse 14\, 4800 Zofingen\n
LOCATION:Strengelbacherstrasse 14\, 4800 Zofingen
CATEGORIES:Saison 2025/26
END:VEVENT
BEGIN:VEVENT
DTSTAMP:20260424T135213Z
DTSTART;TZID=Europe/Berlin:20251021T194500
DTEND;TZID=Europe/Berlin:20251021T224500
SUMMARY:HE 3. Liga Gr. 3 Zofingen vs Frick II (0)
UID:123db47f-a5e8-4771-9df0-afafd95de766
STATUS:CONFIRMED
LAST-MODIFIED:20251022T113937Z
DESCRIPTION:3. Liga Herren Gruppe 3\nBegegnungs-Nr: 0\nHeim: Zofingen\nGast: Frick II\n\nAdresse: Strengelbacherstrasse 14\, 4800 Zofingen\n
LOCATION:Strengelbacherstrasse 14\, 4800 Zofingen
CATEGORIES:Saison 2025/26
END:VEVENT
BEGIN:VEVENT
DTSTAMP:20260424T135213Z
DTSTART;TZID=Europe/Berlin:20251125T194500
DTEND;TZID=Europe/Berlin:20251125T224500
SUMMARY:HE 3. Liga Gr. 3 Zofingen vs Aarau II (0)
UID:751be637-f830-4373-8261-1125b645436a
STATUS:CONFIRMED
LAST-MODIFIED:20251127T135404Z
DESCRIPTION:3. Liga Herren Gruppe 3\nBegegnungs-Nr: 0\nHeim: Zofingen\nGast: Aarau II\n\nAdresse: Strengelbacherstrasse 14\, 4800 Zofingen\n
LOCATION:Strengelbacherstrasse 14\, 4800 Zofingen
CATEGORIES:Saison 2025/26
END:VEVENT
BEGIN:VEVENT
DTSTAMP:20260424T135213Z
DTSTART;TZID=Europe/Berlin:20260213T200000
DTEND;TZID=Europe/Berlin:20260213T230000
SUMMARY:HE 3. Liga Gr. 3 Frick II vs Zofingen (0)
UID:cabc6f40-3ea0-4f89-98f6-8e4ad2c12d3f
STATUS:CONFIRMED
LAST-MODIFIED:20260218T071259Z
DESCRIPTION:3. Liga Herren Gruppe 3\nBegegnungs-Nr: 0\nHeim: Frick II\nGast: Zofingen\n\nAdresse: Schulstrasse 51\, 5070 Frick\n
LOCATION:Schulstrasse 51\, 5070 Frick
CATEGORIES:Saison 2025/26
END:VEVENT
BEGIN:VEVENT
DTSTAMP:20260424T135213Z
DTSTART;TZID=Europe/Berlin:20260116T200000
DTEND;TZID=Europe/Berlin:20260116T230000
SUMMARY:HE 3. Liga Gr. 3 Olten IV vs Zofingen (0)
UID:66aaf335-e1a5-48d1-ae1b-171353144bff
STATUS:CONFIRMED
LAST-MODIFIED:20260123T081316Z
DESCRIPTION:3. Liga Herren Gruppe 3\nBegegnungs-Nr: 0\nHeim: Olten IV\nGast: Zofingen\n\nAdresse: Stockackerstrasse 17\, 5013 Niedergösgen\n
LOCATION:Stockackerstrasse 17\, 5013 Niedergösgen
CATEGORIES:Saison 2025/26
END:VEVENT
BEGIN:VEVENT
DTSTAMP:20260424T135213Z
DTSTART;TZID=Europe/Berlin:20260313T194500
DTEND;TZID=Europe/Berlin:20260313T224500
SUMMARY:HE 3. Liga Gr. 3 Aarau II vs Zofingen (0)
UID:fd60d40b-9462-420b-a5e6-4bdc087d5484
STATUS:CONFIRMED
LAST-MODIFIED:20260318T110002Z
DESCRIPTION:3. Liga Herren Gruppe 3\nBegegnungs-Nr: 0\nHeim: Aarau II\nGast: Zofingen\n\nAdresse: Weltistrasse 20\, 5000 Aarau\n
LOCATION:Weltistrasse 20\, 5000 Aarau
CATEGORIES:Saison 2025/26
END:VEVENT
BEGIN:VEVENT
DTSTAMP:20260424T135213Z
DTSTART;TZID=Europe/Berlin:20250829T193000
DTEND;TZID=Europe/Berlin:20250829T223000
SUMMARY:HE 3. Liga Gr. 3 Baden-Wettingen IV vs Zofingen (0)
UID:7ba57e25-c28e-4414-b79e-6bb5d2df1c6f
STATUS:CONFIRMED
LAST-MODIFIED:20250905T121045Z
DESCRIPTION:3. Liga Herren Gruppe 3\nBegegnungs-Nr: 0\nHeim: Baden-Wettingen IV\nGast: Zofingen\n\nAdresse: Schulstrasse 14\, 5430 Wettingen\n
LOCATION:Schulstrasse 14\, 5430 Wettingen
CATEGORIES:Saison 2025/26
END:VEVENT
BEGIN:VEVENT
DTSTAMP:20260424T135213Z
DTSTART;TZID=Europe/Berlin:20250919T200000
DTEND;TZID=Europe/Berlin:20250919T230000
SUMMARY:HE 3. Liga Gr. 3 Schöftland IV vs Zofingen (0)
UID:13f35618-e660-41ac-a8eb-4d50fe03376b
STATUS:CONFIRMED
LAST-MODIFIED:20250926T123441Z
DESCRIPTION:3. Liga Herren Gruppe 3\nBegegnungs-Nr: 0\nHeim: Schöftland IV\nGast: Zofingen\n\nAdresse: Birkenweg\, 5040 Schöftland\n
LOCATION:Birkenweg\, 5040 Schöftland
CATEGORIES:Saison 2025/26
END:VEVENT
BEGIN:VEVENT
DTSTAMP:20260424T135213Z
DTSTART;TZID=Europe/Berlin:20251028T194500
DTEND;TZID=Europe/Berlin:20251028T224500
SUMMARY:HE 3. Liga Gr. 3 Brugg II vs Zofingen (0)
UID:d89f673d-d0c7-475a-8b47-5528132ea4dd
STATUS:CONFIRMED
LAST-MODIFIED:20251029T100222Z
DESCRIPTION:3. Liga Herren Gruppe 3\nBegegnungs-Nr: 0\nHeim: Brugg II\nGast: Zofingen\n\nAdresse: Sommerhaldenstrasse 29\, 5200 Brugg/Lauffohr\n
LOCATION:Sommerhaldenstrasse 29\, 5200 Brugg/Lauffohr
CATEGORIES:Saison 2025/26
END:VEVENT
BEGIN:VEVENT
DTSTAMP:20260424T135213Z
DTSTART;TZID=Europe/Berlin:20251128T201500
DTEND;TZID=Europe/Berlin:20251128T231500
SUMMARY:HE 3. Liga Gr. 3 Bremgarten V vs Zofingen (0)
UID:9f2ec930-d478-4a55-ac34-43a8f56a108f
STATUS:CONFIRMED
LAST-MODIFIED:20251201T142137Z
DESCRIPTION:3. Liga Herren Gruppe 3\nBegegnungs-Nr: 0\nHeim: Bremgarten V\nGast: Zofingen\n\nAdresse: Badstrasse 3\, 5620 Bremgarten\n
LOCATION:Badstrasse 3\, 5620 Bremgarten
CATEGORIES:Saison 2025/26
END:VEVENT
END:VCALENDAR
