BEGIN:VCALENDAR
PRODID:-//nuDatenautomaten//framework iCal4j //DE
VERSION:2.0
CALSCALE:GREGORIAN
BEGIN:VTIMEZONE
TZID:Europe/Berlin
LAST-MODIFIED:20260306T231828Z
TZURL:https://www.tzurl.org/zoneinfo/Europe/Berlin
X-LIC-LOCATION:Europe/Berlin
X-PROLEPTIC-TZNAME:LMT
BEGIN:STANDARD
TZNAME:CET
TZOFFSETFROM:+005328
TZOFFSETTO:+0100
DTSTART:18930401T000000
END:STANDARD
BEGIN:DAYLIGHT
TZNAME:CEST
TZOFFSETFROM:+0100
TZOFFSETTO:+0200
DTSTART:19160430T230000
RDATE:19400401T020000
RDATE:19430329T020000
RDATE:19460414T020000
RDATE:19470406T030000
RDATE:19480418T020000
RDATE:19490410T020000
RDATE:19800406T020000
END:DAYLIGHT
BEGIN:STANDARD
TZNAME:CET
TZOFFSETFROM:+0200
TZOFFSETTO:+0100
DTSTART:19161001T010000
RDATE:19421102T030000
RDATE:19431004T030000
RDATE:19441002T030000
RDATE:19451118T030000
RDATE:19461007T030000
END:STANDARD
BEGIN:DAYLIGHT
TZNAME:CEST
TZOFFSETFROM:+0100
TZOFFSETTO:+0200
DTSTART:19170416T020000
RRULE:FREQ=YEARLY;UNTIL=19180415T010000Z;BYMONTH=4;BYDAY=3MO
END:DAYLIGHT
BEGIN:STANDARD
TZNAME:CET
TZOFFSETFROM:+0200
TZOFFSETTO:+0100
DTSTART:19170917T030000
RRULE:FREQ=YEARLY;UNTIL=19180916T010000Z;BYMONTH=9;BYDAY=3MO
END:STANDARD
BEGIN:DAYLIGHT
TZNAME:CEST
TZOFFSETFROM:+0100
TZOFFSETTO:+0200
DTSTART:19440403T020000
RRULE:FREQ=YEARLY;UNTIL=19450402T010000Z;BYMONTH=4;BYDAY=1MO
END:DAYLIGHT
BEGIN:DAYLIGHT
TZNAME:CEMT
TZOFFSETFROM:+0200
TZOFFSETTO:+0300
DTSTART:19450524T020000
RDATE:19470511T030000
END:DAYLIGHT
BEGIN:DAYLIGHT
TZNAME:CEST
TZOFFSETFROM:+0300
TZOFFSETTO:+0200
DTSTART:19450924T030000
RDATE:19470629T030000
END:DAYLIGHT
BEGIN:STANDARD
TZNAME:CET
TZOFFSETFROM:+0100
TZOFFSETTO:+0100
DTSTART:19460101T000000
RDATE:19800101T000000
END:STANDARD
BEGIN:STANDARD
TZNAME:CET
TZOFFSETFROM:+0200
TZOFFSETTO:+0100
DTSTART:19471005T030000
RRULE:FREQ=YEARLY;UNTIL=19491002T010000Z;BYMONTH=10;BYDAY=1SU
END:STANDARD
BEGIN:STANDARD
TZNAME:CET
TZOFFSETFROM:+0200
TZOFFSETTO:+0100
DTSTART:19800928T030000
RRULE:FREQ=YEARLY;UNTIL=19950924T010000Z;BYMONTH=9;BYDAY=-1SU
END:STANDARD
BEGIN:DAYLIGHT
TZNAME:CEST
TZOFFSETFROM:+0100
TZOFFSETTO:+0200
DTSTART:19810329T020000
RRULE:FREQ=YEARLY;BYMONTH=3;BYDAY=-1SU
END:DAYLIGHT
BEGIN:STANDARD
TZNAME:CET
TZOFFSETFROM:+0200
TZOFFSETTO:+0100
DTSTART:19961027T030000
RRULE:FREQ=YEARLY;BYMONTH=10;BYDAY=-1SU
END:STANDARD
END:VTIMEZONE
BEGIN:VEVENT
DTSTAMP:20260424T044416Z
DTSTART;TZID=Europe/Berlin:20260311T201500
DTEND;TZID=Europe/Berlin:20260311T231500
SUMMARY:O40 1. Liga Aarberg vs Köniz (23)
UID:a80a7ace-bb97-4e9a-8651-cad12385d220
STATUS:CONFIRMED
LAST-MODIFIED:20260315T230546Z
DESCRIPTION:1. Liga O40\nBegegnungs-Nr: 23\nHeim: Aarberg\nGast: Köniz\n\nAdresse: Nidaustrasse 7\, 3270 Aarberg\n
LOCATION:Nidaustrasse 7\, 3270 Aarberg
CATEGORIES:Saison 2025/26
END:VEVENT
BEGIN:VEVENT
DTSTAMP:20260424T044416Z
DTSTART;TZID=Europe/Berlin:20260211T201500
DTEND;TZID=Europe/Berlin:20260211T231500
SUMMARY:O40 1. Liga Aarberg vs Port (12)
UID:2bdd1ffb-5016-4ce3-908e-7b0fbb2b07a3
STATUS:CONFIRMED
LAST-MODIFIED:20260217T214729Z
DESCRIPTION:1. Liga O40\nBegegnungs-Nr: 12\nHeim: Aarberg\nGast: Port\n\nAdresse: Nidaustrasse 7\, 3270 Aarberg\n
LOCATION:Nidaustrasse 7\, 3270 Aarberg
CATEGORIES:Saison 2025/26
END:VEVENT
BEGIN:VEVENT
DTSTAMP:20260424T044416Z
DTSTART;TZID=Europe/Berlin:20260107T201500
DTEND;TZID=Europe/Berlin:20260107T231500
SUMMARY:O40 1. Liga Aarberg vs Heimberg (2)
UID:560e4ebf-930b-4989-8cca-c18e77fa144d
STATUS:CONFIRMED
LAST-MODIFIED:20260125T002723Z
DESCRIPTION:1. Liga O40\nBegegnungs-Nr: 2\nHeim: Aarberg\nGast: Heimberg\n\nAdresse: Nidaustrasse 7\, 3270 Aarberg\n
LOCATION:Nidaustrasse 7\, 3270 Aarberg
CATEGORIES:Saison 2025/26
END:VEVENT
BEGIN:VEVENT
DTSTAMP:20260424T044416Z
DTSTART;TZID=Europe/Berlin:20250917T201500
DTEND;TZID=Europe/Berlin:20250917T231500
SUMMARY:O40 1. Liga Aarberg vs Burgdorf (7)
UID:028e3826-adc5-4fb5-9a35-e909cb92d99e
STATUS:CONFIRMED
LAST-MODIFIED:20250918T140337Z
DESCRIPTION:1. Liga O40\nBegegnungs-Nr: 7\nHeim: Aarberg\nGast: Burgdorf\n\nAdresse: Nidaustrasse 7\, 3270 Aarberg\n
LOCATION:Nidaustrasse 7\, 3270 Aarberg
CATEGORIES:Saison 2025/26
END:VEVENT
BEGIN:VEVENT
DTSTAMP:20260424T044416Z
DTSTART;TZID=Europe/Berlin:20251219T194500
DTEND;TZID=Europe/Berlin:20251219T224500
SUMMARY:O40 1. Liga Aarberg vs Burgdorf II (27)
UID:086e6a2d-bb3f-49e7-8113-05a19e99237b
STATUS:CONFIRMED
LAST-MODIFIED:20251222T092009Z
DESCRIPTION:1. Liga O40\nBegegnungs-Nr: 27\nHeim: Aarberg\nGast: Burgdorf II\n\nAdresse: Nidaustrasse 7\, 3270 Aarberg\n
LOCATION:Nidaustrasse 7\, 3270 Aarberg
CATEGORIES:Saison 2025/26
END:VEVENT
BEGIN:VEVENT
DTSTAMP:20260424T044416Z
DTSTART;TZID=Europe/Berlin:20251205T194500
DTEND;TZID=Europe/Berlin:20251205T224500
SUMMARY:O40 1. Liga Aarberg vs Solothurn (19)
UID:5c5ed636-5fc9-48d9-a956-572c85cf39fc
STATUS:CONFIRMED
LAST-MODIFIED:20251207T181249Z
DESCRIPTION:1. Liga O40\nBegegnungs-Nr: 19\nHeim: Aarberg\nGast: Solothurn\n\nAdresse: Nidaustrasse 7\, 3270 Aarberg\n
LOCATION:Nidaustrasse 7\, 3270 Aarberg
CATEGORIES:Saison 2025/26
END:VEVENT
BEGIN:VEVENT
DTSTAMP:20260424T044416Z
DTSTART;TZID=Europe/Berlin:20251029T201500
DTEND;TZID=Europe/Berlin:20251029T231500
SUMMARY:O40 1. Liga Aarberg vs Bern (13)
UID:eab13136-18b8-4317-93a7-de76734b49a6
STATUS:CONFIRMED
LAST-MODIFIED:20251029T221557Z
DESCRIPTION:1. Liga O40\nBegegnungs-Nr: 13\nHeim: Aarberg\nGast: Bern\n\nAdresse: Nidaustrasse 7\, 3270 Aarberg\n
LOCATION:Nidaustrasse 7\, 3270 Aarberg
CATEGORIES:Saison 2025/26
END:VEVENT
BEGIN:VEVENT
DTSTAMP:20260424T044416Z
DTSTART;TZID=Europe/Berlin:20260327T193000
DTEND;TZID=Europe/Berlin:20260327T223000
SUMMARY:O40 1. Liga Burgdorf II vs Aarberg (27)
UID:64ea4961-0382-41ed-810f-795772a1e925
STATUS:CONFIRMED
LAST-MODIFIED:20260409T124037Z
DESCRIPTION:1. Liga O40\nBegegnungs-Nr: 27\nHeim: Burgdorf II\nGast: Aarberg\n\nAdresse: Pestalozzistrasse 69\, 3400 Burgdorf\n
LOCATION:Pestalozzistrasse 69\, 3400 Burgdorf
CATEGORIES:Saison 2025/26
END:VEVENT
BEGIN:VEVENT
DTSTAMP:20260424T044416Z
DTSTART;TZID=Europe/Berlin:20260220T200000
DTEND;TZID=Europe/Berlin:20260220T230000
SUMMARY:O40 1. Liga Solothurn vs Aarberg (19)
UID:f2f4cffd-a360-4e6d-8eb7-5b90a85d0ce8
STATUS:CONFIRMED
LAST-MODIFIED:20260224T075612Z
DESCRIPTION:1. Liga O40\nBegegnungs-Nr: 19\nHeim: Solothurn\nGast: Aarberg\n\nAdresse: Untere Sternengasse 24\, 4500 Solothurn\n
LOCATION:Untere Sternengasse 24\, 4500 Solothurn
CATEGORIES:Saison 2025/26
END:VEVENT
BEGIN:VEVENT
DTSTAMP:20260424T044416Z
DTSTART;TZID=Europe/Berlin:20260225T193000
DTEND;TZID=Europe/Berlin:20260225T223000
SUMMARY:O40 1. Liga Bern vs Aarberg (13)
UID:066fb326-7a3b-4b94-a5bd-5483f2054ecb
STATUS:CONFIRMED
LAST-MODIFIED:20260302T144940Z
DESCRIPTION:1. Liga O40\nBegegnungs-Nr: 13\nHeim: Bern\nGast: Aarberg\n\nAdresse: Papiermühlestrasse 81\, 3014 Bern\n
LOCATION:Papiermühlestrasse 81\, 3014 Bern
CATEGORIES:Saison 2025/26
END:VEVENT
BEGIN:VEVENT
DTSTAMP:20260424T044416Z
DTSTART;TZID=Europe/Berlin:20260124T140000
DTEND;TZID=Europe/Berlin:20260124T170000
SUMMARY:O40 1. Liga Burgdorf vs Aarberg (7)
UID:0b6b524e-048a-4936-92e0-97f5fb1cf474
STATUS:CONFIRMED
LAST-MODIFIED:20260217T214409Z
DESCRIPTION:1. Liga O40\nBegegnungs-Nr: 7\nHeim: Burgdorf\nGast: Aarberg\n\nAdresse: Pestalozzistrasse 69\, 3400 Burgdorf\n
LOCATION:Pestalozzistrasse 69\, 3400 Burgdorf
CATEGORIES:Saison 2025/26
END:VEVENT
BEGIN:VEVENT
DTSTAMP:20260424T044416Z
DTSTART;TZID=Europe/Berlin:20251124T200000
DTEND;TZID=Europe/Berlin:20251124T230000
SUMMARY:O40 1. Liga Köniz vs Aarberg (23)
UID:ae328582-630a-4f75-b63d-c59dbe94e5c7
STATUS:CONFIRMED
LAST-MODIFIED:20251207T174738Z
DESCRIPTION:1. Liga O40\nBegegnungs-Nr: 23\nHeim: Köniz\nGast: Aarberg\n\nAdresse: Kirchstrasse 72-76\, 3084 Wabern\n
LOCATION:Kirchstrasse 72-76\, 3084 Wabern
CATEGORIES:Saison 2025/26
END:VEVENT
BEGIN:VEVENT
DTSTAMP:20260424T044416Z
DTSTART;TZID=Europe/Berlin:20250901T193000
DTEND;TZID=Europe/Berlin:20250901T223000
SUMMARY:O40 1. Liga Heimberg vs Aarberg (2)
UID:a358ac76-73a9-47da-9a0d-efd920daf469
STATUS:CONFIRMED
LAST-MODIFIED:20250907T195153Z
DESCRIPTION:1. Liga O40\nBegegnungs-Nr: 2\nHeim: Heimberg\nGast: Aarberg\n\nAdresse: Schulhausstrasse 20\, 3672 Oberdiessbach\n
LOCATION:Schulhausstrasse 20\, 3672 Oberdiessbach
CATEGORIES:Saison 2025/26
END:VEVENT
BEGIN:VEVENT
DTSTAMP:20260424T044416Z
DTSTART;TZID=Europe/Berlin:20251014T194500
DTEND;TZID=Europe/Berlin:20251014T224500
SUMMARY:O40 1. Liga Port vs Aarberg (12)
UID:a9bb66a8-897e-4fd3-a42c-7ba9b4e9e69c
STATUS:CONFIRMED
LAST-MODIFIED:20251016T191114Z
DESCRIPTION:1. Liga O40\nBegegnungs-Nr: 12\nHeim: Port\nGast: Aarberg\n\nAdresse: Allmendstrasse 23\, 2562 Port\n
LOCATION:Allmendstrasse 23\, 2562 Port
CATEGORIES:Saison 2025/26
END:VEVENT
END:VCALENDAR
