BEGIN:VCALENDAR
PRODID:-//nuDatenautomaten//framework iCal4j //DE
VERSION:2.0
CALSCALE:GREGORIAN
BEGIN:VTIMEZONE
TZID:Europe/Berlin
LAST-MODIFIED:20260306T231828Z
TZURL:https://www.tzurl.org/zoneinfo/Europe/Berlin
X-LIC-LOCATION:Europe/Berlin
X-PROLEPTIC-TZNAME:LMT
BEGIN:STANDARD
TZNAME:CET
TZOFFSETFROM:+005328
TZOFFSETTO:+0100
DTSTART:18930401T000000
END:STANDARD
BEGIN:DAYLIGHT
TZNAME:CEST
TZOFFSETFROM:+0100
TZOFFSETTO:+0200
DTSTART:19160430T230000
RDATE:19400401T020000
RDATE:19430329T020000
RDATE:19460414T020000
RDATE:19470406T030000
RDATE:19480418T020000
RDATE:19490410T020000
RDATE:19800406T020000
END:DAYLIGHT
BEGIN:STANDARD
TZNAME:CET
TZOFFSETFROM:+0200
TZOFFSETTO:+0100
DTSTART:19161001T010000
RDATE:19421102T030000
RDATE:19431004T030000
RDATE:19441002T030000
RDATE:19451118T030000
RDATE:19461007T030000
END:STANDARD
BEGIN:DAYLIGHT
TZNAME:CEST
TZOFFSETFROM:+0100
TZOFFSETTO:+0200
DTSTART:19170416T020000
RRULE:FREQ=YEARLY;UNTIL=19180415T010000Z;BYMONTH=4;BYDAY=3MO
END:DAYLIGHT
BEGIN:STANDARD
TZNAME:CET
TZOFFSETFROM:+0200
TZOFFSETTO:+0100
DTSTART:19170917T030000
RRULE:FREQ=YEARLY;UNTIL=19180916T010000Z;BYMONTH=9;BYDAY=3MO
END:STANDARD
BEGIN:DAYLIGHT
TZNAME:CEST
TZOFFSETFROM:+0100
TZOFFSETTO:+0200
DTSTART:19440403T020000
RRULE:FREQ=YEARLY;UNTIL=19450402T010000Z;BYMONTH=4;BYDAY=1MO
END:DAYLIGHT
BEGIN:DAYLIGHT
TZNAME:CEMT
TZOFFSETFROM:+0200
TZOFFSETTO:+0300
DTSTART:19450524T020000
RDATE:19470511T030000
END:DAYLIGHT
BEGIN:DAYLIGHT
TZNAME:CEST
TZOFFSETFROM:+0300
TZOFFSETTO:+0200
DTSTART:19450924T030000
RDATE:19470629T030000
END:DAYLIGHT
BEGIN:STANDARD
TZNAME:CET
TZOFFSETFROM:+0100
TZOFFSETTO:+0100
DTSTART:19460101T000000
RDATE:19800101T000000
END:STANDARD
BEGIN:STANDARD
TZNAME:CET
TZOFFSETFROM:+0200
TZOFFSETTO:+0100
DTSTART:19471005T030000
RRULE:FREQ=YEARLY;UNTIL=19491002T010000Z;BYMONTH=10;BYDAY=1SU
END:STANDARD
BEGIN:STANDARD
TZNAME:CET
TZOFFSETFROM:+0200
TZOFFSETTO:+0100
DTSTART:19800928T030000
RRULE:FREQ=YEARLY;UNTIL=19950924T010000Z;BYMONTH=9;BYDAY=-1SU
END:STANDARD
BEGIN:DAYLIGHT
TZNAME:CEST
TZOFFSETFROM:+0100
TZOFFSETTO:+0200
DTSTART:19810329T020000
RRULE:FREQ=YEARLY;BYMONTH=3;BYDAY=-1SU
END:DAYLIGHT
BEGIN:STANDARD
TZNAME:CET
TZOFFSETFROM:+0200
TZOFFSETTO:+0100
DTSTART:19961027T030000
RRULE:FREQ=YEARLY;BYMONTH=10;BYDAY=-1SU
END:STANDARD
END:VTIMEZONE
BEGIN:VEVENT
DTSTAMP:20260424T062033Z
DTSTART;TZID=Europe/Berlin:20250830T130000
DTEND;TZID=Europe/Berlin:20250830T160000
SUMMARY:JUG\, 2.Li\, Gr.2\, VR Wädenswil vs Young Stars ZH II (2)
UID:2c27561f-800f-42b3-ab39-fa9555688946
STATUS:CONFIRMED
LAST-MODIFIED:20250902T094533Z
DESCRIPTION:Jugend\, 2. Liga\, Gruppe 2\, Vorrunde\nBegegnungs-Nr: 2\nHeim: Wädenswil\nGast: Young Stars ZH II\n\nAdresse: Fuhrstrasse 16b\, 8820 Wädenswil\n
LOCATION:Fuhrstrasse 16b\, 8820 Wädenswil
CATEGORIES:Saison 2025/26
END:VEVENT
BEGIN:VEVENT
DTSTAMP:20260424T062033Z
DTSTART;TZID=Europe/Berlin:20250830T160000
DTEND;TZID=Europe/Berlin:20250830T190000
SUMMARY:JUG\, 2.Li\, Gr.2\, VR Wädenswil vs Rapperswil-Jona (5)
UID:46c76373-ab42-4a0b-868f-1d6119cd7dbe
STATUS:CONFIRMED
LAST-MODIFIED:20250902T094618Z
DESCRIPTION:Jugend\, 2. Liga\, Gruppe 2\, Vorrunde\nBegegnungs-Nr: 5\nHeim: Wädenswil\nGast: Rapperswil-Jona\n\nAdresse: Fuhrstrasse 16b\, 8820 Wädenswil\n
LOCATION:Fuhrstrasse 16b\, 8820 Wädenswil
CATEGORIES:Saison 2025/26
END:VEVENT
BEGIN:VEVENT
DTSTAMP:20260424T062033Z
DTSTART;TZID=Europe/Berlin:20251115T160000
DTEND;TZID=Europe/Berlin:20251115T190000
SUMMARY:JUG\, 2.Li\, Gr.1\, ZR Wädenswil vs Wil SG (6)
UID:24fa00b1-9d4c-4d16-b18f-4764de7b4aba
STATUS:CONFIRMED
LAST-MODIFIED:20251121T095332Z
DESCRIPTION:Jugend\, 2. Liga\, Gruppe 1\, Zwischenrunde\nBegegnungs-Nr: 6\nHeim: Wädenswil\nGast: Wil SG\n\nAdresse: Fuhrstrasse 16b\, 8820 Wädenswil\n
LOCATION:Fuhrstrasse 16b\, 8820 Wädenswil
CATEGORIES:Saison 2025/26
END:VEVENT
BEGIN:VEVENT
DTSTAMP:20260424T062033Z
DTSTART;TZID=Europe/Berlin:20260328T143000
DTEND;TZID=Europe/Berlin:20260328T173000
SUMMARY:JUG\, 2.Li\, Gr.3\, Final Wädenswil vs Urdorf (3)
UID:a2ad6e92-3c11-47d0-80e9-b3cf1587a5c4
STATUS:CONFIRMED
LAST-MODIFIED:20260401T134016Z
DESCRIPTION:Jugend\, 2. Liga\, Gruppe 3\, Final\nBegegnungs-Nr: 3\nHeim: Wädenswil\nGast: Urdorf\n\nAdresse: Fuhrstrasse 16b\, 8820 Wädenswil\n
LOCATION:Fuhrstrasse 16b\, 8820 Wädenswil
CATEGORIES:Saison 2025/26
END:VEVENT
BEGIN:VEVENT
DTSTAMP:20260424T062033Z
DTSTART;TZID=Europe/Berlin:20250830T143000
DTEND;TZID=Europe/Berlin:20250830T173000
SUMMARY:JUG\, 2.Li\, Gr.2\, VR Uster II vs Wädenswil (4)
UID:ddbe0d5d-b12c-471b-81bd-53070371abf3
STATUS:CONFIRMED
LAST-MODIFIED:20250902T094606Z
DESCRIPTION:Jugend\, 2. Liga\, Gruppe 2\, Vorrunde\nBegegnungs-Nr: 4\nHeim: Uster II\nGast: Wädenswil\n\nAdresse: Wilstrasse 30 / Zürcherstrasse\, 8610 Uster\n
LOCATION:Wilstrasse 30 / Zürcherstrasse\, 8610 Uster
CATEGORIES:Saison 2025/26
END:VEVENT
BEGIN:VEVENT
DTSTAMP:20260424T062033Z
DTSTART;TZID=Europe/Berlin:20251115T143000
DTEND;TZID=Europe/Berlin:20251115T173000
SUMMARY:JUG\, 2.Li\, Gr.1\, ZR Bülach vs Wädenswil (3)
UID:648f4fb2-3dc9-4cf5-92b1-d3db4ce8b20b
STATUS:CONFIRMED
LAST-MODIFIED:20251124T150533Z
DESCRIPTION:Jugend\, 2. Liga\, Gruppe 1\, Zwischenrunde\nBegegnungs-Nr: 3\nHeim: Bülach\nGast: Wädenswil\n\nAdresse: Schwerzgruebstrasse 28\, 8180 Bülach\n
LOCATION:Schwerzgruebstrasse 28\, 8180 Bülach
CATEGORIES:Saison 2025/26
END:VEVENT
BEGIN:VEVENT
DTSTAMP:20260424T062033Z
DTSTART;TZID=Europe/Berlin:20251115T130000
DTEND;TZID=Europe/Berlin:20251115T160000
SUMMARY:JUG\, 2.Li\, Gr.1\, ZR Affoltern A/A vs Wädenswil (2)
UID:1ee2396c-fbb3-48a7-8ff5-a7f14fb69124
STATUS:CONFIRMED
LAST-MODIFIED:20251124T150522Z
DESCRIPTION:Jugend\, 2. Liga\, Gruppe 1\, Zwischenrunde\nBegegnungs-Nr: 2\nHeim: Affoltern A/A\nGast: Wädenswil\n\nAdresse: Butzenstrasse 8\, 8910 Affoltern am Albis\n
LOCATION:Butzenstrasse 8\, 8910 Affoltern am Albis
CATEGORIES:Saison 2025/26
END:VEVENT
BEGIN:VEVENT
DTSTAMP:20260424T062033Z
DTSTART;TZID=Europe/Berlin:20260328T160000
DTEND;TZID=Europe/Berlin:20260328T190000
SUMMARY:JUG\, 2.Li\, Gr.3\, Final St. Gallen II vs Wädenswil (5)
UID:99f89e8a-7c45-473f-ad3e-b215062e9f85
STATUS:CONFIRMED
LAST-MODIFIED:20260401T134118Z
DESCRIPTION:Jugend\, 2. Liga\, Gruppe 3\, Final\nBegegnungs-Nr: 5\nHeim: St. Gallen II\nGast: Wädenswil\n\nAdresse: Zilstrasse 61\, 9016 St.Gallen\n
LOCATION:Zilstrasse 61\, 9016 St.Gallen
CATEGORIES:Saison 2025/26
END:VEVENT
BEGIN:VEVENT
DTSTAMP:20260424T062033Z
DTSTART;TZID=Europe/Berlin:20260328T130000
DTEND;TZID=Europe/Berlin:20260328T160000
SUMMARY:JUG\, 2.Li\, Gr.3\, Final Bülach vs Wädenswil (1)
UID:d23f6dee-5d20-4895-a13a-1f98940685bc
STATUS:CONFIRMED
LAST-MODIFIED:20260401T133959Z
DESCRIPTION:Jugend\, 2. Liga\, Gruppe 3\, Final\nBegegnungs-Nr: 1\nHeim: Bülach\nGast: Wädenswil\nHalle: Poule in Bülach\, Berufsschule\nAdresse: Schwerzgruebstrasse 28\, 8180 Bülach\n
LOCATION:Poule in Bülach\, Berufsschule Schwerzgruebstrasse 28\, 8180 Bülach
CATEGORIES:Saison 2025/26
END:VEVENT
END:VCALENDAR
