BEGIN:VCALENDAR
PRODID:-//nuDatenautomaten//framework iCal4j //DE
VERSION:2.0
CALSCALE:GREGORIAN
BEGIN:VTIMEZONE
TZID:Europe/Berlin
LAST-MODIFIED:20260306T231828Z
TZURL:https://www.tzurl.org/zoneinfo/Europe/Berlin
X-LIC-LOCATION:Europe/Berlin
X-PROLEPTIC-TZNAME:LMT
BEGIN:STANDARD
TZNAME:CET
TZOFFSETFROM:+005328
TZOFFSETTO:+0100
DTSTART:18930401T000000
END:STANDARD
BEGIN:DAYLIGHT
TZNAME:CEST
TZOFFSETFROM:+0100
TZOFFSETTO:+0200
DTSTART:19160430T230000
RDATE:19400401T020000
RDATE:19430329T020000
RDATE:19460414T020000
RDATE:19470406T030000
RDATE:19480418T020000
RDATE:19490410T020000
RDATE:19800406T020000
END:DAYLIGHT
BEGIN:STANDARD
TZNAME:CET
TZOFFSETFROM:+0200
TZOFFSETTO:+0100
DTSTART:19161001T010000
RDATE:19421102T030000
RDATE:19431004T030000
RDATE:19441002T030000
RDATE:19451118T030000
RDATE:19461007T030000
END:STANDARD
BEGIN:DAYLIGHT
TZNAME:CEST
TZOFFSETFROM:+0100
TZOFFSETTO:+0200
DTSTART:19170416T020000
RRULE:FREQ=YEARLY;UNTIL=19180415T010000Z;BYMONTH=4;BYDAY=3MO
END:DAYLIGHT
BEGIN:STANDARD
TZNAME:CET
TZOFFSETFROM:+0200
TZOFFSETTO:+0100
DTSTART:19170917T030000
RRULE:FREQ=YEARLY;UNTIL=19180916T010000Z;BYMONTH=9;BYDAY=3MO
END:STANDARD
BEGIN:DAYLIGHT
TZNAME:CEST
TZOFFSETFROM:+0100
TZOFFSETTO:+0200
DTSTART:19440403T020000
RRULE:FREQ=YEARLY;UNTIL=19450402T010000Z;BYMONTH=4;BYDAY=1MO
END:DAYLIGHT
BEGIN:DAYLIGHT
TZNAME:CEMT
TZOFFSETFROM:+0200
TZOFFSETTO:+0300
DTSTART:19450524T020000
RDATE:19470511T030000
END:DAYLIGHT
BEGIN:DAYLIGHT
TZNAME:CEST
TZOFFSETFROM:+0300
TZOFFSETTO:+0200
DTSTART:19450924T030000
RDATE:19470629T030000
END:DAYLIGHT
BEGIN:STANDARD
TZNAME:CET
TZOFFSETFROM:+0100
TZOFFSETTO:+0100
DTSTART:19460101T000000
RDATE:19800101T000000
END:STANDARD
BEGIN:STANDARD
TZNAME:CET
TZOFFSETFROM:+0200
TZOFFSETTO:+0100
DTSTART:19471005T030000
RRULE:FREQ=YEARLY;UNTIL=19491002T010000Z;BYMONTH=10;BYDAY=1SU
END:STANDARD
BEGIN:STANDARD
TZNAME:CET
TZOFFSETFROM:+0200
TZOFFSETTO:+0100
DTSTART:19800928T030000
RRULE:FREQ=YEARLY;UNTIL=19950924T010000Z;BYMONTH=9;BYDAY=-1SU
END:STANDARD
BEGIN:DAYLIGHT
TZNAME:CEST
TZOFFSETFROM:+0100
TZOFFSETTO:+0200
DTSTART:19810329T020000
RRULE:FREQ=YEARLY;BYMONTH=3;BYDAY=-1SU
END:DAYLIGHT
BEGIN:STANDARD
TZNAME:CET
TZOFFSETFROM:+0200
TZOFFSETTO:+0100
DTSTART:19961027T030000
RRULE:FREQ=YEARLY;BYMONTH=10;BYDAY=-1SU
END:STANDARD
END:VTIMEZONE
BEGIN:VEVENT
DTSTAMP:20260424T115057Z
DTSTART;TZID=Europe/Berlin:20250916T201500
DTEND;TZID=Europe/Berlin:20250916T231500
SUMMARY:ME L6 Gr 9\, Tours 1&2 Orbe II vs Yverdon VII (0)
UID:e72c11bd-f4f4-44d8-a08f-2c75119a9f62
STATUS:CONFIRMED
LAST-MODIFIED:20250916T221113Z
DESCRIPTION:6ème ligue Hommes Groupe 9\, Tours 1&2\nBegegnungs-Nr: 0\nHeim: Orbe II\nGast: Yverdon VII\n\nAdresse: Rue du Suchet\, 1350 Orbe\n
LOCATION:Rue du Suchet\, 1350 Orbe
CATEGORIES:Saison 2025/26
END:VEVENT
BEGIN:VEVENT
DTSTAMP:20260424T115057Z
DTSTART;TZID=Europe/Berlin:20251007T201500
DTEND;TZID=Europe/Berlin:20251007T231500
SUMMARY:ME L6 Gr 9\, Tours 1&2 Orbe II vs Estavayer II (0)
UID:d9d3d790-934c-4143-b2c7-d9eb52310571
STATUS:CONFIRMED
LAST-MODIFIED:20251008T092900Z
DESCRIPTION:6ème ligue Hommes Groupe 9\, Tours 1&2\nBegegnungs-Nr: 0\nHeim: Orbe II\nGast: Estavayer II\n\nAdresse: Rue du Suchet\, 1350 Orbe\n
LOCATION:Rue du Suchet\, 1350 Orbe
CATEGORIES:Saison 2025/26
END:VEVENT
BEGIN:VEVENT
DTSTAMP:20260424T115057Z
DTSTART;TZID=Europe/Berlin:20251104T201500
DTEND;TZID=Europe/Berlin:20251104T231500
SUMMARY:ME L6 Gr 9\, Tours 1&2 Orbe II vs Sainte-Croix II (0)
UID:98770262-58a8-4e12-b0f3-7082d7cf5fdc
STATUS:CONFIRMED
LAST-MODIFIED:20251104T233710Z
DESCRIPTION:6ème ligue Hommes Groupe 9\, Tours 1&2\nBegegnungs-Nr: 0\nHeim: Orbe II\nGast: Sainte-Croix II\n\nAdresse: Rue du Suchet\, 1350 Orbe\n
LOCATION:Rue du Suchet\, 1350 Orbe
CATEGORIES:Saison 2025/26
END:VEVENT
BEGIN:VEVENT
DTSTAMP:20260424T115057Z
DTSTART;TZID=Europe/Berlin:20251125T201500
DTEND;TZID=Europe/Berlin:20251125T231500
SUMMARY:ME L6 Gr 9\, Tours 1&2 Orbe II vs Yverdon VIII (0)
UID:97dab809-c81e-4ccb-aa53-3dcb0333f76d
STATUS:CONFIRMED
LAST-MODIFIED:20251126T124856Z
DESCRIPTION:6ème ligue Hommes Groupe 9\, Tours 1&2\nBegegnungs-Nr: 0\nHeim: Orbe II\nGast: Yverdon VIII\n\nAdresse: Rue du Suchet\, 1350 Orbe\n
LOCATION:Rue du Suchet\, 1350 Orbe
CATEGORIES:Saison 2025/26
END:VEVENT
BEGIN:VEVENT
DTSTAMP:20260424T115057Z
DTSTART;TZID=Europe/Berlin:20250902T201500
DTEND;TZID=Europe/Berlin:20250902T231500
SUMMARY:ME L6 Gr 9\, Tours 1&2 Orbe II vs Yvonand (0)
UID:a24f294a-e1da-4113-9627-4fc3a88f5545
STATUS:CONFIRMED
LAST-MODIFIED:20250903T215226Z
DESCRIPTION:6ème ligue Hommes Groupe 9\, Tours 1&2\nBegegnungs-Nr: 0\nHeim: Orbe II\nGast: Yvonand\n\nAdresse: Rue du Suchet\, 1350 Orbe\n
LOCATION:Rue du Suchet\, 1350 Orbe
CATEGORIES:Saison 2025/26
END:VEVENT
BEGIN:VEVENT
DTSTAMP:20260424T115057Z
DTSTART;TZID=Europe/Berlin:20260113T201500
DTEND;TZID=Europe/Berlin:20260113T231500
SUMMARY:ME L5 Gr 4\, Tours 3&4 Orbe II vs Ependes II (0)
UID:0ad3fdda-7c9a-4477-85d7-4201e7c05852
STATUS:CONFIRMED
LAST-MODIFIED:20260113T231504Z
DESCRIPTION:5ème ligue Hommes Groupe 4\, Tours 3&4\nBegegnungs-Nr: 0\nHeim: Orbe II\nGast: Ependes II\n\nAdresse: Rue du Suchet\, 1350 Orbe\n
LOCATION:Rue du Suchet\, 1350 Orbe
CATEGORIES:Saison 2025/26
END:VEVENT
BEGIN:VEVENT
DTSTAMP:20260424T115057Z
DTSTART;TZID=Europe/Berlin:20260203T201500
DTEND;TZID=Europe/Berlin:20260203T231500
SUMMARY:ME L5 Gr 4\, Tours 3&4 Orbe II vs Avry-Rosé V (0)
UID:e78d398f-427b-4b17-9f3c-447de578571c
STATUS:CONFIRMED
LAST-MODIFIED:20260204T000008Z
DESCRIPTION:5ème ligue Hommes Groupe 4\, Tours 3&4\nBegegnungs-Nr: 0\nHeim: Orbe II\nGast: Avry-Rosé V\n\nAdresse: Rue du Suchet\, 1350 Orbe\n
LOCATION:Rue du Suchet\, 1350 Orbe
CATEGORIES:Saison 2025/26
END:VEVENT
BEGIN:VEVENT
DTSTAMP:20260424T115057Z
DTSTART;TZID=Europe/Berlin:20260317T201500
DTEND;TZID=Europe/Berlin:20260317T231500
SUMMARY:ME L5 Gr 4\, Tours 3&4 Orbe II vs Yverdon V (0)
UID:66587c22-e12c-4dc2-a051-8c35f22f0c14
STATUS:CONFIRMED
LAST-MODIFIED:20260318T000116Z
DESCRIPTION:5ème ligue Hommes Groupe 4\, Tours 3&4\nBegegnungs-Nr: 0\nHeim: Orbe II\nGast: Yverdon V\n\nAdresse: Rue du Suchet\, 1350 Orbe\n
LOCATION:Rue du Suchet\, 1350 Orbe
CATEGORIES:Saison 2025/26
END:VEVENT
BEGIN:VEVENT
DTSTAMP:20260424T115057Z
DTSTART;TZID=Europe/Berlin:20260421T201500
DTEND;TZID=Europe/Berlin:20260421T231500
SUMMARY:ME L5 Gr 4\, Tours 3&4 Orbe II vs Sainte-Croix (0)
UID:98019dda-2e3b-4673-a9f6-e1e460f655bb
STATUS:CONFIRMED
LAST-MODIFIED:20260423T075654Z
DESCRIPTION:5ème ligue Hommes Groupe 4\, Tours 3&4\nBegegnungs-Nr: 0\nHeim: Orbe II\nGast: Sainte-Croix\n\nAdresse: Rue du Suchet\, 1350 Orbe\n
LOCATION:Rue du Suchet\, 1350 Orbe
CATEGORIES:Saison 2025/26
END:VEVENT
BEGIN:VEVENT
DTSTAMP:20260424T115057Z
DTSTART;TZID=Europe/Berlin:20260428T201500
DTEND;TZID=Europe/Berlin:20260428T231500
SUMMARY:ME L5 Gr 4\, Tours 3&4 Orbe II vs Yverdon IV (0)
UID:955d992d-d454-4083-a4a8-1d81593cce27
STATUS:CONFIRMED
DESCRIPTION:5ème ligue Hommes Groupe 4\, Tours 3&4\nBegegnungs-Nr: 0\nHeim: Orbe II\nGast: Yverdon IV\n\nAdresse: Rue du Suchet\, 1350 Orbe\n
LOCATION:Rue du Suchet\, 1350 Orbe
CATEGORIES:Saison 2025/26
END:VEVENT
BEGIN:VEVENT
DTSTAMP:20260424T115057Z
DTSTART;TZID=Europe/Berlin:20251003T201500
DTEND;TZID=Europe/Berlin:20251003T231500
SUMMARY:ME L6 Gr 9\, Tours 1&2 Yverdon VIII vs Orbe II (0)
UID:e0efbff4-7c41-4ba9-b11d-3fa2be75f797
STATUS:CONFIRMED
LAST-MODIFIED:20251005T181901Z
DESCRIPTION:6ème ligue Hommes Groupe 9\, Tours 1&2\nBegegnungs-Nr: 0\nHeim: Yverdon VIII\nGast: Orbe II\n\nAdresse: Avenue des Quatre Marroniers 1\, 1400 Yverdon-les-Bains\n
LOCATION:Avenue des Quatre Marroniers 1\, 1400 Yverdon-les-Bains
CATEGORIES:Saison 2025/26
END:VEVENT
BEGIN:VEVENT
DTSTAMP:20260424T115057Z
DTSTART;TZID=Europe/Berlin:20251029T193000
DTEND;TZID=Europe/Berlin:20251029T223000
SUMMARY:ME L6 Gr 9\, Tours 1&2 Yvonand vs Orbe II (0)
UID:ae4f8ea5-cef7-4ee3-bc2c-d3031e0fee07
STATUS:CONFIRMED
LAST-MODIFIED:20251101T154533Z
DESCRIPTION:6ème ligue Hommes Groupe 9\, Tours 1&2\nBegegnungs-Nr: 0\nHeim: Yvonand\nGast: Orbe II\n\nAdresse: Salle de rythmique\, 1462 Yvonand\n
LOCATION:Salle de rythmique\, 1462 Yvonand
CATEGORIES:Saison 2025/26
END:VEVENT
BEGIN:VEVENT
DTSTAMP:20260424T115057Z
DTSTART;TZID=Europe/Berlin:20251121T201500
DTEND;TZID=Europe/Berlin:20251121T231500
SUMMARY:ME L6 Gr 9\, Tours 1&2 Yverdon VII vs Orbe II (0)
UID:f5b03935-a2e6-4e19-bbb7-bdc28f35ae88
STATUS:CONFIRMED
LAST-MODIFIED:20251125T150658Z
DESCRIPTION:6ème ligue Hommes Groupe 9\, Tours 1&2\nBegegnungs-Nr: 0\nHeim: Yverdon VII\nGast: Orbe II\n\nAdresse: Avenue des Quatre Marroniers 1\, 1400 Yverdon-les-Bains\n
LOCATION:Avenue des Quatre Marroniers 1\, 1400 Yverdon-les-Bains
CATEGORIES:Saison 2025/26
END:VEVENT
BEGIN:VEVENT
DTSTAMP:20260424T115057Z
DTSTART;TZID=Europe/Berlin:20251212T193000
DTEND;TZID=Europe/Berlin:20251212T223000
SUMMARY:ME L6 Gr 9\, Tours 1&2 Estavayer II vs Orbe II (0)
UID:a2b97647-ff64-4a79-82ab-69972485c6ca
STATUS:CONFIRMED
LAST-MODIFIED:20251213T095259Z
DESCRIPTION:6ème ligue Hommes Groupe 9\, Tours 1&2\nBegegnungs-Nr: 0\nHeim: Estavayer II\nGast: Orbe II\n\nAdresse: Avenue de la Gare 111\, 1470 Estavayer-le-Lac\n
LOCATION:Avenue de la Gare 111\, 1470 Estavayer-le-Lac
CATEGORIES:Saison 2025/26
END:VEVENT
BEGIN:VEVENT
DTSTAMP:20260424T115057Z
DTSTART;TZID=Europe/Berlin:20250908T200000
DTEND;TZID=Europe/Berlin:20250908T230000
SUMMARY:ME L6 Gr 9\, Tours 1&2 Sainte-Croix II vs Orbe II (0)
UID:af7d7230-c2d8-4f03-b99a-a274492f2d63
STATUS:CONFIRMED
LAST-MODIFIED:20250910T231356Z
DESCRIPTION:6ème ligue Hommes Groupe 9\, Tours 1&2\nBegegnungs-Nr: 0\nHeim: Sainte-Croix II\nGast: Orbe II\n\nAdresse: Av. de la Gare 23\, 1450 Sainte-Croix\n
LOCATION:Av. de la Gare 23\, 1450 Sainte-Croix
CATEGORIES:Saison 2025/26
END:VEVENT
BEGIN:VEVENT
DTSTAMP:20260424T115057Z
DTSTART;TZID=Europe/Berlin:20260121T201500
DTEND;TZID=Europe/Berlin:20260121T231500
SUMMARY:ME L5 Gr 4\, Tours 3&4 Yverdon V vs Orbe II (0)
UID:ec6bd5f5-9350-45f1-be73-af1041b217d0
STATUS:CONFIRMED
LAST-MODIFIED:20260122T225234Z
DESCRIPTION:5ème ligue Hommes Groupe 4\, Tours 3&4\nBegegnungs-Nr: 0\nHeim: Yverdon V\nGast: Orbe II\n\nAdresse: Avenue des Quatre Marroniers 1\, 1400 Yverdon-les-Bains\n
LOCATION:Avenue des Quatre Marroniers 1\, 1400 Yverdon-les-Bains
CATEGORIES:Saison 2025/26
END:VEVENT
BEGIN:VEVENT
DTSTAMP:20260424T115057Z
DTSTART;TZID=Europe/Berlin:20260209T200000
DTEND;TZID=Europe/Berlin:20260209T230000
SUMMARY:ME L5 Gr 4\, Tours 3&4 Sainte-Croix vs Orbe II (0)
UID:a29990bd-ebd0-4fba-a25b-e7e455d1d27a
STATUS:CONFIRMED
LAST-MODIFIED:20260210T011105Z
DESCRIPTION:5ème ligue Hommes Groupe 4\, Tours 3&4\nBegegnungs-Nr: 0\nHeim: Sainte-Croix\nGast: Orbe II\n\nAdresse: Av. de la Gare 23\, 1450 Sainte-Croix\n
LOCATION:Av. de la Gare 23\, 1450 Sainte-Croix
CATEGORIES:Saison 2025/26
END:VEVENT
BEGIN:VEVENT
DTSTAMP:20260424T115057Z
DTSTART;TZID=Europe/Berlin:20260225T201500
DTEND;TZID=Europe/Berlin:20260225T231500
SUMMARY:ME L5 Gr 4\, Tours 3&4 Yverdon IV vs Orbe II (0)
UID:6b392aca-3ebd-44dd-bb62-c73a530dcfba
STATUS:CONFIRMED
LAST-MODIFIED:20260227T102251Z
DESCRIPTION:5ème ligue Hommes Groupe 4\, Tours 3&4\nBegegnungs-Nr: 0\nHeim: Yverdon IV\nGast: Orbe II\n\nAdresse: Avenue des Quatre Marroniers 1\, 1400 Yverdon-les-Bains\n
LOCATION:Avenue des Quatre Marroniers 1\, 1400 Yverdon-les-Bains
CATEGORIES:Saison 2025/26
END:VEVENT
BEGIN:VEVENT
DTSTAMP:20260424T115057Z
DTSTART;TZID=Europe/Berlin:20260311T194500
DTEND;TZID=Europe/Berlin:20260311T224500
SUMMARY:ME L5 Gr 4\, Tours 3&4 Ependes II vs Orbe II (0)
UID:c14fdf89-07fb-4563-b233-36f256cdb521
STATUS:CONFIRMED
LAST-MODIFIED:20260312T134149Z
DESCRIPTION:5ème ligue Hommes Groupe 4\, Tours 3&4\nBegegnungs-Nr: 0\nHeim: Ependes II\nGast: Orbe II\n\nAdresse: -\, 1731 Ependes FR\n
LOCATION:-\, 1731 Ependes FR
CATEGORIES:Saison 2025/26
END:VEVENT
BEGIN:VEVENT
DTSTAMP:20260424T115057Z
DTSTART;TZID=Europe/Berlin:20260331T200000
DTEND;TZID=Europe/Berlin:20260331T230000
SUMMARY:ME L5 Gr 4\, Tours 3&4 Avry-Rosé V vs Orbe II (0)
UID:6b308b70-e3b3-44c6-960a-1670e894c0fd
STATUS:CONFIRMED
LAST-MODIFIED:20260401T092446Z
DESCRIPTION:5ème ligue Hommes Groupe 4\, Tours 3&4\nBegegnungs-Nr: 0\nHeim: Avry-Rosé V\nGast: Orbe II\n\nAdresse: Route du Château 15\, 1754 Avry-sur-Matran\n
LOCATION:Route du Château 15\, 1754 Avry-sur-Matran
CATEGORIES:Saison 2025/26
END:VEVENT
END:VCALENDAR
