BEGIN:VCALENDAR
PRODID:-//nuDatenautomaten//framework iCal4j //DE
VERSION:2.0
CALSCALE:GREGORIAN
BEGIN:VTIMEZONE
TZID:Europe/Berlin
LAST-MODIFIED:20260306T231828Z
TZURL:https://www.tzurl.org/zoneinfo/Europe/Berlin
X-LIC-LOCATION:Europe/Berlin
X-PROLEPTIC-TZNAME:LMT
BEGIN:STANDARD
TZNAME:CET
TZOFFSETFROM:+005328
TZOFFSETTO:+0100
DTSTART:18930401T000000
END:STANDARD
BEGIN:DAYLIGHT
TZNAME:CEST
TZOFFSETFROM:+0100
TZOFFSETTO:+0200
DTSTART:19160430T230000
RDATE:19400401T020000
RDATE:19430329T020000
RDATE:19460414T020000
RDATE:19470406T030000
RDATE:19480418T020000
RDATE:19490410T020000
RDATE:19800406T020000
END:DAYLIGHT
BEGIN:STANDARD
TZNAME:CET
TZOFFSETFROM:+0200
TZOFFSETTO:+0100
DTSTART:19161001T010000
RDATE:19421102T030000
RDATE:19431004T030000
RDATE:19441002T030000
RDATE:19451118T030000
RDATE:19461007T030000
END:STANDARD
BEGIN:DAYLIGHT
TZNAME:CEST
TZOFFSETFROM:+0100
TZOFFSETTO:+0200
DTSTART:19170416T020000
RRULE:FREQ=YEARLY;UNTIL=19180415T010000Z;BYMONTH=4;BYDAY=3MO
END:DAYLIGHT
BEGIN:STANDARD
TZNAME:CET
TZOFFSETFROM:+0200
TZOFFSETTO:+0100
DTSTART:19170917T030000
RRULE:FREQ=YEARLY;UNTIL=19180916T010000Z;BYMONTH=9;BYDAY=3MO
END:STANDARD
BEGIN:DAYLIGHT
TZNAME:CEST
TZOFFSETFROM:+0100
TZOFFSETTO:+0200
DTSTART:19440403T020000
RRULE:FREQ=YEARLY;UNTIL=19450402T010000Z;BYMONTH=4;BYDAY=1MO
END:DAYLIGHT
BEGIN:DAYLIGHT
TZNAME:CEMT
TZOFFSETFROM:+0200
TZOFFSETTO:+0300
DTSTART:19450524T020000
RDATE:19470511T030000
END:DAYLIGHT
BEGIN:DAYLIGHT
TZNAME:CEST
TZOFFSETFROM:+0300
TZOFFSETTO:+0200
DTSTART:19450924T030000
RDATE:19470629T030000
END:DAYLIGHT
BEGIN:STANDARD
TZNAME:CET
TZOFFSETFROM:+0100
TZOFFSETTO:+0100
DTSTART:19460101T000000
RDATE:19800101T000000
END:STANDARD
BEGIN:STANDARD
TZNAME:CET
TZOFFSETFROM:+0200
TZOFFSETTO:+0100
DTSTART:19471005T030000
RRULE:FREQ=YEARLY;UNTIL=19491002T010000Z;BYMONTH=10;BYDAY=1SU
END:STANDARD
BEGIN:STANDARD
TZNAME:CET
TZOFFSETFROM:+0200
TZOFFSETTO:+0100
DTSTART:19800928T030000
RRULE:FREQ=YEARLY;UNTIL=19950924T010000Z;BYMONTH=9;BYDAY=-1SU
END:STANDARD
BEGIN:DAYLIGHT
TZNAME:CEST
TZOFFSETFROM:+0100
TZOFFSETTO:+0200
DTSTART:19810329T020000
RRULE:FREQ=YEARLY;BYMONTH=3;BYDAY=-1SU
END:DAYLIGHT
BEGIN:STANDARD
TZNAME:CET
TZOFFSETFROM:+0200
TZOFFSETTO:+0100
DTSTART:19961027T030000
RRULE:FREQ=YEARLY;BYMONTH=10;BYDAY=-1SU
END:STANDARD
END:VTIMEZONE
BEGIN:VEVENT
DTSTAMP:20260424T114928Z
DTSTART;TZID=Europe/Berlin:20251104T194500
DTEND;TZID=Europe/Berlin:20251104T224500
SUMMARY:Ligue 2 Gr.2 Meyrin vs Onex II (8)
UID:068bae68-0d46-4ebe-8a68-0456406f434c
STATUS:CONFIRMED
LAST-MODIFIED:20251105T231513Z
DESCRIPTION:2ème ligue O40 2ème groupe\nBegegnungs-Nr: 8\nHeim: Meyrin\nGast: Onex II\n
LOCATION:
CATEGORIES:Saison 2025/26
END:VEVENT
BEGIN:VEVENT
DTSTAMP:20260424T114928Z
DTSTART;TZID=Europe/Berlin:20260505T194500
DTEND;TZID=Europe/Berlin:20260505T224500
SUMMARY:Ligue 2 Gr.2 Meyrin vs ZZ-Lancy II (28)
UID:5549ada0-ced7-4d51-bd2c-5abc75393f08
STATUS:CONFIRMED
DESCRIPTION:2ème ligue O40 2ème groupe\nBegegnungs-Nr: 28\nHeim: Meyrin\nGast: ZZ-Lancy II\n
LOCATION:
CATEGORIES:Saison 2025/26
END:VEVENT
BEGIN:VEVENT
DTSTAMP:20260424T114928Z
DTSTART;TZID=Europe/Berlin:20260203T194500
DTEND;TZID=Europe/Berlin:20260203T224500
SUMMARY:Ligue 2 Gr.2 Meyrin vs Carouge II (20)
UID:682a8128-b51d-4e6a-8073-ef2bd901f319
STATUS:CONFIRMED
LAST-MODIFIED:20260204T190946Z
DESCRIPTION:2ème ligue O40 2ème groupe\nBegegnungs-Nr: 20\nHeim: Meyrin\nGast: Carouge II\n
LOCATION:
CATEGORIES:Saison 2025/26
END:VEVENT
BEGIN:VEVENT
DTSTAMP:20260424T114928Z
DTSTART;TZID=Europe/Berlin:20250909T194500
DTEND;TZID=Europe/Berlin:20250909T224500
SUMMARY:Ligue 2 Gr.2 Meyrin vs UGS-Chênois II (2)
UID:f0847caf-33ac-443f-9a03-223a7738b599
STATUS:CONFIRMED
LAST-MODIFIED:20250909T160008Z
DESCRIPTION:2ème ligue O40 2ème groupe\nBegegnungs-Nr: 2\nHeim: Meyrin\nGast: UGS-Chênois II\n
LOCATION:
CATEGORIES:Saison 2025/26
END:VEVENT
BEGIN:VEVENT
DTSTAMP:20260424T114928Z
DTSTART;TZID=Europe/Berlin:20251209T194500
DTEND;TZID=Europe/Berlin:20251209T224500
SUMMARY:Ligue 2 Gr.2 Meyrin vs Mandement II (12)
UID:bbbb7651-a7c9-49df-b38e-e55c4068aba7
STATUS:CONFIRMED
LAST-MODIFIED:20251210T151138Z
DESCRIPTION:2ème ligue O40 2ème groupe\nBegegnungs-Nr: 12\nHeim: Meyrin\nGast: Mandement II\n
LOCATION:
CATEGORIES:Saison 2025/26
END:VEVENT
BEGIN:VEVENT
DTSTAMP:20260424T114928Z
DTSTART;TZID=Europe/Berlin:20250930T194500
DTEND;TZID=Europe/Berlin:20250930T224500
SUMMARY:Ligue 2 Gr.2 Carouge II vs Meyrin (5)
UID:909a7087-1eb4-4360-b77f-8ce16ac4c615
STATUS:CONFIRMED
LAST-MODIFIED:20251001T065343Z
DESCRIPTION:2ème ligue O40 2ème groupe\nBegegnungs-Nr: 5\nHeim: Carouge II\nGast: Meyrin\n
LOCATION:
CATEGORIES:Saison 2025/26
END:VEVENT
BEGIN:VEVENT
DTSTAMP:20260424T114928Z
DTSTART;TZID=Europe/Berlin:20260421T194500
DTEND;TZID=Europe/Berlin:20260421T224500
SUMMARY:Ligue 2 Gr.2 Mandement II vs Meyrin (27)
UID:8db6bf5b-5c71-42ed-8d54-e0b193222870
STATUS:CONFIRMED
LAST-MODIFIED:20260422T141748Z
DESCRIPTION:2ème ligue O40 2ème groupe\nBegegnungs-Nr: 27\nHeim: Mandement II\nGast: Meyrin\n
LOCATION:
CATEGORIES:Saison 2025/26
END:VEVENT
BEGIN:VEVENT
DTSTAMP:20260424T114928Z
DTSTART;TZID=Europe/Berlin:20260303T194500
DTEND;TZID=Europe/Berlin:20260303T224500
SUMMARY:Ligue 2 Gr.2 Onex II vs Meyrin (23)
UID:04f5e8f8-f3b1-4413-9bcb-9948d210f819
STATUS:CONFIRMED
LAST-MODIFIED:20260304T074409Z
DESCRIPTION:2ème ligue O40 2ème groupe\nBegegnungs-Nr: 23\nHeim: Onex II\nGast: Meyrin\n
LOCATION:
CATEGORIES:Saison 2025/26
END:VEVENT
BEGIN:VEVENT
DTSTAMP:20260424T114928Z
DTSTART;TZID=Europe/Berlin:20260105T194500
DTEND;TZID=Europe/Berlin:20260105T224500
SUMMARY:Ligue 2 Gr.2 UGS-Chênois II vs Meyrin (17)
UID:6557f475-9064-49d9-bcf7-8f84d4a21712
STATUS:CONFIRMED
LAST-MODIFIED:20260107T130924Z
DESCRIPTION:2ème ligue O40 2ème groupe\nBegegnungs-Nr: 17\nHeim: UGS-Chênois II\nGast: Meyrin\n
LOCATION:
CATEGORIES:Saison 2025/26
END:VEVENT
BEGIN:VEVENT
DTSTAMP:20260424T114928Z
DTSTART;TZID=Europe/Berlin:20251216T200000
DTEND;TZID=Europe/Berlin:20251216T230000
SUMMARY:Ligue 2 Gr.2 ZZ-Lancy II vs Meyrin (13)
UID:f4cd9a3b-cbc5-4477-91d7-845143e9b5e9
STATUS:CONFIRMED
LAST-MODIFIED:20251217T074437Z
DESCRIPTION:2ème ligue O40 2ème groupe\nBegegnungs-Nr: 13\nHeim: ZZ-Lancy II\nGast: Meyrin\n
LOCATION:
CATEGORIES:Saison 2025/26
END:VEVENT
END:VCALENDAR
