BEGIN:VCALENDAR
PRODID:-//nuDatenautomaten//framework iCal4j //DE
VERSION:2.0
CALSCALE:GREGORIAN
BEGIN:VTIMEZONE
TZID:Europe/Berlin
LAST-MODIFIED:20260306T231828Z
TZURL:https://www.tzurl.org/zoneinfo/Europe/Berlin
X-LIC-LOCATION:Europe/Berlin
X-PROLEPTIC-TZNAME:LMT
BEGIN:STANDARD
TZNAME:CET
TZOFFSETFROM:+005328
TZOFFSETTO:+0100
DTSTART:18930401T000000
END:STANDARD
BEGIN:DAYLIGHT
TZNAME:CEST
TZOFFSETFROM:+0100
TZOFFSETTO:+0200
DTSTART:19160430T230000
RDATE:19400401T020000
RDATE:19430329T020000
RDATE:19460414T020000
RDATE:19470406T030000
RDATE:19480418T020000
RDATE:19490410T020000
RDATE:19800406T020000
END:DAYLIGHT
BEGIN:STANDARD
TZNAME:CET
TZOFFSETFROM:+0200
TZOFFSETTO:+0100
DTSTART:19161001T010000
RDATE:19421102T030000
RDATE:19431004T030000
RDATE:19441002T030000
RDATE:19451118T030000
RDATE:19461007T030000
END:STANDARD
BEGIN:DAYLIGHT
TZNAME:CEST
TZOFFSETFROM:+0100
TZOFFSETTO:+0200
DTSTART:19170416T020000
RRULE:FREQ=YEARLY;UNTIL=19180415T010000Z;BYMONTH=4;BYDAY=3MO
END:DAYLIGHT
BEGIN:STANDARD
TZNAME:CET
TZOFFSETFROM:+0200
TZOFFSETTO:+0100
DTSTART:19170917T030000
RRULE:FREQ=YEARLY;UNTIL=19180916T010000Z;BYMONTH=9;BYDAY=3MO
END:STANDARD
BEGIN:DAYLIGHT
TZNAME:CEST
TZOFFSETFROM:+0100
TZOFFSETTO:+0200
DTSTART:19440403T020000
RRULE:FREQ=YEARLY;UNTIL=19450402T010000Z;BYMONTH=4;BYDAY=1MO
END:DAYLIGHT
BEGIN:DAYLIGHT
TZNAME:CEMT
TZOFFSETFROM:+0200
TZOFFSETTO:+0300
DTSTART:19450524T020000
RDATE:19470511T030000
END:DAYLIGHT
BEGIN:DAYLIGHT
TZNAME:CEST
TZOFFSETFROM:+0300
TZOFFSETTO:+0200
DTSTART:19450924T030000
RDATE:19470629T030000
END:DAYLIGHT
BEGIN:STANDARD
TZNAME:CET
TZOFFSETFROM:+0100
TZOFFSETTO:+0100
DTSTART:19460101T000000
RDATE:19800101T000000
END:STANDARD
BEGIN:STANDARD
TZNAME:CET
TZOFFSETFROM:+0200
TZOFFSETTO:+0100
DTSTART:19471005T030000
RRULE:FREQ=YEARLY;UNTIL=19491002T010000Z;BYMONTH=10;BYDAY=1SU
END:STANDARD
BEGIN:STANDARD
TZNAME:CET
TZOFFSETFROM:+0200
TZOFFSETTO:+0100
DTSTART:19800928T030000
RRULE:FREQ=YEARLY;UNTIL=19950924T010000Z;BYMONTH=9;BYDAY=-1SU
END:STANDARD
BEGIN:DAYLIGHT
TZNAME:CEST
TZOFFSETFROM:+0100
TZOFFSETTO:+0200
DTSTART:19810329T020000
RRULE:FREQ=YEARLY;BYMONTH=3;BYDAY=-1SU
END:DAYLIGHT
BEGIN:STANDARD
TZNAME:CET
TZOFFSETFROM:+0200
TZOFFSETTO:+0100
DTSTART:19961027T030000
RRULE:FREQ=YEARLY;BYMONTH=10;BYDAY=-1SU
END:STANDARD
END:VTIMEZONE
BEGIN:VEVENT
DTSTAMP:20260424T082519Z
DTSTART;TZID=Europe/Berlin:20250905T193000
DTEND;TZID=Europe/Berlin:20250905T223000
SUMMARY:HE 2. Liga Gr. 1 Burgdorf V vs Bern III (3)
UID:5d712919-5ff5-4ffb-9a20-38de3f06e93b
STATUS:CONFIRMED
LAST-MODIFIED:20250907T200337Z
DESCRIPTION:2. Liga Herren Gruppe 1\nBegegnungs-Nr: 3\nHeim: Burgdorf V\nGast: Bern III\n\nAdresse: Pestalozzistrasse 69\, 3400 Burgdorf\n
LOCATION:Pestalozzistrasse 69\, 3400 Burgdorf
CATEGORIES:Saison 2025/26
END:VEVENT
BEGIN:VEVENT
DTSTAMP:20260424T082519Z
DTSTART;TZID=Europe/Berlin:20251205T193000
DTEND;TZID=Europe/Berlin:20251205T223000
SUMMARY:HE 2. Liga Gr. 1 Burgdorf V vs Langnau (36)
UID:0cf77fe4-74df-4a73-97fe-96efea7ee481
STATUS:CONFIRMED
LAST-MODIFIED:20251206T232514Z
DESCRIPTION:2. Liga Herren Gruppe 1\nBegegnungs-Nr: 36\nHeim: Burgdorf V\nGast: Langnau\n\nAdresse: Pestalozzistrasse 69\, 3400 Burgdorf\n
LOCATION:Pestalozzistrasse 69\, 3400 Burgdorf
CATEGORIES:Saison 2025/26
END:VEVENT
BEGIN:VEVENT
DTSTAMP:20260424T082519Z
DTSTART;TZID=Europe/Berlin:20251107T193000
DTEND;TZID=Europe/Berlin:20251107T223000
SUMMARY:HE 2. Liga Gr. 1 Burgdorf V vs Thun II (23)
UID:40460bf0-f6a8-4bd0-b194-c39d6cdf018c
STATUS:CONFIRMED
LAST-MODIFIED:20251122T091744Z
DESCRIPTION:2. Liga Herren Gruppe 1\nBegegnungs-Nr: 23\nHeim: Burgdorf V\nGast: Thun II\n\nAdresse: Pestalozzistrasse 69\, 3400 Burgdorf\n
LOCATION:Pestalozzistrasse 69\, 3400 Burgdorf
CATEGORIES:Saison 2025/26
END:VEVENT
BEGIN:VEVENT
DTSTAMP:20260424T082519Z
DTSTART;TZID=Europe/Berlin:20251017T193000
DTEND;TZID=Europe/Berlin:20251017T223000
SUMMARY:HE 2. Liga Gr. 1 Burgdorf V vs Belp (13)
UID:76157930-d2bd-44a1-ae01-ca04fd289fe8
STATUS:CONFIRMED
LAST-MODIFIED:20251020T114217Z
DESCRIPTION:2. Liga Herren Gruppe 1\nBegegnungs-Nr: 13\nHeim: Burgdorf V\nGast: Belp\n\nAdresse: Pestalozzistrasse 69\, 3400 Burgdorf\n
LOCATION:Pestalozzistrasse 69\, 3400 Burgdorf
CATEGORIES:Saison 2025/26
END:VEVENT
BEGIN:VEVENT
DTSTAMP:20260424T082519Z
DTSTART;TZID=Europe/Berlin:20260318T190000
DTEND;TZID=Europe/Berlin:20260318T220000
SUMMARY:HE 2. Liga Gr. 1 Burgdorf V vs Grauholz (42)
UID:805ec407-2647-42f6-8339-73b75bb2a12a
STATUS:CONFIRMED
LAST-MODIFIED:20260327T143159Z
DESCRIPTION:2. Liga Herren Gruppe 1\nBegegnungs-Nr: 42\nHeim: Burgdorf V\nGast: Grauholz\n\nAdresse: Pestalozzistrasse 69\, 3400 Burgdorf\n
LOCATION:Pestalozzistrasse 69\, 3400 Burgdorf
CATEGORIES:Saison 2025/26
END:VEVENT
BEGIN:VEVENT
DTSTAMP:20260424T082519Z
DTSTART;TZID=Europe/Berlin:20260313T193000
DTEND;TZID=Europe/Berlin:20260313T223000
SUMMARY:HE 2. Liga Gr. 1 Burgdorf V vs Worb (32)
UID:bffb01e8-f8a3-4e37-ba4b-7d9ab89b7750
STATUS:CONFIRMED
LAST-MODIFIED:20260315T225702Z
DESCRIPTION:2. Liga Herren Gruppe 1\nBegegnungs-Nr: 32\nHeim: Burgdorf V\nGast: Worb\n\nAdresse: Pestalozzistrasse 69\, 3400 Burgdorf\n
LOCATION:Pestalozzistrasse 69\, 3400 Burgdorf
CATEGORIES:Saison 2025/26
END:VEVENT
BEGIN:VEVENT
DTSTAMP:20260424T082519Z
DTSTART;TZID=Europe/Berlin:20260227T193000
DTEND;TZID=Europe/Berlin:20260227T223000
SUMMARY:HE 2. Liga Gr. 1 Burgdorf V vs Heimberg III (28)
UID:bd7c22c9-e243-4220-90af-7826b1ef9048
STATUS:CONFIRMED
LAST-MODIFIED:20260302T144404Z
DESCRIPTION:2. Liga Herren Gruppe 1\nBegegnungs-Nr: 28\nHeim: Burgdorf V\nGast: Heimberg III\n\nAdresse: Pestalozzistrasse 69\, 3400 Burgdorf\n
LOCATION:Pestalozzistrasse 69\, 3400 Burgdorf
CATEGORIES:Saison 2025/26
END:VEVENT
BEGIN:VEVENT
DTSTAMP:20260424T082519Z
DTSTART;TZID=Europe/Berlin:20260213T193000
DTEND;TZID=Europe/Berlin:20260213T223000
SUMMARY:HE 2. Liga Gr. 1 Burgdorf V vs Ostermundigen III (18)
UID:4075c0c1-7222-4e19-a5c0-e8c9d0cb0ae6
STATUS:CONFIRMED
LAST-MODIFIED:20260217T212211Z
DESCRIPTION:2. Liga Herren Gruppe 1\nBegegnungs-Nr: 18\nHeim: Burgdorf V\nGast: Ostermundigen III\n\nAdresse: Pestalozzistrasse 69\, 3400 Burgdorf\n
LOCATION:Pestalozzistrasse 69\, 3400 Burgdorf
CATEGORIES:Saison 2025/26
END:VEVENT
BEGIN:VEVENT
DTSTAMP:20260424T082519Z
DTSTART;TZID=Europe/Berlin:20260123T193000
DTEND;TZID=Europe/Berlin:20260123T223000
SUMMARY:HE 2. Liga Gr. 1 Burgdorf V vs Solothurn II (8)
UID:0e4c7ef0-0248-475c-af02-00a27f49e0cb
STATUS:CONFIRMED
LAST-MODIFIED:20260125T000113Z
DESCRIPTION:2. Liga Herren Gruppe 1\nBegegnungs-Nr: 8\nHeim: Burgdorf V\nGast: Solothurn II\n\nAdresse: Pestalozzistrasse 69\, 3400 Burgdorf\n
LOCATION:Pestalozzistrasse 69\, 3400 Burgdorf
CATEGORIES:Saison 2025/26
END:VEVENT
BEGIN:VEVENT
DTSTAMP:20260424T082519Z
DTSTART;TZID=Europe/Berlin:20250910T194500
DTEND;TZID=Europe/Berlin:20250910T224500
SUMMARY:HE 2. Liga Gr. 1 Solothurn II vs Burgdorf V (8)
UID:29b44b0a-0194-4ac2-bf6f-aef83bbf6161
STATUS:CONFIRMED
LAST-MODIFIED:20250918T141439Z
DESCRIPTION:2. Liga Herren Gruppe 1\nBegegnungs-Nr: 8\nHeim: Solothurn II\nGast: Burgdorf V\n\nAdresse: Untere Sternengasse 24\, 4500 Solothurn\n
LOCATION:Untere Sternengasse 24\, 4500 Solothurn
CATEGORIES:Saison 2025/26
END:VEVENT
BEGIN:VEVENT
DTSTAMP:20260424T082519Z
DTSTART;TZID=Europe/Berlin:20251216T194500
DTEND;TZID=Europe/Berlin:20251216T224500
SUMMARY:HE 2. Liga Gr. 1 Grauholz vs Burgdorf V (42)
UID:a4f7a3ee-1509-4a72-bcff-c73aba0c6fd5
STATUS:CONFIRMED
LAST-MODIFIED:20251217T100727Z
DESCRIPTION:2. Liga Herren Gruppe 1\nBegegnungs-Nr: 42\nHeim: Grauholz\nGast: Burgdorf V\n\nAdresse: Schulhausweg 8\, 3324 Hindelbank\n
LOCATION:Schulhausweg 8\, 3324 Hindelbank
CATEGORIES:Saison 2025/26
END:VEVENT
BEGIN:VEVENT
DTSTAMP:20260424T082519Z
DTSTART;TZID=Europe/Berlin:20251212T194500
DTEND;TZID=Europe/Berlin:20251212T224500
SUMMARY:HE 2. Liga Gr. 1 Worb vs Burgdorf V (32)
UID:a6e71850-5020-4419-9c7b-85f0e1bcc16e
STATUS:CONFIRMED
LAST-MODIFIED:20251216T120224Z
DESCRIPTION:2. Liga Herren Gruppe 1\nBegegnungs-Nr: 32\nHeim: Worb\nGast: Burgdorf V\n\nAdresse: Rosenweg 9\, 3075 Rüfenacht BE\n
LOCATION:Rosenweg 9\, 3075 Rüfenacht BE
CATEGORIES:Saison 2025/26
END:VEVENT
BEGIN:VEVENT
DTSTAMP:20260424T082519Z
DTSTART;TZID=Europe/Berlin:20251110T193000
DTEND;TZID=Europe/Berlin:20251110T223000
SUMMARY:HE 2. Liga Gr. 1 Heimberg III vs Burgdorf V (28)
UID:d3b08f49-125f-4cd7-b1e2-81083aab3f04
STATUS:CONFIRMED
LAST-MODIFIED:20251122T091724Z
DESCRIPTION:2. Liga Herren Gruppe 1\nBegegnungs-Nr: 28\nHeim: Heimberg III\nGast: Burgdorf V\n\nAdresse: Schulhausstrasse 20\, 3672 Oberdiessbach\n
LOCATION:Schulhausstrasse 20\, 3672 Oberdiessbach
CATEGORIES:Saison 2025/26
END:VEVENT
BEGIN:VEVENT
DTSTAMP:20260424T082519Z
DTSTART;TZID=Europe/Berlin:20251203T194500
DTEND;TZID=Europe/Berlin:20251203T224500
SUMMARY:HE 2. Liga Gr. 1 Ostermundigen III vs Burgdorf V (18)
UID:148e971c-ffdb-4120-ae22-f0e320ad6d69
STATUS:CONFIRMED
LAST-MODIFIED:20251206T232418Z
DESCRIPTION:2. Liga Herren Gruppe 1\nBegegnungs-Nr: 18\nHeim: Ostermundigen III\nGast: Burgdorf V\n\nAdresse: Dennigkofenweg 169\, 3072 Ostermundigen\n
LOCATION:Dennigkofenweg 169\, 3072 Ostermundigen
CATEGORIES:Saison 2025/26
END:VEVENT
BEGIN:VEVENT
DTSTAMP:20260424T082519Z
DTSTART;TZID=Europe/Berlin:20260328T140000
DTEND;TZID=Europe/Berlin:20260328T170000
SUMMARY:HE 2. Liga Gr. 1 Langnau vs Burgdorf V (36)
UID:b19185f2-7e97-48af-9367-ce2575672fa3
STATUS:CONFIRMED
LAST-MODIFIED:20260409T123811Z
DESCRIPTION:2. Liga Herren Gruppe 1\nBegegnungs-Nr: 36\nHeim: Langnau\nGast: Burgdorf V\n\nAdresse: Bleicheweg 11\, 3550 Langnau\n
LOCATION:Bleicheweg 11\, 3550 Langnau
CATEGORIES:Saison 2025/26
END:VEVENT
BEGIN:VEVENT
DTSTAMP:20260424T082519Z
DTSTART;TZID=Europe/Berlin:20260221T130000
DTEND;TZID=Europe/Berlin:20260221T160000
SUMMARY:HE 2. Liga Gr. 1 Thun II vs Burgdorf V (23)
UID:bec66abb-9173-4d7e-98c4-85655fe808a5
STATUS:CONFIRMED
LAST-MODIFIED:20260224T075040Z
DESCRIPTION:2. Liga Herren Gruppe 1\nBegegnungs-Nr: 23\nHeim: Thun II\nGast: Burgdorf V\n\nAdresse: Hallerstrasse 28\, 3604 Thun\n
LOCATION:Hallerstrasse 28\, 3604 Thun
CATEGORIES:Saison 2025/26
END:VEVENT
BEGIN:VEVENT
DTSTAMP:20260424T082519Z
DTSTART;TZID=Europe/Berlin:20260128T193000
DTEND;TZID=Europe/Berlin:20260128T223000
SUMMARY:HE 2. Liga Gr. 1 Belp vs Burgdorf V (13)
UID:82772b30-1f75-4137-a848-eac3a1888369
STATUS:CONFIRMED
LAST-MODIFIED:20260217T212029Z
DESCRIPTION:2. Liga Herren Gruppe 1\nBegegnungs-Nr: 13\nHeim: Belp\nGast: Burgdorf V\n\nAdresse: Neumattstrasse 39\, 3123 Belp\n
LOCATION:Neumattstrasse 39\, 3123 Belp
CATEGORIES:Saison 2025/26
END:VEVENT
BEGIN:VEVENT
DTSTAMP:20260424T082519Z
DTSTART;TZID=Europe/Berlin:20260107T193000
DTEND;TZID=Europe/Berlin:20260107T223000
SUMMARY:HE 2. Liga Gr. 1 Bern III vs Burgdorf V (3)
UID:481cbc39-56c1-4423-acb3-cc13da97eb3e
STATUS:CONFIRMED
LAST-MODIFIED:20260124T235947Z
DESCRIPTION:2. Liga Herren Gruppe 1\nBegegnungs-Nr: 3\nHeim: Bern III\nGast: Burgdorf V\n\nAdresse: Papiermühlestrasse 81\, 3014 Bern\n
LOCATION:Papiermühlestrasse 81\, 3014 Bern
CATEGORIES:Saison 2025/26
END:VEVENT
END:VCALENDAR
