BEGIN:VCALENDAR
PRODID:-//nuDatenautomaten//framework iCal4j //DE
VERSION:2.0
CALSCALE:GREGORIAN
BEGIN:VTIMEZONE
TZID:Europe/Berlin
LAST-MODIFIED:20260306T231828Z
TZURL:https://www.tzurl.org/zoneinfo/Europe/Berlin
X-LIC-LOCATION:Europe/Berlin
X-PROLEPTIC-TZNAME:LMT
BEGIN:STANDARD
TZNAME:CET
TZOFFSETFROM:+005328
TZOFFSETTO:+0100
DTSTART:18930401T000000
END:STANDARD
BEGIN:DAYLIGHT
TZNAME:CEST
TZOFFSETFROM:+0100
TZOFFSETTO:+0200
DTSTART:19160430T230000
RDATE:19400401T020000
RDATE:19430329T020000
RDATE:19460414T020000
RDATE:19470406T030000
RDATE:19480418T020000
RDATE:19490410T020000
RDATE:19800406T020000
END:DAYLIGHT
BEGIN:STANDARD
TZNAME:CET
TZOFFSETFROM:+0200
TZOFFSETTO:+0100
DTSTART:19161001T010000
RDATE:19421102T030000
RDATE:19431004T030000
RDATE:19441002T030000
RDATE:19451118T030000
RDATE:19461007T030000
END:STANDARD
BEGIN:DAYLIGHT
TZNAME:CEST
TZOFFSETFROM:+0100
TZOFFSETTO:+0200
DTSTART:19170416T020000
RRULE:FREQ=YEARLY;UNTIL=19180415T010000Z;BYMONTH=4;BYDAY=3MO
END:DAYLIGHT
BEGIN:STANDARD
TZNAME:CET
TZOFFSETFROM:+0200
TZOFFSETTO:+0100
DTSTART:19170917T030000
RRULE:FREQ=YEARLY;UNTIL=19180916T010000Z;BYMONTH=9;BYDAY=3MO
END:STANDARD
BEGIN:DAYLIGHT
TZNAME:CEST
TZOFFSETFROM:+0100
TZOFFSETTO:+0200
DTSTART:19440403T020000
RRULE:FREQ=YEARLY;UNTIL=19450402T010000Z;BYMONTH=4;BYDAY=1MO
END:DAYLIGHT
BEGIN:DAYLIGHT
TZNAME:CEMT
TZOFFSETFROM:+0200
TZOFFSETTO:+0300
DTSTART:19450524T020000
RDATE:19470511T030000
END:DAYLIGHT
BEGIN:DAYLIGHT
TZNAME:CEST
TZOFFSETFROM:+0300
TZOFFSETTO:+0200
DTSTART:19450924T030000
RDATE:19470629T030000
END:DAYLIGHT
BEGIN:STANDARD
TZNAME:CET
TZOFFSETFROM:+0100
TZOFFSETTO:+0100
DTSTART:19460101T000000
RDATE:19800101T000000
END:STANDARD
BEGIN:STANDARD
TZNAME:CET
TZOFFSETFROM:+0200
TZOFFSETTO:+0100
DTSTART:19471005T030000
RRULE:FREQ=YEARLY;UNTIL=19491002T010000Z;BYMONTH=10;BYDAY=1SU
END:STANDARD
BEGIN:STANDARD
TZNAME:CET
TZOFFSETFROM:+0200
TZOFFSETTO:+0100
DTSTART:19800928T030000
RRULE:FREQ=YEARLY;UNTIL=19950924T010000Z;BYMONTH=9;BYDAY=-1SU
END:STANDARD
BEGIN:DAYLIGHT
TZNAME:CEST
TZOFFSETFROM:+0100
TZOFFSETTO:+0200
DTSTART:19810329T020000
RRULE:FREQ=YEARLY;BYMONTH=3;BYDAY=-1SU
END:DAYLIGHT
BEGIN:STANDARD
TZNAME:CET
TZOFFSETFROM:+0200
TZOFFSETTO:+0100
DTSTART:19961027T030000
RRULE:FREQ=YEARLY;BYMONTH=10;BYDAY=-1SU
END:STANDARD
END:VTIMEZONE
BEGIN:VEVENT
DTSTAMP:20260424T191150Z
DTSTART;TZID=Europe/Berlin:20260109T194500
DTEND;TZID=Europe/Berlin:20260109T224500
SUMMARY:HE 3. Liga Gr. 1 Rio-Star Muttenz VI vs Basel VI (0)
UID:03f7dd3a-6a1c-40da-9ba9-589a5f05646e
STATUS:CONFIRMED
LAST-MODIFIED:20260115T094245Z
DESCRIPTION:3. Liga Herren Gruppe 1\nBegegnungs-Nr: 0\nHeim: Rio-Star Muttenz VI\nGast: Basel VI\n\nAdresse: Gründenstrasse 32\, 4132 Muttenz\n
LOCATION:Gründenstrasse 32\, 4132 Muttenz
CATEGORIES:Saison 2025/26
END:VEVENT
BEGIN:VEVENT
DTSTAMP:20260424T191150Z
DTSTART;TZID=Europe/Berlin:20260129T194500
DTEND;TZID=Europe/Berlin:20260129T224500
SUMMARY:HE 3. Liga Gr. 1 Rio-Star Muttenz VI vs Aesch III (0)
UID:e78fc72d-cc35-4009-ba23-c6184f4895af
STATUS:CONFIRMED
LAST-MODIFIED:20260130T133017Z
DESCRIPTION:3. Liga Herren Gruppe 1\nBegegnungs-Nr: 0\nHeim: Rio-Star Muttenz VI\nGast: Aesch III\n\nAdresse: Gründenstrasse 32\, 4132 Muttenz\n
LOCATION:Gründenstrasse 32\, 4132 Muttenz
CATEGORIES:Saison 2025/26
END:VEVENT
BEGIN:VEVENT
DTSTAMP:20260424T191150Z
DTSTART;TZID=Europe/Berlin:20260312T194500
DTEND;TZID=Europe/Berlin:20260312T224500
SUMMARY:HE 3. Liga Gr. 1 Rio-Star Muttenz VI vs Oberwil II (0)
UID:2c88327e-31a4-4bb6-b481-4797215c71c4
STATUS:CONFIRMED
LAST-MODIFIED:20260313T125013Z
DESCRIPTION:3. Liga Herren Gruppe 1\nBegegnungs-Nr: 0\nHeim: Rio-Star Muttenz VI\nGast: Oberwil II\n\nAdresse: Gründenstrasse 32\, 4132 Muttenz\n
LOCATION:Gründenstrasse 32\, 4132 Muttenz
CATEGORIES:Saison 2025/26
END:VEVENT
BEGIN:VEVENT
DTSTAMP:20260424T191150Z
DTSTART;TZID=Europe/Berlin:20250904T194500
DTEND;TZID=Europe/Berlin:20250904T224500
SUMMARY:HE 3. Liga Gr. 1 Rio-Star Muttenz VI vs Old Boys Basel (0)
UID:c164c334-311b-4dbb-bf46-e82a3b23ce12
STATUS:CONFIRMED
LAST-MODIFIED:20250905T121004Z
DESCRIPTION:3. Liga Herren Gruppe 1\nBegegnungs-Nr: 0\nHeim: Rio-Star Muttenz VI\nGast: Old Boys Basel\n\nAdresse: Gründenstrasse 32\, 4132 Muttenz\n
LOCATION:Gründenstrasse 32\, 4132 Muttenz
CATEGORIES:Saison 2025/26
END:VEVENT
BEGIN:VEVENT
DTSTAMP:20260424T191150Z
DTSTART;TZID=Europe/Berlin:20251016T194500
DTEND;TZID=Europe/Berlin:20251016T224500
SUMMARY:HE 3. Liga Gr. 1 Rio-Star Muttenz VI vs Binningen (0)
UID:ffcef079-3aca-4d67-9dbe-7ca054b0f2c2
STATUS:CONFIRMED
LAST-MODIFIED:20251020T112918Z
DESCRIPTION:3. Liga Herren Gruppe 1\nBegegnungs-Nr: 0\nHeim: Rio-Star Muttenz VI\nGast: Binningen\n\nAdresse: Gründenstrasse 32\, 4132 Muttenz\n
LOCATION:Gründenstrasse 32\, 4132 Muttenz
CATEGORIES:Saison 2025/26
END:VEVENT
BEGIN:VEVENT
DTSTAMP:20260424T191150Z
DTSTART;TZID=Europe/Berlin:20251211T194500
DTEND;TZID=Europe/Berlin:20251211T224500
SUMMARY:HE 3. Liga Gr. 1 Rio-Star Muttenz VI vs Münchenstein-City (0)
UID:279c88eb-de1f-4340-a6de-458650873e11
STATUS:CONFIRMED
LAST-MODIFIED:20251212T080817Z
DESCRIPTION:3. Liga Herren Gruppe 1\nBegegnungs-Nr: 0\nHeim: Rio-Star Muttenz VI\nGast: Münchenstein-City\n\nAdresse: Gründenstrasse 32\, 4132 Muttenz\n
LOCATION:Gründenstrasse 32\, 4132 Muttenz
CATEGORIES:Saison 2025/26
END:VEVENT
BEGIN:VEVENT
DTSTAMP:20260424T191150Z
DTSTART;TZID=Europe/Berlin:20251030T194500
DTEND;TZID=Europe/Berlin:20251030T224500
SUMMARY:HE 3. Liga Gr. 1 Rio-Star Muttenz VI vs Copains Birsfelden II (0)
UID:e37dc733-d50e-4258-9cda-c864e67cc070
STATUS:CONFIRMED
LAST-MODIFIED:20251107T143110Z
DESCRIPTION:3. Liga Herren Gruppe 1\nBegegnungs-Nr: 0\nHeim: Rio-Star Muttenz VI\nGast: Copains Birsfelden II\n\nAdresse: Gründenstrasse 32\, 4132 Muttenz\n
LOCATION:Gründenstrasse 32\, 4132 Muttenz
CATEGORIES:Saison 2025/26
END:VEVENT
BEGIN:VEVENT
DTSTAMP:20260424T191150Z
DTSTART;TZID=Europe/Berlin:20260116T193000
DTEND;TZID=Europe/Berlin:20260116T223000
SUMMARY:HE 3. Liga Gr. 1 Old Boys Basel vs Rio-Star Muttenz VI (0)
UID:c138b4d6-f2f7-46db-aec7-429937a02df6
STATUS:CONFIRMED
LAST-MODIFIED:20260123T081214Z
DESCRIPTION:3. Liga Herren Gruppe 1\nBegegnungs-Nr: 0\nHeim: Old Boys Basel\nGast: Rio-Star Muttenz VI\n\nAdresse: 5 Rue Saint-Exupéry\, \, 683020 St. Louis\n
LOCATION:5 Rue Saint-Exupéry\, \, 683020 St. Louis
CATEGORIES:Saison 2025/26
END:VEVENT
BEGIN:VEVENT
DTSTAMP:20260424T191150Z
DTSTART;TZID=Europe/Berlin:20260212T194500
DTEND;TZID=Europe/Berlin:20260212T224500
SUMMARY:HE 3. Liga Gr. 1 Binningen vs Rio-Star Muttenz VI (0)
UID:4e6236b7-c6d5-4e66-bc6b-f73719b5ae07
STATUS:CONFIRMED
LAST-MODIFIED:20260218T071231Z
DESCRIPTION:3. Liga Herren Gruppe 1\nBegegnungs-Nr: 0\nHeim: Binningen\nGast: Rio-Star Muttenz VI\n\nAdresse: Rottmannsbodenstr./Neusatzweg\, 4102 Binningen\n
LOCATION:Rottmannsbodenstr./Neusatzweg\, 4102 Binningen
CATEGORIES:Saison 2025/26
END:VEVENT
BEGIN:VEVENT
DTSTAMP:20260424T191150Z
DTSTART;TZID=Europe/Berlin:20260305T191500
DTEND;TZID=Europe/Berlin:20260305T221500
SUMMARY:HE 3. Liga Gr. 1 Copains Birsfelden II vs Rio-Star Muttenz VI (0)
UID:88f41599-f90d-4e2a-993d-e73ebf197269
STATUS:CONFIRMED
LAST-MODIFIED:20260313T124937Z
DESCRIPTION:3. Liga Herren Gruppe 1\nBegegnungs-Nr: 0\nHeim: Copains Birsfelden II\nGast: Rio-Star Muttenz VI\n\nAdresse: Wartenbergstrasse (Hintereingang)\, 4127 Birsfelden\n
LOCATION:Wartenbergstrasse (Hintereingang)\, 4127 Birsfelden
CATEGORIES:Saison 2025/26
END:VEVENT
BEGIN:VEVENT
DTSTAMP:20260424T191150Z
DTSTART;TZID=Europe/Berlin:20250820T200000
DTEND;TZID=Europe/Berlin:20250820T230000
SUMMARY:HE 3. Liga Gr. 1 Basel VI vs Rio-Star Muttenz VI (0)
UID:668acc85-bf5d-4191-b262-0743ea1c7c47
STATUS:CONFIRMED
LAST-MODIFIED:20250825T064903Z
DESCRIPTION:3. Liga Herren Gruppe 1\nBegegnungs-Nr: 0\nHeim: Basel VI\nGast: Rio-Star Muttenz VI\n\nAdresse: Schwarzwaldallee 107\, 4058 Basel\n
LOCATION:Schwarzwaldallee 107\, 4058 Basel
CATEGORIES:Saison 2025/26
END:VEVENT
BEGIN:VEVENT
DTSTAMP:20260424T191150Z
DTSTART;TZID=Europe/Berlin:20260326T193000
DTEND;TZID=Europe/Berlin:20260326T223000
SUMMARY:HE 3. Liga Gr. 1 Münchenstein-City vs Rio-Star Muttenz VI (0)
UID:d4866c02-5253-4481-b9bb-ca052456d703
STATUS:CONFIRMED
LAST-MODIFIED:20260409T114419Z
DESCRIPTION:3. Liga Herren Gruppe 1\nBegegnungs-Nr: 0\nHeim: Münchenstein-City\nGast: Rio-Star Muttenz VI\n\nAdresse: Gruthweg 8\, 4142 Münchenstein\n
LOCATION:Gruthweg 8\, 4142 Münchenstein
CATEGORIES:Saison 2025/26
END:VEVENT
BEGIN:VEVENT
DTSTAMP:20260424T191150Z
DTSTART;TZID=Europe/Berlin:20250918T193000
DTEND;TZID=Europe/Berlin:20250918T223000
SUMMARY:HE 3. Liga Gr. 1 Aesch III vs Rio-Star Muttenz VI (0)
UID:93b75963-f14b-4f41-9bc1-9ee51be3abfd
STATUS:CONFIRMED
LAST-MODIFIED:20250926T123358Z
DESCRIPTION:3. Liga Herren Gruppe 1\nBegegnungs-Nr: 0\nHeim: Aesch III\nGast: Rio-Star Muttenz VI\n\nAdresse: Dornacherstrasse\, 4147 Aesch\n
LOCATION:Dornacherstrasse\, 4147 Aesch
CATEGORIES:Saison 2025/26
END:VEVENT
BEGIN:VEVENT
DTSTAMP:20260424T191150Z
DTSTART;TZID=Europe/Berlin:20251120T194500
DTEND;TZID=Europe/Berlin:20251120T224500
SUMMARY:HE 3. Liga Gr. 1 Oberwil II vs Rio-Star Muttenz VI (0)
UID:8a205e11-a8ca-440e-a913-e74248235703
STATUS:CONFIRMED
LAST-MODIFIED:20251121T093411Z
DESCRIPTION:3. Liga Herren Gruppe 1\nBegegnungs-Nr: 0\nHeim: Oberwil II\nGast: Rio-Star Muttenz VI\n\nAdresse: Schulstrasse\, 4104 Oberwil\n
LOCATION:Schulstrasse\, 4104 Oberwil
CATEGORIES:Saison 2025/26
END:VEVENT
END:VCALENDAR
